Workbook
Name AI_Version: #REF!
Name CalcMethod: #REF!
Name DaNet: #REF!
Name Irtysh: #REF!
Name IS_DEMO: #REF!
Name IS_ESTATE: #REF!
Name IS_SUMM: #REF!
Name IS_TRIAL: #REF!
Name KTP: #REF!
Name KTP: #REF!
Name kW_а_ген1: #REF!
Name kW_а_ген1: #REF!
Name kW_а_ген3: #REF!
Name kW_а_ген3: #REF!
Name LanguageID: #REF!
Name line: #REF!
Name month_list: #REF!
Name MR_LIST: #REF!
Name nds: #REF!
Name PORT_PrjPeriods: #REF!
Name PrjTariff: #REF!
Name qr110to10: #REF!
Name qr110to10: #REF!
Name qr110to35: #REF!
Name qr110to35: #REF!
Name qr220to10_2: #REF!
Name qr220to10_2: #REF!
Name qr220to110: #REF!
Name qr220to110: #REF!
Name qr220to35: #REF!
Name qr35to10: #REF!
Name Razd1End: #REF!
Name Razd1End: #REF!
Name Razd1Start: #REF!
Name Razd1Start: #REF!
Name Razd2End: #REF!
Name Razd2End: #REF!
Name Razd2Start: #REF!
Name Razd3Start: #REF!
Name Razd4End: #REF!
Name Razd4Start: #REF!
Name Razd5End: #REF!
Name Razd5Start: #REF!
Name Razd6End: #REF!
Name Razd6Start: #REF!
Name Razd7End: #REF!
Name Razd7Start: #REF!
Name tavrich: #REF!
Name ВЫР: #REF!
Name ДатаТекст: #REF!
Name ДатаТекст: #REF!
Name ктр: #REF!
Name мДата: #REF!
Name НБд: #REF!
Name о_165: #REF!
Name о_165: #REF!
Name о_166: #REF!
Name о_166: #REF!
Name о_167: #REF!
Name о_167: #REF!

Sheet 2023-2027
A1: Основное средство | B1: Инвентарный номер | C1: вид деят | E1: Дата принятия к учету | F1: Подразделение | G1: Основное средство.СПИ (Основные средства) | H1: На 01.01.22 | K1: Облаг | L1: ежемес аморт | N1: годовая амортиз 2022 | AA1: 0.022 | AC1: годовая амортиз 2023 | AP1: 0.022 | AT1: годовая амортиз 2024 | BG1: 0.022 | BI1: годовая амортиз 2025 | BV1: 0.022 | BX1: годовая амортиз 2026 | CK1: 0.022 | CM1: годовая амортиз 2027 | CZ1: 0.022
H2: Стоимость | I2: Амортизация (износ) | J2: Остаточная стоимость | M2: изменения в 2022 (аморт) | O2: 44593 | P2: 44621 | Q2: 44652 | R2: 44682 | S2: 44713 | T2: 44743 | U2: 44774 | V2: 44805 | W2: 44835 | X2: 44866 | Y2: 44896 | Z2: 44927 | AA2: налог 2022 | AB2: изменения в 2023 году (аморт) | AD2: 44958 | AE2: 44986 | AF2: 45017 | AG2: 45047 | AH2: 45078 | AI2: 45108 | AJ2: 45139 | AK2: 45170 | AL2: 45200 | AM2: 45231 | AN2: 45261 | AO2: 45292 | AP2: налог 2023 | AQ2: ежемес аморт | AU2: 45323 | AV2: 45352 | AW2: 45383 | AX2: 45413 | AY2: 45444 | AZ2: 45474 | BA2: 45505 | BB2: 45536 | BC2: 45566 | BD2: 45597 | BE2: 45627 | BF2: 45658 | BG2: налог 2024 | BH2: ежемес аморт | BJ2: 45689 | BK2: 45717 | BL2: 45748 | BM2: 45778 | BN2: 45809 | BO2: 45839 | BP2: 45870 | BQ2: 45901 | BR2: 45931 | BS2: 45962 | BT2: 45992 | BU2: 46023 | BV2: налог 2025 | BW2: ежемес аморт | BY2: 46054 | BZ2: 46082 | CA2: 46113 | CB2: 46143 | CC2: 46174 | CD2: 46204 | CE2: 46235 | CF2: 46266 | CG2: 46296 | CH2: 46327 | CI2: 46357 | CJ2: 46388 | CK2: налог 2026 | CL2: ежемес аморт | CN2: 46419 | CO2: 46447 | CP2: 46478 | CQ2: 46508 | CR2: 46539 | CS2: 46569 | CT2: 46600 | CU2: 46631 | CV2: 46661 | CW2: 46692 | CX2: 46722 | CY2: 46753 | CZ2: налог 2027
A3: производство
A4: ='[1]2021 УГРЦТ'!A7 -> 2 очередь реконст. электрост. Здание ГТЭС-18 2010г | B4: ='[1]2021 УГРЦТ'!B7 -> 00001166 | C4: ='[1]2021 УГРЦТ'!C7 -> ПРОИЗВОДСТВО | D4: ='[1]2021 УГРЦТ'!D7 -> Здания | E4: ='[1]2021 УГРЦТ'!E7 -> 31.03.2010 | F4: ='[1]2021 УГРЦТ'!F7 -> Газотурбинный цех | G4: ='[1]2021 УГРЦТ'!AC7 -> 600 | H4: ='[1]2021 УГРЦТ'!X7 -> 2.1751175e+08 | I4: ='[1]2021 УГРЦТ'!Y7 -> 51115261 | J4: ='[1]2021 УГРЦТ'!Z7 -> 1.6639649e+08 | K4: 1 | L4: 362519.59 | N4: =L4*12 -> 4350235.1 | O4: =J4-$L4 -> 1.6603397e+08 | P4: =O4-$L4 -> 1.6567145e+08 | Q4: =P4-$L4 -> 1.6530893e+08 | R4: =Q4-$L4 -> 1.6494641e+08 | S4: =R4-$L4 -> 1.6458389e+08 | T4: =S4-$L4 -> 1.6422137e+08 | U4: =T4-$L4 -> 1.6385885e+08 | V4: =U4-$L4 -> 1.6349633e+08 | W4: =V4-$L4 -> 1.6313381e+08 | ... Z4: =Y4-$L4 -> 1.6204625e+08 | AA4: =SUM(O4:Z4,J4)/13*$AA$1 -> 3612870.2 | AC4: =L4*12 -> 4350235.1 | AD4: =Z4-$L4 -> 1.6168373e+08 | AE4: =AD4-$L4 -> 1.6132122e+08 | AF4: =AE4-$L4 -> 1.609587e+08 | AG4: =AF4-$L4 -> 1.6059618e+08 | AH4: =AG4-$L4 -> 1.6023366e+08 | AI4: =AH4-$L4 -> 1.5987114e+08 | AJ4: =AI4-$L4 -> 1.5950862e+08 | AK4: =AJ4-$L4 -> 1.591461e+08 | AL4: =AK4-$L4 -> 1.5878358e+08 | ... AO4: =AN4-$L4 -> 1.5769602e+08 | AP4: =IF(K4<1,0,SUM(AD4:AO4,Z4)/13*$BG$1) -> 3517165 | AQ4: 362519.59 | AR4: =AN4-AO4 -> 362519.59 | AS4: =AR4-AQ4 -> -9.95351e-09 | AT4: =L4*12 -> 4350235.1 | AU4: =AO4-$L4 -> 1.573335e+08 | AV4: =AU4-$L4 -> 1.5697098e+08 | AW4: =AV4-$L4 -> 1.5660846e+08 | AX4: =AW4-$L4 -> 1.5624594e+08 | AY4: =AX4-$L4 -> 1.5588342e+08 | AZ4: =AY4-$L4 -> 1.555209e+08 | BA4: =AZ4-$L4 -> 1.5515838e+08 | BB4: =BA4-$L4 -> 1.5479586e+08 | BC4: =BB4-$L4 -> 1.5443334e+08 | ... BF4: =BE4-$L4 -> 1.5334578e+08 | BG4: =IF(K4<1,0,SUM(AU4:BF4,AO4)/13*$BG$1) -> 3421459.8 | BH4: 362519.59 | BI4: =BH4*12 -> 4350235.1 | BJ4: =BF4-BH4 -> 1.5298326e+08 | BK4: =BJ4-$L4 -> 1.5262075e+08 | BL4: =BK4-$L4 -> 1.5225823e+08 | BM4: =BL4-$L4 -> 1.5189571e+08 | BN4: =BM4-$L4 -> 1.5153319e+08 | BO4: =BN4-$L4 -> 1.5117067e+08 | BP4: =BO4-$L4 -> 1.5080815e+08 | BQ4: =BP4-$L4 -> 1.5044563e+08 | BR4: =BQ4-$L4 -> 1.5008311e+08 | ... BU4: =BT4-$L4 -> 1.4899555e+08 | BV4: =IF(AO4<1,0,SUM(BJ4:BU4,BF4)/13*$BG$1) -> 3325754.7 | BW4: 362519.59 | BX4: =BW4*12 -> 4350235.1 | BY4: =BU4-BW4 -> 1.4863303e+08 | BZ4: =BY4-$L4 -> 1.4827051e+08 | CA4: =BZ4-$L4 -> 1.4790799e+08 | CB4: =CA4-$L4 -> 1.4754547e+08 | CC4: =CB4-$L4 -> 1.4718295e+08 | CD4: =CC4-$L4 -> 1.4682043e+08 | CE4: =CD4-$L4 -> 1.4645791e+08 | CF4: =CE4-$L4 -> 1.4609539e+08 | CG4: =CF4-$L4 -> 1.4573287e+08 | ... CJ4: =CI4-$L4 -> 1.4464531e+08 | CK4: =IF(BF4<1,0,SUM(BY4:CJ4,BU4)/13*$BG$1) -> 3230049.5 | CL4: 362519.59 | CM4: =CL4*12 -> 4350235.1 | CN4: =CJ4-CL4 -> 1.4428279e+08 | CO4: =CN4-$L4 -> 1.4392027e+08 | CP4: =CO4-$L4 -> 1.4355776e+08 | CQ4: =CP4-$L4 -> 1.4319524e+08 | CR4: =CQ4-$L4 -> 1.4283272e+08 | CS4: =CR4-$L4 -> 1.424702e+08 | CT4: =CS4-$L4 -> 1.4210768e+08 | CU4: =CT4-$L4 -> 1.4174516e+08 | CV4: =CU4-$L4 -> 1.4138264e+08 | ... CY4: =CX4-$L4 -> 1.4029508e+08 | CZ4: =IF(BU4<1,0,SUM(CN4:CY4,CJ4)/13*$BG$1) -> 3134344.3
A5: ='[1]2021 УГРЦТ'!A8 -> 3х-фазный т/огр РТСТГ-10-250-0,025 УЗ №2 | B5: ='[1]2021 УГРЦТ'!B8 -> 00001173 | C5: ='[1]2021 УГРЦТ'!C8 -> ПРОИЗВОДСТВО | D5: ='[1]2021 УГРЦТ'!D8 -> Машины и оборудование (кроме офисного) | E5: ='[1]2021 УГРЦТ'!E8 -> 31.03.2010 | F5: ='[1]2021 УГРЦТ'!F8 -> Газотурбинный цех | G5: ='[1]2021 УГРЦТ'!AC8 -> 240 | H5: ='[1]2021 УГРЦТ'!X8 -> 2926500 | I5: ='[1]2021 УГРЦТ'!Y8 -> 1719318.8 | J5: ='[1]2021 УГРЦТ'!Z8 -> 1207181.2 | K5: 0 | L5: 12193.75 | N5: =L5*12 -> 146325 | O5: =J5-$L5 -> 1194987.5 | P5: =O5-$L5 -> 1182793.8 | Q5: =P5-$L5 -> 1170600 | R5: =Q5-$L5 -> 1158406.2 | S5: =R5-$L5 -> 1146212.5 | T5: =S5-$L5 -> 1134018.8 | U5: =T5-$L5 -> 1121825 | V5: =U5-$L5 -> 1109631.2 | W5: =V5-$L5 -> 1097437.5 | ... Z5: =Y5-$L5 -> 1060856.2 | AC5: =L5*12 -> 146325 | AD5: =Z5-$L5 -> 1048662.5 | AE5: =AD5-$L5 -> 1036468.8 | AF5: =AE5-$L5 -> 1024275 | AG5: =AF5-$L5 -> 1012081.2 | AH5: =AG5-$L5 -> 999887.5 | AI5: =AH5-$L5 -> 987693.75 | AJ5: =AI5-$L5 -> 975500 | AK5: =AJ5-$L5 -> 963306.25 | AL5: =AK5-$L5 -> 951112.5 | ... AO5: =AN5-$L5 -> 914531.25 | AQ5: 12193.75 | AR5: =AN5-AO5 -> 12193.75 | AS5: =AR5-AQ5 -> 0 | AT5: =L5*12 -> 146325 | AU5: =AO5-$L5 -> 902337.5 | AV5: =AU5-$L5 -> 890143.75 | AW5: =AV5-$L5 -> 877950 | AX5: =AW5-$L5 -> 865756.25 | AY5: =AX5-$L5 -> 853562.5 | AZ5: =AY5-$L5 -> 841368.75 | BA5: =AZ5-$L5 -> 829175 | BB5: =BA5-$L5 -> 816981.25 | BC5: =BB5-$L5 -> 804787.5 | ... BF5: =BE5-$L5 -> 768206.25 | BG5: =IF(K5<1,0,SUM(AU5:BF5,AO5)/13*$BG$1) -> 0 | BH5: 12193.75 | BI5: =BH5*12 -> 146325 | BJ5: =BF5-BH5 -> 756012.5 | BK5: =BJ5-$L5 -> 743818.75 | BL5: =BK5-$L5 -> 731625 | BM5: =BL5-$L5 -> 719431.25 | BN5: =BM5-$L5 -> 707237.5 | BO5: =BN5-$L5 -> 695043.75 | BP5: =BO5-$L5 -> 682850 | BQ5: =BP5-$L5 -> 670656.25 | BR5: =BQ5-$L5 -> 658462.5 | ... BU5: =BT5-$L5 -> 621881.25 | BV5: 0 | BW5: 12193.75 | BX5: =BW5*12 -> 146325 | BY5: =BU5-BW5 -> 609687.5 | BZ5: =BY5-$L5 -> 597493.75 | CA5: =BZ5-$L5 -> 585300 | CB5: =CA5-$L5 -> 573106.25 | CC5: =CB5-$L5 -> 560912.5 | CD5: =CC5-$L5 -> 548718.75 | CE5: =CD5-$L5 -> 536525 | CF5: =CE5-$L5 -> 524331.25 | CG5: =CF5-$L5 -> 512137.5 | ... CJ5: =CI5-$L5 -> 475556.25 | CK5: 0 | CL5: 12193.75 | CM5: =CL5*12 -> 146325 | CN5: =CJ5-CL5 -> 463362.5 | CO5: =CN5-$L5 -> 451168.75 | CP5: =CO5-$L5 -> 438975 | CQ5: =CP5-$L5 -> 426781.25 | CR5: =CQ5-$L5 -> 414587.5 | CS5: =CR5-$L5 -> 402393.75 | CT5: =CS5-$L5 -> 390200 | CU5: =CT5-$L5 -> 378006.25 | CV5: =CU5-$L5 -> 365812.5 | ... CY5: =CX5-$L5 -> 329231.25 | CZ5: 0
A6: ='[1]2021 УГРЦТ'!A9 -> 3х-фазный т/огр РТСТГ-10-250-0,025УЗ №1 | B6: ='[1]2021 УГРЦТ'!B9 -> 00001172 | C6: ='[1]2021 УГРЦТ'!C9 -> ПРОИЗВОДСТВО | D6: ='[1]2021 УГРЦТ'!D9 -> Машины и оборудование (кроме офисного) | E6: ='[1]2021 УГРЦТ'!E9 -> 31.03.2010 | F6: ='[1]2021 УГРЦТ'!F9 -> Газотурбинный цех | G6: ='[1]2021 УГРЦТ'!AC9 -> 240 | H6: ='[1]2021 УГРЦТ'!X9 -> 2926500 | I6: ='[1]2021 УГРЦТ'!Y9 -> 1719318.8 | J6: ='[1]2021 УГРЦТ'!Z9 -> 1207181.2 | K6: 0 | L6: 12193.75 | N6: =L6*12 -> 146325 | O6: =J6-$L6 -> 1194987.5 | P6: =O6-$L6 -> 1182793.8 | Q6: =P6-$L6 -> 1170600 | R6: =Q6-$L6 -> 1158406.2 | S6: =R6-$L6 -> 1146212.5 | T6: =S6-$L6 -> 1134018.8 | U6: =T6-$L6 -> 1121825 | V6: =U6-$L6 -> 1109631.2 | W6: =V6-$L6 -> 1097437.5 | ... Z6: =Y6-$L6 -> 1060856.2 | AC6: =L6*12 -> 146325 | AD6: =Z6-$L6 -> 1048662.5 | AE6: =AD6-$L6 -> 1036468.8 | AF6: =AE6-$L6 -> 1024275 | AG6: =AF6-$L6 -> 1012081.2 | AH6: =AG6-$L6 -> 999887.5 | AI6: =AH6-$L6 -> 987693.75 | AJ6: =AI6-$L6 -> 975500 | AK6: =AJ6-$L6 -> 963306.25 | AL6: =AK6-$L6 -> 951112.5 | ... AO6: =AN6-$L6 -> 914531.25 | AQ6: 12193.75 | AR6: =AN6-AO6 -> 12193.75 | AS6: =AR6-AQ6 -> 0 | AT6: =L6*12 -> 146325 | AU6: =AO6-$L6 -> 902337.5 | AV6: =AU6-$L6 -> 890143.75 | AW6: =AV6-$L6 -> 877950 | AX6: =AW6-$L6 -> 865756.25 | AY6: =AX6-$L6 -> 853562.5 | AZ6: =AY6-$L6 -> 841368.75 | BA6: =AZ6-$L6 -> 829175 | BB6: =BA6-$L6 -> 816981.25 | BC6: =BB6-$L6 -> 804787.5 | ... BF6: =BE6-$L6 -> 768206.25 | BG6: =IF(K6<1,0,SUM(AU6:BF6,AO6)/13*$BG$1) -> 0 | BH6: 12193.75 | BI6: =BH6*12 -> 146325 | BJ6: =BF6-BH6 -> 756012.5 | BK6: =BJ6-$L6 -> 743818.75 | BL6: =BK6-$L6 -> 731625 | BM6: =BL6-$L6 -> 719431.25 | BN6: =BM6-$L6 -> 707237.5 | BO6: =BN6-$L6 -> 695043.75 | BP6: =BO6-$L6 -> 682850 | BQ6: =BP6-$L6 -> 670656.25 | BR6: =BQ6-$L6 -> 658462.5 | ... BU6: =BT6-$L6 -> 621881.25 | BV6: 0 | BW6: 12193.75 | BX6: =BW6*12 -> 146325 | BY6: =BU6-BW6 -> 609687.5 | BZ6: =BY6-$L6 -> 597493.75 | CA6: =BZ6-$L6 -> 585300 | CB6: =CA6-$L6 -> 573106.25 | CC6: =CB6-$L6 -> 560912.5 | CD6: =CC6-$L6 -> 548718.75 | CE6: =CD6-$L6 -> 536525 | CF6: =CE6-$L6 -> 524331.25 | CG6: =CF6-$L6 -> 512137.5 | ... CJ6: =CI6-$L6 -> 475556.25 | CK6: 0 | CL6: 12193.75 | CM6: =CL6*12 -> 146325 | CN6: =CJ6-CL6 -> 463362.5 | CO6: =CN6-$L6 -> 451168.75 | CP6: =CO6-$L6 -> 438975 | CQ6: =CP6-$L6 -> 426781.25 | CR6: =CQ6-$L6 -> 414587.5 | CS6: =CR6-$L6 -> 402393.75 | CT6: =CS6-$L6 -> 390200 | CU6: =CT6-$L6 -> 378006.25 | CV6: =CU6-$L6 -> 365812.5 | ... CY6: =CX6-$L6 -> 329231.25 | CZ6: 0
A7: ='[1]2021 УГРЦТ'!A10 -> TIP-HOL-MT-7 - Универсальный монитор-тестер AHD/CVI/TVI/CVBS/SDI и IP-видеосистем | B7: ='[1]2021 УГРЦТ'!B10 -> 000001855 | C7: ='[1]2021 УГРЦТ'!C10 -> ПРОИЗВОДСТВО | D7: ='[1]2021 УГРЦТ'!D10 -> Машины и оборудование (кроме офисного) | E7: ='[1]2021 УГРЦТ'!E10 -> 23.06.2021 | F7: ='[1]2021 УГРЦТ'!F10 -> Электрический цех | G7: ='[1]2021 УГРЦТ'!AC10 -> 84 | H7: ='[1]2021 УГРЦТ'!X10 -> 82366.67 | I7: ='[1]2021 УГРЦТ'!Y10 -> 5883.3336 | J7: ='[1]2021 УГРЦТ'!Z10 -> 76483.336 | K7: 0 | L7: 980.56 | N7: =L7*12 -> 11766.72 | O7: =J7-$L7 -> 75502.776 | P7: =O7-$L7 -> 74522.216 | Q7: =P7-$L7 -> 73541.656 | R7: =Q7-$L7 -> 72561.096 | S7: =R7-$L7 -> 71580.536 | T7: =S7-$L7 -> 70599.976 | U7: =T7-$L7 -> 69619.416 | V7: =U7-$L7 -> 68638.856 | W7: =V7-$L7 -> 67658.296 | ... Z7: =Y7-$L7 -> 64716.616 | AC7: =L7*12 -> 11766.72 | AD7: =Z7-$L7 -> 63736.056 | AE7: =AD7-$L7 -> 62755.496 | AF7: =AE7-$L7 -> 61774.936 | AG7: =AF7-$L7 -> 60794.376 | AH7: =AG7-$L7 -> 59813.816 | AI7: =AH7-$L7 -> 58833.256 | AJ7: =AI7-$L7 -> 57852.696 | AK7: =AJ7-$L7 -> 56872.136 | AL7: =AK7-$L7 -> 55891.576 | ... AO7: =AN7-$L7 -> 52949.896 | AQ7: 980.56 | AR7: =AN7-AO7 -> 980.56 | AS7: =AR7-AQ7 -> -2.1600499e-12 | AT7: =L7*12 -> 11766.72 | AU7: =AO7-$L7 -> 51969.336 | AV7: =AU7-$L7 -> 50988.776 | AW7: =AV7-$L7 -> 50008.216 | AX7: =AW7-$L7 -> 49027.656 | AY7: =AX7-$L7 -> 48047.096 | AZ7: =AY7-$L7 -> 47066.536 | BA7: =AZ7-$L7 -> 46085.976 | BB7: =BA7-$L7 -> 45105.416 | BC7: =BB7-$L7 -> 44124.856 | ... BF7: =BE7-$L7 -> 41183.176 | BG7: =IF(K7<1,0,SUM(AU7:BF7,AO7)/13*$BG$1) -> 0 | BH7: 980.56 | BI7: =BH7*12 -> 11766.72 | BJ7: =BF7-BH7 -> 40202.616 | BK7: =BJ7-$L7 -> 39222.056 | BL7: =BK7-$L7 -> 38241.496 | BM7: =BL7-$L7 -> 37260.936 | BN7: =BM7-$L7 -> 36280.376 | BO7: =BN7-$L7 -> 35299.816 | BP7: =BO7-$L7 -> 34319.256 | BQ7: =BP7-$L7 -> 33338.696 | BR7: =BQ7-$L7 -> 32358.136 | ... BU7: =BT7-$L7 -> 29416.456 | BV7: 0 | BW7: 980.56 | BX7: =BW7*12 -> 11766.72 | BY7: =BU7-BW7 -> 28435.896 | BZ7: =BY7-$L7 -> 27455.336 | CA7: =BZ7-$L7 -> 26474.776 | CB7: =CA7-$L7 -> 25494.216 | CC7: =CB7-$L7 -> 24513.656 | CD7: =CC7-$L7 -> 23533.096 | CE7: =CD7-$L7 -> 22552.536 | CF7: =CE7-$L7 -> 21571.976 | CG7: =CF7-$L7 -> 20591.416 | ... CJ7: =CI7-$L7 -> 17649.736 | CK7: 0 | CL7: 980.56 | CM7: =CL7*12 -> 11766.72 | CN7: =CJ7-CL7 -> 16669.176 | CO7: =CN7-$L7 -> 15688.616 | CP7: =CO7-$L7 -> 14708.056 | CQ7: =CP7-$L7 -> 13727.496 | CR7: =CQ7-$L7 -> 12746.936 | CS7: =CR7-$L7 -> 11766.376 | CT7: =CS7-$L7 -> 10785.816 | CU7: =CT7-$L7 -> 9805.2564 | CV7: =CU7-$L7 -> 8824.6964 | ... CY7: =CX7-$L7 -> 5883.0164 | CZ7: 0
A8: ='[1]2021 УГРЦТ'!A11 -> Аппарат для испытания масла "ВОЛНА-АИМ90В" | B8: ='[1]2021 УГРЦТ'!B11 -> 000001705 | C8: ='[1]2021 УГРЦТ'!C11 -> ПРОИЗВОДСТВО | D8: ='[1]2021 УГРЦТ'!D11 -> Машины и оборудование (кроме офисного) | E8: ='[1]2021 УГРЦТ'!E11 -> 18.07.2017 | F8: ='[1]2021 УГРЦТ'!F11 -> Электрический цех | G8: ='[1]2021 УГРЦТ'!AC11 -> 120 | H8: ='[1]2021 УГРЦТ'!X11 -> 142372.88 | I8: ='[1]2021 УГРЦТ'!Y11 -> 62881.328 | J8: ='[1]2021 УГРЦТ'!Z11 -> 79491.552 | K8: 0 | L8: 1186.44 | N8: =L8*12 -> 14237.28 | O8: =J8-$L8 -> 78305.112 | P8: =O8-$L8 -> 77118.672 | Q8: =P8-$L8 -> 75932.232 | R8: =Q8-$L8 -> 74745.792 | S8: =R8-$L8 -> 73559.352 | T8: =S8-$L8 -> 72372.912 | U8: =T8-$L8 -> 71186.472 | V8: =U8-$L8 -> 70000.032 | W8: =V8-$L8 -> 68813.592 | ... Z8: =Y8-$L8 -> 65254.272 | AC8: =L8*12 -> 14237.28 | AD8: =Z8-$L8 -> 64067.832 | AE8: =AD8-$L8 -> 62881.392 | AF8: =AE8-$L8 -> 61694.952 | AG8: =AF8-$L8 -> 60508.512 | AH8: =AG8-$L8 -> 59322.072 | AI8: =AH8-$L8 -> 58135.632 | AJ8: =AI8-$L8 -> 56949.192 | AK8: =AJ8-$L8 -> 55762.752 | AL8: =AK8-$L8 -> 54576.312 | ... AO8: =AN8-$L8 -> 51016.992 | AQ8: 1186.44 | AR8: =AN8-AO8 -> 1186.44 | AS8: =AR8-AQ8 -> 2.0463631e-12 | AT8: =L8*12 -> 14237.28 | AU8: =AO8-$L8 -> 49830.552 | AV8: =AU8-$L8 -> 48644.112 | AW8: =AV8-$L8 -> 47457.672 | AX8: =AW8-$L8 -> 46271.232 | AY8: =AX8-$L8 -> 45084.792 | AZ8: =AY8-$L8 -> 43898.352 | BA8: =AZ8-$L8 -> 42711.912 | BB8: =BA8-$L8 -> 41525.472 | BC8: =BB8-$L8 -> 40339.032 | ... BF8: =BE8-$L8 -> 36779.712 | BG8: =IF(K8<1,0,SUM(AU8:BF8,AO8)/13*$BG$1) -> 0 | BH8: 1186.44 | BI8: =BH8*12 -> 14237.28 | BJ8: =BF8-BH8 -> 35593.272 | BK8: =BJ8-$L8 -> 34406.832 | BL8: =BK8-$L8 -> 33220.392 | BM8: =BL8-$L8 -> 32033.952 | BN8: =BM8-$L8 -> 30847.512 | BO8: =BN8-$L8 -> 29661.072 | BP8: =BO8-$L8 -> 28474.632 | BQ8: =BP8-$L8 -> 27288.192 | BR8: =BQ8-$L8 -> 26101.752 | ... BU8: =BT8-$L8 -> 22542.432 | BV8: 0 | BW8: 1186.44 | BX8: =BW8*12 -> 14237.28 | BY8: =BU8-BW8 -> 21355.992 | BZ8: =BY8-$L8 -> 20169.552 | CA8: =BZ8-$L8 -> 18983.112 | CB8: =CA8-$L8 -> 17796.672 | CC8: =CB8-$L8 -> 16610.232 | CD8: =CC8-$L8 -> 15423.792 | CE8: =CD8-$L8 -> 14237.352 | CF8: =CE8-$L8 -> 13050.912 | CG8: =CF8-$L8 -> 11864.472 | ... CJ8: =CI8-$L8 -> 8305.152 | CK8: 0 | CL8: 1186.44 | CM8: 8305.15 | CN8: =CJ8-CL8 -> 7118.712 | CO8: =CN8-$L8 -> 5932.272 | CP8: =CO8-$L8 -> 4745.832 | CQ8: =CP8-$L8 -> 3559.392 | CR8: =CQ8-$L8 -> 2372.952 | CS8: =CR8-$L8 -> 1186.512 | CT8: =CS8-$L8 -> 0.072 | CZ8: 0
A9: ='[1]2021 УГРЦТ'!A12 -> Аппаратура виброконтроля СВКА 1-2-06 | B9: ='[1]2021 УГРЦТ'!B12 -> 000001824 | C9: ='[1]2021 УГРЦТ'!C12 -> ПРОИЗВОДСТВО | D9: ='[1]2021 УГРЦТ'!D12 -> Машины и оборудование (кроме офисного) | E9: ='[1]2021 УГРЦТ'!E12 -> 02.11.2020 | F9: ='[1]2021 УГРЦТ'!F12 -> Газотурбинный цех | G9: ='[1]2021 УГРЦТ'!AC12 -> 84 | H9: ='[1]2021 УГРЦТ'!X12 -> 821895 | I9: ='[1]2021 УГРЦТ'!Y12 -> 127198.03 | J9: ='[1]2021 УГРЦТ'!Z12 -> 694696.97 | K9: 0 | L9: 9784.4658 | N9: =L9*12 -> 117413.59 | O9: =J9-$L9 -> 684912.5 | P9: =O9-$L9 -> 675128.04 | Q9: =P9-$L9 -> 665343.57 | R9: =Q9-$L9 -> 655559.11 | S9: =R9-$L9 -> 645774.64 | T9: =S9-$L9 -> 635990.17 | U9: =T9-$L9 -> 626205.71 | V9: =U9-$L9 -> 616421.24 | W9: =V9-$L9 -> 606636.78 | ... Z9: =Y9-$L9 -> 577283.38 | AC9: =L9*12 -> 117413.59 | AD9: =Z9-$L9 -> 567498.91 | AE9: =AD9-$L9 -> 557714.45 | AF9: =AE9-$L9 -> 547929.98 | AG9: =AF9-$L9 -> 538145.52 | AH9: =AG9-$L9 -> 528361.05 | AI9: =AH9-$L9 -> 518576.58 | AJ9: =AI9-$L9 -> 508792.12 | AK9: =AJ9-$L9 -> 499007.65 | AL9: =AK9-$L9 -> 489223.19 | ... AO9: =AN9-$L9 -> 459869.79 | AQ9: 9784.4658 | AR9: =AN9-AO9 -> 9784.4658 | AS9: =AR9-AQ9 -> 2.3646862e-11 | AT9: =L9*12 -> 117413.59 | AU9: =AO9-$L9 -> 450085.32 | AV9: =AU9-$L9 -> 440300.86 | AW9: =AV9-$L9 -> 430516.39 | AX9: =AW9-$L9 -> 420731.93 | AY9: =AX9-$L9 -> 410947.46 | AZ9: =AY9-$L9 -> 401162.99 | BA9: =AZ9-$L9 -> 391378.53 | BB9: =BA9-$L9 -> 381594.06 | BC9: =BB9-$L9 -> 371809.6 | ... BF9: =BE9-$L9 -> 342456.2 | BG9: =IF(K9<1,0,SUM(AU9:BF9,AO9)/13*$BG$1) -> 0 | BH9: 9784.4658 | BI9: =BH9*12 -> 117413.59 | BJ9: =BF9-BH9 -> 332671.73 | BK9: =BJ9-$L9 -> 322887.27 | BL9: =BK9-$L9 -> 313102.8 | BM9: =BL9-$L9 -> 303318.34 | BN9: =BM9-$L9 -> 293533.87 | BO9: =BN9-$L9 -> 283749.4 | BP9: =BO9-$L9 -> 273964.94 | BQ9: =BP9-$L9 -> 264180.47 | BR9: =BQ9-$L9 -> 254396.01 | ... BU9: =BT9-$L9 -> 225042.61 | BV9: 0 | BW9: 9784.4658 | BX9: =BW9*12 -> 117413.59 | BY9: =BU9-BW9 -> 215258.14 | BZ9: =BY9-$L9 -> 205473.68 | CA9: =BZ9-$L9 -> 195689.21 | CB9: =CA9-$L9 -> 185904.75 | CC9: =CB9-$L9 -> 176120.28 | CD9: =CC9-$L9 -> 166335.81 | CE9: =CD9-$L9 -> 156551.35 | CF9: =CE9-$L9 -> 146766.88 | CG9: =CF9-$L9 -> 136982.42 | ... CJ9: =CI9-$L9 -> 107629.02 | CK9: 0 | CL9: 9784.4658 | CM9: 107629.02 | CN9: =CJ9-CL9 -> 97844.553 | CO9: =CN9-$L9 -> 88060.087 | CP9: =CO9-$L9 -> 78275.621 | CQ9: =CP9-$L9 -> 68491.155 | CR9: =CQ9-$L9 -> 58706.689 | CS9: =CR9-$L9 -> 48922.224 | CT9: =CS9-$L9 -> 39137.758 | CU9: =CT9-$L9 -> 29353.292 | CV9: =CU9-$L9 -> 19568.826 | CW9: =CV9-$L9 -> 9784.3603 | CZ9: 0
A10: ='[1]2021 УГРЦТ'!A13 -> Блок управления БУШ ДГ-011 №960811011058 | B10: ='[1]2021 УГРЦТ'!B13 -> 00001378 | C10: ='[1]2021 УГРЦТ'!C13 -> ПРОИЗВОДСТВО | D10: ='[1]2021 УГРЦТ'!D13 -> Машины и оборудование (кроме офисного) | E10: ='[1]2021 УГРЦТ'!E13 -> 18.10.2011 | F10: ='[1]2021 УГРЦТ'!F13 -> Газотурбинный цех | G10: ='[1]2021 УГРЦТ'!AC13 -> 120 | H10: ='[1]2021 УГРЦТ'!X13 -> 315000 | I10: ='[1]2021 УГРЦТ'!Y13 -> 315000 | J10: ='[1]2021 УГРЦТ'!Z13 -> 0 | K10: 0 | L10: 0 | N10: =L10*12 -> 0 | O10: =J10-$L10 -> 0 | P10: =O10-$L10 -> 0 | Q10: =P10-$L10 -> 0 | R10: =Q10-$L10 -> 0 | S10: =R10-$L10 -> 0 | T10: =S10-$L10 -> 0 | U10: =T10-$L10 -> 0 | V10: =U10-$L10 -> 0 | W10: =V10-$L10 -> 0 | ... Z10: =Y10-$L10 -> 0 | AQ10: 0 | AR10: =AN10-AO10 -> 0 | AS10: =AR10-AQ10 -> 0 | BG10: =IF(K10<1,0,SUM(AU10:BF10,AO10)/13*$BG$1) -> 0 | BH10: 0 | BV10: =IF(Z10<1,0,SUM(BJ10:BU10,BF10)/13*$BG$1) -> 0 | BW10: 0 | CK10: =IF(AO10<1,0,SUM(BY10:CJ10,BU10)/13*$BG$1) -> 0 | CL10: 0 | CZ10: =IF(BF10<1,0,SUM(CN10:CY10,CJ10)/13*$BG$1) -> 0
A11: ='[1]2021 УГРЦТ'!A14 -> Видеоэндоскоп jProbe VJ-ADV, диаметр рабочей части 6,9 мм, длин. зонда -3м | B11: ='[1]2021 УГРЦТ'!B14 -> 000001640 | C11: ='[1]2021 УГРЦТ'!C14 -> ПРОИЗВОДСТВО | D11: ='[1]2021 УГРЦТ'!D14 -> Машины и оборудование (кроме офисного) | E11: ='[1]2021 УГРЦТ'!E14 -> 31.07.2014 | F11: ='[1]2021 УГРЦТ'!F14 -> Газотурбинный цех | G11: ='[1]2021 УГРЦТ'!AC14 -> 84 | H11: ='[1]2021 УГРЦТ'!X14 -> 338983.05 | I11: ='[1]2021 УГРЦТ'!Y14 -> 338983.05 | J11: ='[1]2021 УГРЦТ'!Z14 -> 0 | K11: 0 | L11: 0 | N11: =L11*12 -> 0 | O11: =J11-$L11 -> 0 | P11: =O11-$L11 -> 0 | Q11: =P11-$L11 -> 0 | R11: =Q11-$L11 -> 0 | S11: =R11-$L11 -> 0 | T11: =S11-$L11 -> 0 | U11: =T11-$L11 -> 0 | V11: =U11-$L11 -> 0 | W11: =V11-$L11 -> 0 | ... Z11: =Y11-$L11 -> 0 | AQ11: 0 | AR11: =AN11-AO11 -> 0 | AS11: =AR11-AQ11 -> 0 | BG11: =IF(K11<1,0,SUM(AU11:BF11,AO11)/13*$BG$1) -> 0 | BH11: 0 | BV11: =IF(Z11<1,0,SUM(BJ11:BU11,BF11)/13*$BG$1) -> 0 | BW11: 0 | CK11: =IF(AO11<1,0,SUM(BY11:CJ11,BU11)/13*$BG$1) -> 0 | CL11: 0 | CZ11: =IF(BF11<1,0,SUM(CN11:CY11,CJ11)/13*$BG$1) -> 0
A12: ='[1]2021 УГРЦТ'!A15 -> Воздушная линия 0,4 кВ (ТУ 487 от 02.07.20) | B12: ='[1]2021 УГРЦТ'!B15 -> 000001867 | C12: ='[1]2021 УГРЦТ'!C15 -> ПРОИЗВОДСТВО | D12: ='[1]2021 УГРЦТ'!D15 -> Сооружения | E12: ='[1]2021 УГРЦТ'!E15 -> 21.10.2021 | F12: ='[1]2021 УГРЦТ'!F15 -> ДЭС п.Красное | G12: ='[1]2021 УГРЦТ'!AC15 -> 480 | H12: ='[1]2021 УГРЦТ'!X15 -> 205964.57 | I12: ='[1]2021 УГРЦТ'!Y15 -> 858.18571 | J12: ='[1]2021 УГРЦТ'!Z15 -> 205106.38 | K12: 1 | L12: 429.09 | N12: =L12*12 -> 5149.08 | O12: =J12-$L12 -> 204677.29 | P12: =O12-$L12 -> 204248.2 | Q12: =P12-$L12 -> 203819.11 | R12: =Q12-$L12 -> 203390.02 | S12: =R12-$L12 -> 202960.93 | T12: =S12-$L12 -> 202531.84 | U12: =T12-$L12 -> 202102.75 | V12: =U12-$L12 -> 201673.66 | W12: =V12-$L12 -> 201244.57 | ... Z12: =Y12-$L12 -> 199957.3 | AA12: =SUM(O12:Z12,J12)/13*$AA$1 -> 4455.7006 | AC12: =L12*12 -> 5149.08 | AD12: =Z12-$L12 -> 199528.21 | AE12: =AD12-$L12 -> 199099.12 | AF12: =AE12-$L12 -> 198670.03 | AG12: =AF12-$L12 -> 198240.94 | AH12: =AG12-$L12 -> 197811.85 | AI12: =AH12-$L12 -> 197382.76 | AJ12: =AI12-$L12 -> 196953.67 | AK12: =AJ12-$L12 -> 196524.58 | AL12: =AK12-$L12 -> 196095.49 | ... AO12: =AN12-$L12 -> 194808.22 | AP12: =IF(K12<1,0,SUM(AD12:AO12,Z12)/13*$BG$1) -> 4342.4208 | AQ12: 429.09 | AR12: =AN12-AO12 -> 429.09 | AS12: =AR12-AQ12 -> -3.4674486e-12 | AT12: =L12*12 -> 5149.08 | AU12: =AO12-$L12 -> 194379.13 | AV12: =AU12-$L12 -> 193950.04 | AW12: =AV12-$L12 -> 193520.95 | AX12: =AW12-$L12 -> 193091.86 | AY12: =AX12-$L12 -> 192662.77 | AZ12: =AY12-$L12 -> 192233.68 | BA12: =AZ12-$L12 -> 191804.59 | BB12: =BA12-$L12 -> 191375.5 | BC12: =BB12-$L12 -> 190946.41 | ... BF12: =BE12-$L12 -> 189659.14 | BG12: =IF(K12<1,0,SUM(AU12:BF12,AO12)/13*$BG$1) -> 4229.1411 | BH12: 429.09 | BI12: =BH12*12 -> 5149.08 | BJ12: =BF12-BH12 -> 189230.05 | BK12: =BJ12-$L12 -> 188800.96 | BL12: =BK12-$L12 -> 188371.87 | BM12: =BL12-$L12 -> 187942.78 | BN12: =BM12-$L12 -> 187513.69 | BO12: =BN12-$L12 -> 187084.6 | BP12: =BO12-$L12 -> 186655.51 | BQ12: =BP12-$L12 -> 186226.42 | BR12: =BQ12-$L12 -> 185797.33 | ... BU12: =BT12-$L12 -> 184510.06 | BV12: =IF(Z12<1,0,SUM(BJ12:BU12,BF12)/13*$BG$1) -> 4115.8613 | BW12: 429.09 | BX12: =BW12*12 -> 5149.08 | BY12: =BU12-BW12 -> 184080.97 | BZ12: =BY12-$L12 -> 183651.88 | CA12: =BZ12-$L12 -> 183222.79 | CB12: =CA12-$L12 -> 182793.7 | CC12: =CB12-$L12 -> 182364.61 | CD12: =CC12-$L12 -> 181935.52 | CE12: =CD12-$L12 -> 181506.43 | CF12: =CE12-$L12 -> 181077.34 | CG12: =CF12-$L12 -> 180648.25 | ... CJ12: =CI12-$L12 -> 179360.98 | CK12: =IF(AO12<1,0,SUM(BY12:CJ12,BU12)/13*$BG$1) -> 4002.5815 | CL12: 429.09 | CM12: =CL12*12 -> 5149.08 | CN12: =CJ12-CL12 -> 178931.89 | CO12: =CN12-$L12 -> 178502.8 | CP12: =CO12-$L12 -> 178073.71 | CQ12: =CP12-$L12 -> 177644.62 | CR12: =CQ12-$L12 -> 177215.53 | CS12: =CR12-$L12 -> 176786.44 | CT12: =CS12-$L12 -> 176357.35 | CU12: =CT12-$L12 -> 175928.26 | CV12: =CU12-$L12 -> 175499.17 | ... CY12: =CX12-$L12 -> 174211.9 | CZ12: =IF(BF12<1,0,SUM(CN12:CY12,CJ12)/13*$BG$1) -> 3889.3018
A13: ='[1]2021 УГРЦТ'!A16 -> Вольтамперфазометр РЕТОМЕТР-М2 (НПП "ДИНАМИКА") | B13: ='[1]2021 УГРЦТ'!B16 -> 000001719 | C13: ='[1]2021 УГРЦТ'!C16 -> ПРОИЗВОДСТВО | D13: ='[1]2021 УГРЦТ'!D16 -> Машины и оборудование (кроме офисного) | E13: ='[1]2021 УГРЦТ'!E16 -> 28.04.2018 | F13: ='[1]2021 УГРЦТ'!F16 -> Электрический цех | G13: ='[1]2021 УГРЦТ'!AC16 -> 60 | H13: ='[1]2021 УГРЦТ'!X16 -> 63431.72 | I13: ='[1]2021 УГРЦТ'!Y16 -> 46516.744 | J13: ='[1]2021 УГРЦТ'!Z16 -> 16914.976 | K13: 0 | L13: 1057.2 | N13: =L13*12 -> 12686.4 | O13: =J13-$L13 -> 15857.776 | P13: =O13-$L13 -> 14800.576 | Q13: =P13-$L13 -> 13743.376 | R13: =Q13-$L13 -> 12686.176 | S13: =R13-$L13 -> 11628.976 | T13: =S13-$L13 -> 10571.776 | U13: =T13-$L13 -> 9514.576 | V13: =U13-$L13 -> 8457.376 | W13: =V13-$L13 -> 7400.176 | ... Z13: =Y13-$L13 -> 4228.576 | AC13: =L13*4-0.22 -> 4228.58 | AD13: =Z13-$L13 -> 3171.376 | AE13: =AD13-$L13 -> 2114.176 | AF13: =AE13-$L13 -> 1056.976 | AQ13: 0 | AR13: =AN13-AO13 -> 0 | AS13: =AR13-AQ13 -> 0 | BG13: =IF(K13<1,0,SUM(AU13:BF13,AO13)/13*$BG$1) -> 0 | BH13: 0 | BV13: =IF(Z13<1,0,SUM(BJ13:BU13,BF13)/13*$BG$1) -> 0 | BW13: 0 | CK13: =IF(AO13<1,0,SUM(BY13:CJ13,BU13)/13*$BG$1) -> 0 | CL13: 0 | CZ13: =IF(BF13<1,0,SUM(CN13:CY13,CJ13)/13*$BG$1) -> 0
A14: ='[1]2021 УГРЦТ'!A17 -> Выпрямитель для стац аккум установок №1 | B14: ='[1]2021 УГРЦТ'!B17 -> 00001177 | C14: ='[1]2021 УГРЦТ'!C17 -> ПРОИЗВОДСТВО | D14: ='[1]2021 УГРЦТ'!D17 -> Машины и оборудование (кроме офисного) | E14: ='[1]2021 УГРЦТ'!E17 -> 31.03.2010 | F14: ='[1]2021 УГРЦТ'!F17 -> Газотурбинный цех | G14: ='[1]2021 УГРЦТ'!AC17 -> 240 | H14: ='[1]2021 УГРЦТ'!X17 -> 474500 | I14: ='[1]2021 УГРЦТ'!Y17 -> 278768.32 | J14: ='[1]2021 УГРЦТ'!Z17 -> 195731.68 | K14: 0 | L14: 1977.09 | N14: =L14*12 -> 23725.08 | O14: =J14-$L14 -> 193754.59 | P14: =O14-$L14 -> 191777.5 | Q14: =P14-$L14 -> 189800.41 | R14: =Q14-$L14 -> 187823.32 | S14: =R14-$L14 -> 185846.23 | T14: =S14-$L14 -> 183869.14 | U14: =T14-$L14 -> 181892.05 | V14: =U14-$L14 -> 179914.96 | W14: =V14-$L14 -> 177937.87 | ... Z14: =Y14-$L14 -> 172006.6 | AC14: =L14*12 -> 23725.08 | AD14: =Z14-$L14 -> 170029.51 | AE14: =AD14-$L14 -> 168052.42 | AF14: =AE14-$L14 -> 166075.33 | AG14: =AF14-$L14 -> 164098.24 | AH14: =AG14-$L14 -> 162121.15 | AI14: =AH14-$L14 -> 160144.06 | AJ14: =AI14-$L14 -> 158166.97 | AK14: =AJ14-$L14 -> 156189.88 | AL14: =AK14-$L14 -> 154212.79 | ... AO14: =AN14-$L14 -> 148281.52 | AQ14: 1977.09 | AR14: =AN14-AO14 -> 1977.09 | AS14: =AR14-AQ14 -> -3.4106051e-12 | AT14: =L14*12 -> 23725.08 | AU14: =AO14-$L14 -> 146304.43 | AV14: =AU14-$L14 -> 144327.34 | AW14: =AV14-$L14 -> 142350.25 | AX14: =AW14-$L14 -> 140373.16 | AY14: =AX14-$L14 -> 138396.07 | AZ14: =AY14-$L14 -> 136418.98 | BA14: =AZ14-$L14 -> 134441.89 | BB14: =BA14-$L14 -> 132464.8 | BC14: =BB14-$L14 -> 130487.71 | ... BF14: =BE14-$L14 -> 124556.44 | BG14: =IF(K14<1,0,SUM(AU14:BF14,AO14)/13*$BG$1) -> 0 | BH14: 1977.09 | BI14: =BH14*12 -> 23725.08 | BJ14: =BF14-BH14 -> 122579.35 | BK14: =BJ14-$L14 -> 120602.26 | BL14: =BK14-$L14 -> 118625.17 | BM14: =BL14-$L14 -> 116648.08 | BN14: =BM14-$L14 -> 114670.99 | BO14: =BN14-$L14 -> 112693.9 | BP14: =BO14-$L14 -> 110716.81 | BQ14: =BP14-$L14 -> 108739.72 | BR14: =BQ14-$L14 -> 106762.63 | ... BU14: =BT14-$L14 -> 100831.36 | BV14: 0 | BW14: 1977.09 | BX14: =BW14*12 -> 23725.08 | BY14: =BU14-BW14 -> 98854.27 | BZ14: =BY14-$L14 -> 96877.18 | CA14: =BZ14-$L14 -> 94900.09 | CB14: =CA14-$L14 -> 92923 | CC14: =CB14-$L14 -> 90945.91 | CD14: =CC14-$L14 -> 88968.82 | CE14: =CD14-$L14 -> 86991.73 | CF14: =CE14-$L14 -> 85014.64 | CG14: =CF14-$L14 -> 83037.55 | ... CJ14: =CI14-$L14 -> 77106.28 | CK14: 0 | CL14: 1977.09 | CM14: =CL14*12 -> 23725.08 | CN14: =CJ14-CL14 -> 75129.19 | CO14: =CN14-$L14 -> 73152.1 | CP14: =CO14-$L14 -> 71175.01 | CQ14: =CP14-$L14 -> 69197.92 | CR14: =CQ14-$L14 -> 67220.83 | CS14: =CR14-$L14 -> 65243.74 | CT14: =CS14-$L14 -> 63266.65 | CU14: =CT14-$L14 -> 61289.56 | CV14: =CU14-$L14 -> 59312.47 | ... CY14: =CX14-$L14 -> 53381.2 | CZ14: 0
A15: ='[1]2021 УГРЦТ'!A18 -> Выпрямитель для стац аккум установок №2 | B15: ='[1]2021 УГРЦТ'!B18 -> 00001178 | C15: ='[1]2021 УГРЦТ'!C18 -> ПРОИЗВОДСТВО | D15: ='[1]2021 УГРЦТ'!D18 -> Машины и оборудование (кроме офисного) | E15: ='[1]2021 УГРЦТ'!E18 -> 31.03.2010 | F15: ='[1]2021 УГРЦТ'!F18 -> Газотурбинный цех | G15: ='[1]2021 УГРЦТ'!AC18 -> 240 | H15: ='[1]2021 УГРЦТ'!X18 -> 474500 | I15: ='[1]2021 УГРЦТ'!Y18 -> 278768.32 | J15: ='[1]2021 УГРЦТ'!Z18 -> 195731.68 | K15: 0 | L15: 1977.09 | N15: =L15*12 -> 23725.08 | O15: =J15-$L15 -> 193754.59 | P15: =O15-$L15 -> 191777.5 | Q15: =P15-$L15 -> 189800.41 | R15: =Q15-$L15 -> 187823.32 | S15: =R15-$L15 -> 185846.23 | T15: =S15-$L15 -> 183869.14 | U15: =T15-$L15 -> 181892.05 | V15: =U15-$L15 -> 179914.96 | W15: =V15-$L15 -> 177937.87 | ... Z15: =Y15-$L15 -> 172006.6 | AC15: =L15*12 -> 23725.08 | AD15: =Z15-$L15 -> 170029.51 | AE15: =AD15-$L15 -> 168052.42 | AF15: =AE15-$L15 -> 166075.33 | AG15: =AF15-$L15 -> 164098.24 | AH15: =AG15-$L15 -> 162121.15 | AI15: =AH15-$L15 -> 160144.06 | AJ15: =AI15-$L15 -> 158166.97 | AK15: =AJ15-$L15 -> 156189.88 | AL15: =AK15-$L15 -> 154212.79 | ... AO15: =AN15-$L15 -> 148281.52 | AQ15: 1977.09 | AR15: =AN15-AO15 -> 1977.09 | AS15: =AR15-AQ15 -> -3.4106051e-12 | AT15: =L15*12 -> 23725.08 | AU15: =AO15-$L15 -> 146304.43 | AV15: =AU15-$L15 -> 144327.34 | AW15: =AV15-$L15 -> 142350.25 | AX15: =AW15-$L15 -> 140373.16 | AY15: =AX15-$L15 -> 138396.07 | AZ15: =AY15-$L15 -> 136418.98 | BA15: =AZ15-$L15 -> 134441.89 | BB15: =BA15-$L15 -> 132464.8 | BC15: =BB15-$L15 -> 130487.71 | ... BF15: =BE15-$L15 -> 124556.44 | BG15: =IF(K15<1,0,SUM(AU15:BF15,AO15)/13*$BG$1) -> 0 | BH15: 1977.09 | BI15: =BH15*12 -> 23725.08 | BJ15: =BF15-BH15 -> 122579.35 | BK15: =BJ15-$L15 -> 120602.26 | BL15: =BK15-$L15 -> 118625.17 | BM15: =BL15-$L15 -> 116648.08 | BN15: =BM15-$L15 -> 114670.99 | BO15: =BN15-$L15 -> 112693.9 | BP15: =BO15-$L15 -> 110716.81 | BQ15: =BP15-$L15 -> 108739.72 | BR15: =BQ15-$L15 -> 106762.63 | ... BU15: =BT15-$L15 -> 100831.36 | BV15: 0 | BW15: 1977.09 | BX15: =BW15*12 -> 23725.08 | BY15: =BU15-BW15 -> 98854.27 | BZ15: =BY15-$L15 -> 96877.18 | CA15: =BZ15-$L15 -> 94900.09 | CB15: =CA15-$L15 -> 92923 | CC15: =CB15-$L15 -> 90945.91 | CD15: =CC15-$L15 -> 88968.82 | CE15: =CD15-$L15 -> 86991.73 | CF15: =CE15-$L15 -> 85014.64 | CG15: =CF15-$L15 -> 83037.55 | ... CJ15: =CI15-$L15 -> 77106.28 | CK15: 0 | CL15: 1977.09 | CM15: =CL15*12 -> 23725.08 | CN15: =CJ15-CL15 -> 75129.19 | CO15: =CN15-$L15 -> 73152.1 | CP15: =CO15-$L15 -> 71175.01 | CQ15: =CP15-$L15 -> 69197.92 | CR15: =CQ15-$L15 -> 67220.83 | CS15: =CR15-$L15 -> 65243.74 | CT15: =CS15-$L15 -> 63266.65 | CU15: =CT15-$L15 -> 61289.56 | CV15: =CU15-$L15 -> 59312.47 | ... CY15: =CX15-$L15 -> 53381.2 | CZ15: 0
A16: ='[1]2021 УГРЦТ'!A19 -> Высоковольтная установка для испытания кабелей из сшитого полиэтилена (СПЭ) повышенным напряжением сверхнизкой частоты (СНЧ/VLF) АИСТ СНЧ 36 | B16: ='[1]2021 УГРЦТ'!B19 -> 000001818 | C16: ='[1]2021 УГРЦТ'!C19 -> ПРОИЗВОДСТВО | D16: ='[1]2021 УГРЦТ'!D19 -> Машины и оборудование (кроме офисного) | E16: ='[1]2021 УГРЦТ'!E19 -> 29.06.2020 | F16: ='[1]2021 УГРЦТ'!F19 -> Электрический цех | G16: ='[1]2021 УГРЦТ'!AC19 -> 84 | H16: ='[1]2021 УГРЦТ'!X19 -> 564250 | I16: ='[1]2021 УГРЦТ'!Y19 -> 120910.7 | J16: ='[1]2021 УГРЦТ'!Z19 -> 443339.3 | K16: 0 | L16: 6717.26 | N16: =L16*12 -> 80607.12 | O16: =J16-$L16 -> 436622.04 | P16: =O16-$L16 -> 429904.78 | Q16: =P16-$L16 -> 423187.52 | R16: =Q16-$L16 -> 416470.26 | S16: =R16-$L16 -> 409753 | T16: =S16-$L16 -> 403035.74 | U16: =T16-$L16 -> 396318.48 | V16: =U16-$L16 -> 389601.22 | W16: =V16-$L16 -> 382883.96 | ... Z16: =Y16-$L16 -> 362732.18 | AC16: =L16*12 -> 80607.12 | AD16: =Z16-$L16 -> 356014.92 | AE16: =AD16-$L16 -> 349297.66 | AF16: =AE16-$L16 -> 342580.4 | AG16: =AF16-$L16 -> 335863.14 | AH16: =AG16-$L16 -> 329145.88 | AI16: =AH16-$L16 -> 322428.62 | AJ16: =AI16-$L16 -> 315711.36 | AK16: =AJ16-$L16 -> 308994.1 | AL16: =AK16-$L16 -> 302276.84 | ... AO16: =AN16-$L16 -> 282125.06 | AQ16: 6717.26 | AR16: =AN16-AO16 -> 6717.26 | AS16: =AR16-AQ16 -> 1.0004442e-11 | AT16: =L16*12 -> 80607.12 | AU16: =AO16-$L16 -> 275407.8 | AV16: =AU16-$L16 -> 268690.54 | AW16: =AV16-$L16 -> 261973.28 | AX16: =AW16-$L16 -> 255256.02 | AY16: =AX16-$L16 -> 248538.76 | AZ16: =AY16-$L16 -> 241821.5 | BA16: =AZ16-$L16 -> 235104.24 | BB16: =BA16-$L16 -> 228386.98 | BC16: =BB16-$L16 -> 221669.72 | ... BF16: =BE16-$L16 -> 201517.94 | BG16: =IF(K16<1,0,SUM(AU16:BF16,AO16)/13*$BG$1) -> 0 | BH16: 6717.26 | BI16: =BH16*12 -> 80607.12 | BJ16: =BF16-BH16 -> 194800.68 | BK16: =BJ16-$L16 -> 188083.42 | BL16: =BK16-$L16 -> 181366.16 | BM16: =BL16-$L16 -> 174648.9 | BN16: =BM16-$L16 -> 167931.64 | BO16: =BN16-$L16 -> 161214.38 | BP16: =BO16-$L16 -> 154497.12 | BQ16: =BP16-$L16 -> 147779.86 | BR16: =BQ16-$L16 -> 141062.6 | ... BU16: =BT16-$L16 -> 120910.82 | BV16: 0 | BW16: 6717.26 | BX16: =BW16*12 -> 80607.12 | BY16: =BU16-BW16 -> 114193.56 | BZ16: =BY16-$L16 -> 107476.3 | CA16: =BZ16-$L16 -> 100759.04 | CB16: =CA16-$L16 -> 94041.777 | CC16: =CB16-$L16 -> 87324.517 | CD16: =CC16-$L16 -> 80607.257 | CE16: =CD16-$L16 -> 73889.997 | CF16: =CE16-$L16 -> 67172.737 | CG16: =CF16-$L16 -> 60455.477 | ... CJ16: =CI16-$L16 -> 40303.697 | CK16: 0 | CL16: 6717.26 | CM16: 40303.7 | CN16: =CJ16-CL16 -> 33586.437 | CO16: =CN16-$L16 -> 26869.177 | CP16: =CO16-$L16 -> 20151.917 | CQ16: =CP16-$L16 -> 13434.657 | CR16: =CQ16-$L16 -> 6717.3971 | CS16: =CR16-$L16 -> 0.13714286 | CZ16: 0
A17: ='[1]2021 УГРЦТ'!A20 -> Газоанализатор СГОЭС (метан) | B17: ='[1]2021 УГРЦТ'!B20 -> 000001757 | C17: ='[1]2021 УГРЦТ'!C20 -> ПРОИЗВОДСТВО | D17: ='[1]2021 УГРЦТ'!D20 -> Машины и оборудование (кроме офисного) | E17: ='[1]2021 УГРЦТ'!E20 -> 27.02.2019 | F17: ='[1]2021 УГРЦТ'!F20 -> Газотурбинный цех | G17: ='[1]2021 УГРЦТ'!AC20 -> 60 | H17: ='[1]2021 УГРЦТ'!X20 -> 71300 | I17: ='[1]2021 УГРЦТ'!Y20 -> 40403.26 | J17: ='[1]2021 УГРЦТ'!Z20 -> 30896.74 | K17: 0 | L17: 1188.33 | N17: =L17*12 -> 14259.96 | O17: =J17-$L17 -> 29708.41 | P17: =O17-$L17 -> 28520.08 | Q17: =P17-$L17 -> 27331.75 | R17: =Q17-$L17 -> 26143.42 | S17: =R17-$L17 -> 24955.09 | T17: =S17-$L17 -> 23766.76 | U17: =T17-$L17 -> 22578.43 | V17: =U17-$L17 -> 21390.1 | W17: =V17-$L17 -> 20201.77 | ... Z17: =Y17-$L17 -> 16636.78 | AC17: =L17*12 -> 14259.96 | AD17: =Z17-$L17 -> 15448.45 | AE17: =AD17-$L17 -> 14260.12 | AF17: =AE17-$L17 -> 13071.79 | AG17: =AF17-$L17 -> 11883.46 | AH17: =AG17-$L17 -> 10695.13 | AI17: =AH17-$L17 -> 9506.8 | AJ17: =AI17-$L17 -> 8318.47 | AK17: =AJ17-$L17 -> 7130.14 | AL17: =AK17-$L17 -> 5941.81 | ... AO17: =AN17-$L17 -> 2376.82 | AQ17: 1188.33 | AR17: =AN17-AO17 -> 1188.33 | AS17: =AR17-AQ17 -> 0 | AT17: =L17*2+0.16 -> 2376.82 | AU17: =AO17-$L17 -> 1188.49 | BG17: =IF(K17<1,0,SUM(AU17:BF17,AO17)/13*$BG$1) -> 0 | BH17: 1188.33 | BI17: 0 | BV17: =IF(Z17<1,0,SUM(BJ17:BU17,BF17)/13*$BG$1) -> 0 | BW17: 1188.33 | CK17: =IF(AO17<1,0,SUM(BY17:CJ17,BU17)/13*$BG$1) -> 0 | CL17: 1188.33 | CM17: 0 | CZ17: =IF(BF17<1,0,SUM(CN17:CY17,CJ17)/13*$BG$1) -> 0
A18: ='[1]2021 УГРЦТ'!A21 -> Газоанализатор СГОЭС метан ЖСКФ | B18: ='[1]2021 УГРЦТ'!B21 -> 000001744 | C18: ='[1]2021 УГРЦТ'!C21 -> ПРОИЗВОДСТВО | D18: ='[1]2021 УГРЦТ'!D21 -> Машины и оборудование (кроме офисного) | E18: ='[1]2021 УГРЦТ'!E21 -> 28.08.2018 | F18: ='[1]2021 УГРЦТ'!F21 -> Газотурбинный цех | G18: ='[1]2021 УГРЦТ'!AC21 -> 60 | H18: ='[1]2021 УГРЦТ'!X21 -> 120511.36 | I18: ='[1]2021 УГРЦТ'!Y21 -> 80340.832 | J18: ='[1]2021 УГРЦТ'!Z21 -> 40170.528 | K18: 0 | L18: 2008.52 | N18: =L18*12 -> 24102.24 | O18: =J18-$L18 -> 38162.008 | P18: =O18-$L18 -> 36153.488 | Q18: =P18-$L18 -> 34144.968 | R18: =Q18-$L18 -> 32136.448 | S18: =R18-$L18 -> 30127.928 | T18: =S18-$L18 -> 28119.408 | U18: =T18-$L18 -> 26110.888 | V18: =U18-$L18 -> 24102.368 | W18: =V18-$L18 -> 22093.848 | ... Z18: =Y18-$L18 -> 16068.288 | AC18: =L18*8+0.13 -> 16068.29 | AD18: =Z18-$L18 -> 14059.768 | AE18: =AD18-$L18 -> 12051.248 | AF18: =AE18-$L18 -> 10042.728 | AG18: =AF18-$L18 -> 8034.208 | AH18: =AG18-$L18 -> 6025.688 | AI18: =AH18-$L18 -> 4017.168 | AJ18: =AI18-$L18 -> 2008.648 | AK18: =AJ18-$L18 -> 0.128 | AQ18: 0 | AR18: =AN18-AO18 -> 0 | AS18: =AR18-AQ18 -> 0 | BG18: =IF(K18<1,0,SUM(AU18:BF18,AO18)/13*$BG$1) -> 0 | BH18: 0 | BV18: =IF(Z18<1,0,SUM(BJ18:BU18,BF18)/13*$BG$1) -> 0 | BW18: 0 | CK18: =IF(AO18<1,0,SUM(BY18:CJ18,BU18)/13*$BG$1) -> 0 | CL18: 0 | CZ18: =IF(BF18<1,0,SUM(CN18:CY18,CJ18)/13*$BG$1) -> 0
A19: ='[1]2021 УГРЦТ'!A22 -> Газон 600 м2 в районе ГТЭС-18 | B19: ='[1]2021 УГРЦТ'!B22 -> 00001147 | C19: ='[1]2021 УГРЦТ'!C22 -> ПРОИЗВОДСТВО | D19: ='[1]2021 УГРЦТ'!D22 -> Машины и оборудование (кроме офисного) | E19: ='[1]2021 УГРЦТ'!E22 -> 30.10.2009 | F19: ='[1]2021 УГРЦТ'!F22 -> Газотурбинный цех | G19: ='[1]2021 УГРЦТ'!AC22 -> 60 | H19: ='[1]2021 УГРЦТ'!X22 -> 325875.88 | I19: ='[1]2021 УГРЦТ'!Y22 -> 325875.88 | J19: ='[1]2021 УГРЦТ'!Z22 -> 325875.88 | K19: 0 | L19: 0 | N19: =L19*12 -> 0 | O19: =J19-$L19 -> 325875.88 | P19: =O19-$L19 -> 325875.88 | Q19: =P19-$L19 -> 325875.88 | R19: =Q19-$L19 -> 325875.88 | S19: =R19-$L19 -> 325875.88 | T19: =S19-$L19 -> 325875.88 | U19: =T19-$L19 -> 325875.88 | V19: =U19-$L19 -> 325875.88 | W19: =V19-$L19 -> 325875.88 | ... Z19: =Y19-$L19 -> 325875.88 | AC19: =L19*12 -> 0 | AD19: =Z19-$L19 -> 325875.88 | AE19: =AD19-$L19 -> 325875.88 | AF19: =AE19-$L19 -> 325875.88 | AG19: =AF19-$L19 -> 325875.88 | AH19: =AG19-$L19 -> 325875.88 | AI19: =AH19-$L19 -> 325875.88 | AJ19: =AI19-$L19 -> 325875.88 | AK19: =AJ19-$L19 -> 325875.88 | AL19: =AK19-$L19 -> 325875.88 | ... AO19: =AN19-$L19 -> 325875.88 | AQ19: 0 | AR19: =AN19-AO19 -> 0 | AS19: =AR19-AQ19 -> 0 | AT19: =L19*12 -> 0 | AU19: =AO19-$L19 -> 325875.88 | AV19: =AU19-$L19 -> 325875.88 | AW19: =AV19-$L19 -> 325875.88 | AX19: =AW19-$L19 -> 325875.88 | AY19: =AX19-$L19 -> 325875.88 | AZ19: =AY19-$L19 -> 325875.88 | BA19: =AZ19-$L19 -> 325875.88 | BB19: =BA19-$L19 -> 325875.88 | BC19: =BB19-$L19 -> 325875.88 | ... BF19: =BE19-$L19 -> 325875.88 | BG19: =IF(K19<1,0,SUM(AU19:BF19,AO19)/13*$BG$1) -> 0 | BH19: 0 | BI19: 0 | BJ19: =BF19 -> 325875.88 | BK19: =BJ19-$L19 -> 325875.88 | BL19: =BK19-$L19 -> 325875.88 | BM19: =BL19-$L19 -> 325875.88 | BN19: =BM19-$L19 -> 325875.88 | BO19: =BN19-$L19 -> 325875.88 | BP19: =BO19-$L19 -> 325875.88 | BQ19: =BP19-$L19 -> 325875.88 | BR19: =BQ19-$L19 -> 325875.88 | ... BU19: =BT19-$L19 -> 325875.88 | BV19: 0 | BW19: 0 | BX19: 0 | BY19: =BU19 -> 325875.88 | BZ19: =BY19-$L19 -> 325875.88 | CA19: =BZ19-$L19 -> 325875.88 | CB19: =CA19-$L19 -> 325875.88 | CC19: =CB19-$L19 -> 325875.88 | CD19: =CC19-$L19 -> 325875.88 | CE19: =CD19-$L19 -> 325875.88 | CF19: =CE19-$L19 -> 325875.88 | CG19: =CF19-$L19 -> 325875.88 | ... CJ19: =CI19-$L19 -> 325875.88 | CK19: 0 | CL19: 0 | CM19: 0 | CN19: =CJ19 -> 325875.88 | CO19: =CN19-$L19 -> 325875.88 | CP19: =CO19-$L19 -> 325875.88 | CQ19: =CP19-$L19 -> 325875.88 | CR19: =CQ19-$L19 -> 325875.88 | CS19: =CR19-$L19 -> 325875.88 | CT19: =CS19-$L19 -> 325875.88 | CU19: =CT19-$L19 -> 325875.88 | CV19: =CU19-$L19 -> 325875.88 | ... CY19: =CX19-$L19 -> 325875.88 | CZ19: 0
A20: ='[1]2021 УГРЦТ'!A23 -> Газон в районе основного здания | B20: ='[1]2021 УГРЦТ'!B23 -> 00001236 | C20: ='[1]2021 УГРЦТ'!C23 -> ПРОИЗВОДСТВО | D20: ='[1]2021 УГРЦТ'!D23 -> Машины и оборудование (кроме офисного) | E20: ='[1]2021 УГРЦТ'!E23 -> 10.10.2010 | F20: ='[1]2021 УГРЦТ'!F23 -> Тепломеханический цех | G20: ='[1]2021 УГРЦТ'!AC23 -> 60 | H20: ='[1]2021 УГРЦТ'!X23 -> 33100 | I20: ='[1]2021 УГРЦТ'!Y23 -> 33100 | J20: ='[1]2021 УГРЦТ'!Z23 -> 33100 | K20: 0 | L20: 0 | N20: =L20*12 -> 0 | O20: =J20-$L20 -> 33100 | P20: =O20-$L20 -> 33100 | Q20: =P20-$L20 -> 33100 | R20: =Q20-$L20 -> 33100 | S20: =R20-$L20 -> 33100 | T20: =S20-$L20 -> 33100 | U20: =T20-$L20 -> 33100 | V20: =U20-$L20 -> 33100 | W20: =V20-$L20 -> 33100 | ... Z20: =Y20-$L20 -> 33100 | AC20: =L20*12 -> 0 | AD20: =Z20-$L20 -> 33100 | AE20: =AD20-$L20 -> 33100 | AF20: =AE20-$L20 -> 33100 | AG20: =AF20-$L20 -> 33100 | AH20: =AG20-$L20 -> 33100 | AI20: =AH20-$L20 -> 33100 | AJ20: =AI20-$L20 -> 33100 | AK20: =AJ20-$L20 -> 33100 | AL20: =AK20-$L20 -> 33100 | ... AO20: =AN20-$L20 -> 33100 | AQ20: 0 | AR20: =AN20-AO20 -> 0 | AS20: =AR20-AQ20 -> 0 | AT20: =L20*12 -> 0 | AU20: =AO20-$L20 -> 33100 | AV20: =AU20-$L20 -> 33100 | AW20: =AV20-$L20 -> 33100 | AX20: =AW20-$L20 -> 33100 | AY20: =AX20-$L20 -> 33100 | AZ20: =AY20-$L20 -> 33100 | BA20: =AZ20-$L20 -> 33100 | BB20: =BA20-$L20 -> 33100 | BC20: =BB20-$L20 -> 33100 | ... BF20: =BE20-$L20 -> 33100 | BG20: =IF(K20<1,0,SUM(AU20:BF20,AO20)/13*$BG$1) -> 0 | BH20: 0 | BI20: 0 | BJ20: =BF20 -> 33100 | BK20: =BJ20-$L20 -> 33100 | BL20: =BK20-$L20 -> 33100 | BM20: =BL20-$L20 -> 33100 | BN20: =BM20-$L20 -> 33100 | BO20: =BN20-$L20 -> 33100 | BP20: =BO20-$L20 -> 33100 | BQ20: =BP20-$L20 -> 33100 | BR20: =BQ20-$L20 -> 33100 | ... BU20: =BT20-$L20 -> 33100 | BV20: 0 | BW20: 0 | BX20: 0 | BY20: =BU20 -> 33100 | BZ20: =BY20-$L20 -> 33100 | CA20: =BZ20-$L20 -> 33100 | CB20: =CA20-$L20 -> 33100 | CC20: =CB20-$L20 -> 33100 | CD20: =CC20-$L20 -> 33100 | CE20: =CD20-$L20 -> 33100 | CF20: =CE20-$L20 -> 33100 | CG20: =CF20-$L20 -> 33100 | ... CJ20: =CI20-$L20 -> 33100 | CK20: 0 | CL20: 0 | CM20: 0 | CN20: =CJ20 -> 33100 | CO20: =CN20-$L20 -> 33100 | CP20: =CO20-$L20 -> 33100 | CQ20: =CP20-$L20 -> 33100 | CR20: =CQ20-$L20 -> 33100 | CS20: =CR20-$L20 -> 33100 | CT20: =CS20-$L20 -> 33100 | CU20: =CT20-$L20 -> 33100 | CV20: =CU20-$L20 -> 33100 | ... CY20: =CX20-$L20 -> 33100 | CZ20: 0
A21: ='[1]2021 УГРЦТ'!A24 -> Газопровод выс. давления(наружный) 2003г | B21: ='[1]2021 УГРЦТ'!B24 -> 00000596 | C21: ='[1]2021 УГРЦТ'!C24 -> ПРОИЗВОДСТВО | D21: ='[1]2021 УГРЦТ'!D24 -> Сооружения | E21: ='[1]2021 УГРЦТ'!E24 -> 01.10.2003 | F21: ='[1]2021 УГРЦТ'!F24 -> Газотурбинный цех | G21: ='[1]2021 УГРЦТ'!AC24 -> 300 | H21: ='[1]2021 УГРЦТ'!X24 -> 538189.2 | I21: ='[1]2021 УГРЦТ'!Y24 -> 391083.38 | J21: ='[1]2021 УГРЦТ'!Z24 -> 147105.82 | K21: 1 | L21: 1793.9725 | N21: =L21*12 -> 21527.67 | O21: =J21-$L21 -> 145311.85 | P21: =O21-$L21 -> 143517.88 | Q21: =P21-$L21 -> 141723.9 | R21: =Q21-$L21 -> 139929.93 | S21: =R21-$L21 -> 138135.96 | T21: =S21-$L21 -> 136341.99 | U21: =T21-$L21 -> 134548.01 | V21: =U21-$L21 -> 132754.04 | W21: =V21-$L21 -> 130960.07 | ... Z21: =Y21-$L21 -> 125578.15 | AA21: =SUM(O21:Z21,J21)/13*$AA$1 -> 2999.5237 | AC21: =L21*12 -> 21527.67 | AD21: =Z21-$L21 -> 123784.18 | AE21: =AD21-$L21 -> 121990.21 | AF21: =AE21-$L21 -> 120196.23 | AG21: =AF21-$L21 -> 118402.26 | AH21: =AG21-$L21 -> 116608.29 | AI21: =AH21-$L21 -> 114814.32 | AJ21: =AI21-$L21 -> 113020.34 | AK21: =AJ21-$L21 -> 111226.37 | AL21: =AK21-$L21 -> 109432.4 | ... AO21: =AN21-$L21 -> 104050.48 | AP21: =IF(K21<1,0,SUM(AD21:AO21,Z21)/13*$BG$1) -> 2525.915 | AQ21: 1793.9725 | AR21: =AN21-AO21 -> 1793.9725 | AS21: =AR21-AQ21 -> 3.4106051e-12 | AT21: =L21*12 -> 21527.67 | AU21: =AO21-$L21 -> 102256.51 | AV21: =AU21-$L21 -> 100462.54 | AW21: =AV21-$L21 -> 98668.564 | AX21: =AW21-$L21 -> 96874.592 | AY21: =AX21-$L21 -> 95080.619 | AZ21: =AY21-$L21 -> 93286.647 | BA21: =AZ21-$L21 -> 91492.674 | BB21: =BA21-$L21 -> 89698.702 | BC21: =BB21-$L21 -> 87904.729 | ... BF21: =BE21-$L21 -> 82522.812 | BG21: =IF(K21<1,0,SUM(AU21:BF21,AO21)/13*$BG$1) -> 2052.3062 | BH21: 1793.9725 | BI21: =BH21*12 -> 21527.67 | BJ21: =BF21-BH21 -> 80728.839 | BK21: =BJ21-$L21 -> 78934.867 | BL21: =BK21-$L21 -> 77140.894 | BM21: =BL21-$L21 -> 75346.922 | BN21: =BM21-$L21 -> 73552.949 | BO21: =BN21-$L21 -> 71758.977 | BP21: =BO21-$L21 -> 69965.004 | BQ21: =BP21-$L21 -> 68171.032 | BR21: =BQ21-$L21 -> 66377.059 | ... BU21: =BT21-$L21 -> 60995.142 | BV21: =IF(Z21<1,0,SUM(BJ21:BU21,BF21)/13*$BG$1) -> 1578.6975 | BW21: 1793.9725 | BX21: =BW21*12 -> 21527.67 | BY21: =BU21-BW21 -> 59201.169 | BZ21: =BY21-$L21 -> 57407.197 | CA21: =BZ21-$L21 -> 55613.224 | CB21: =CA21-$L21 -> 53819.252 | CC21: =CB21-$L21 -> 52025.279 | CD21: =CC21-$L21 -> 50231.307 | CE21: =CD21-$L21 -> 48437.334 | CF21: =CE21-$L21 -> 46643.362 | CG21: =CF21-$L21 -> 44849.389 | ... CJ21: =CI21-$L21 -> 39467.472 | CK21: =IF(AO21<1,0,SUM(BY21:CJ21,BU21)/13*$BG$1) -> 1105.0888 | CL21: 1793.9725 | CM21: =CL21*12 -> 21527.67 | CN21: =CJ21-CL21 -> 37673.499 | CO21: =CN21-$L21 -> 35879.527 | CP21: =CO21-$L21 -> 34085.554 | CQ21: =CP21-$L21 -> 32291.582 | CR21: =CQ21-$L21 -> 30497.609 | CS21: =CR21-$L21 -> 28703.637 | CT21: =CS21-$L21 -> 26909.664 | CU21: =CT21-$L21 -> 25115.692 | CV21: =CU21-$L21 -> 23321.719 | ... CY21: =CX21-$L21 -> 17939.802 | CZ21: =IF(BF21<1,0,SUM(CN21:CY21,CJ21)/13*$BG$1) -> 631.48001
A22: ='[1]2021 УГРЦТ'!A25 -> Газотурбинный агрегат ГТА-6РМ №1 | B22: ='[1]2021 УГРЦТ'!B25 -> 00001168 | C22: ='[1]2021 УГРЦТ'!C25 -> ПРОИЗВОДСТВО | D22: ='[1]2021 УГРЦТ'!D25 -> Машины и оборудование (кроме офисного) | E22: ='[1]2021 УГРЦТ'!E25 -> 31.03.2010 | F22: ='[1]2021 УГРЦТ'!F25 -> Газотурбинный цех | G22: ='[1]2021 УГРЦТ'!AC25 -> 180 | H22: ='[1]2021 УГРЦТ'!X25 -> 63489677 | I22: ='[1]2021 УГРЦТ'!Y25 -> #REF! | J22: ='[1]2021 УГРЦТ'!Z25 -> 63489677 | K22: 0 | L22: 0 | N22: =L22*12 -> 0 | O22: =J22-$L22 -> 63489677 | P22: =O22-$L22 -> 63489677 | Q22: =P22-$L22 -> 63489677 | R22: =Q22-$L22 -> 63489677 | S22: =R22-$L22 -> 63489677 | T22: =S22-$L22 -> 63489677 | U22: =T22-$L22 -> 63489677 | V22: =U22-$L22 -> 63489677 | W22: =V22-$L22 -> 63489677 | ... Z22: =Y22-$L22 -> 63489677 | AC22: =L22*12 -> 0 | AD22: =Z22-$L22 -> 63489677 | AE22: =AD22-$L22 -> 63489677 | AF22: =AE22-$L22 -> 63489677 | AG22: =AF22-$L22 -> 63489677 | AH22: =AG22-$L22 -> 63489677 | AI22: =AH22-$L22 -> 63489677 | AJ22: =AI22-$L22 -> 63489677 | AK22: =AJ22-$L22 -> 63489677 | AL22: =AK22-$L22 -> 63489677 | ... AO22: =AN22-$L22 -> 63489677 | AQ22: 0 | AR22: =AN22-AO22 -> 0 | AS22: =AR22-AQ22 -> 0 | AT22: =L22*12 -> 0 | AU22: =AO22-$L22 -> 63489677 | AV22: =AU22-$L22 -> 63489677 | AW22: =AV22-$L22 -> 63489677 | AX22: =AW22-$L22 -> 63489677 | AY22: =AX22-$L22 -> 63489677 | AZ22: =AY22-$L22 -> 63489677 | BA22: =AZ22-$L22 -> 63489677 | BB22: =BA22-$L22 -> 63489677 | BC22: =BB22-$L22 -> 63489677 | ... BF22: =BE22-$L22 -> 63489677 | BG22: =IF(K22<1,0,SUM(AU22:BF22,AO22)/13*$BG$1) -> 0 | BH22: 0 | BI22: =AC22*12 -> 0 | BJ22: =BF22-BH22 -> 63489677 | BK22: =BJ22-$L22 -> 63489677 | BL22: =BK22-$L22 -> 63489677 | BM22: =BL22-$L22 -> 63489677 | BN22: =BM22-$L22 -> 63489677 | BO22: =BN22-$L22 -> 63489677 | BP22: =BO22-$L22 -> 63489677 | BQ22: =BP22-$L22 -> 63489677 | BR22: =BQ22-$L22 -> 63489677 | ... BU22: =BT22-$L22 -> 63489677 | BV22: 0 | BW22: 0 | BX22: =AT22*12 -> 0 | BY22: =BU22-BW22 -> 63489677 | BZ22: =BY22-$L22 -> 63489677 | CA22: =BZ22-$L22 -> 63489677 | CB22: =CA22-$L22 -> 63489677 | CC22: =CB22-$L22 -> 63489677 | CD22: =CC22-$L22 -> 63489677 | CE22: =CD22-$L22 -> 63489677 | CF22: =CE22-$L22 -> 63489677 | CG22: =CF22-$L22 -> 63489677 | ... CJ22: =CI22-$L22 -> 63489677 | CK22: 0 | CL22: 0 | CM22: =BI22*12 -> 0 | CN22: =CJ22-CL22 -> 63489677 | CO22: =CN22-$L22 -> 63489677 | CP22: =CO22-$L22 -> 63489677 | CQ22: =CP22-$L22 -> 63489677 | CR22: =CQ22-$L22 -> 63489677 | CS22: =CR22-$L22 -> 63489677 | CT22: =CS22-$L22 -> 63489677 | CU22: =CT22-$L22 -> 63489677 | CV22: =CU22-$L22 -> 63489677 | ... CY22: =CX22-$L22 -> 63489677 | CZ22: 0
A23: ='[1]2021 УГРЦТ'!A26 -> Газотурбинный агрегат ГТА-6РМ №1 | B23: ='[1]2021 УГРЦТ'!B26 -> #REF! | C23: ='[1]2021 УГРЦТ'!C26 -> ПРОИЗВОДСТВО | D23: ='[1]2021 УГРЦТ'!D26 -> Машины и оборудование (кроме офисного) | E23: ='[1]2021 УГРЦТ'!E26 -> #REF! | F23: ='[1]2021 УГРЦТ'!F26 -> Газотурбинный цех | G23: ='[1]2021 УГРЦТ'!AC26 -> 100 | H23: ='[1]2021 УГРЦТ'!X26 -> 37399701 | I23: ='[1]2021 УГРЦТ'!Y26 -> 29415401 | J23: ='[1]2021 УГРЦТ'!Z26 -> 7984300 | K23: 0 | L23: 80649.5 | N23: =L23*12 -> 967794 | O23: =J23-$L23 -> 7903650.5 | P23: =O23-$L23 -> 7823001 | Q23: =P23-$L23 -> 7742351.5 | R23: =Q23-$L23 -> 7661702 | S23: =R23-$L23 -> 7581052.5 | T23: =S23-$L23 -> 7500403 | U23: =T23-$L23 -> 7419753.5 | V23: =U23-$L23 -> 7339104 | W23: =V23-$L23 -> 7258454.5 | ... Z23: =Y23-$L23 -> 7016506 | AC23: =L23*12 -> 967794 | AD23: =Z23-$L23 -> 6935856.5 | AE23: =AD23-$L23 -> 6855207 | AF23: =AE23-$L23 -> 6774557.5 | AG23: =AF23-$L23 -> 6693908 | AH23: =AG23-$L23 -> 6613258.5 | AI23: =AH23-$L23 -> 6532609 | AJ23: =AI23-$L23 -> 6451959.5 | AK23: =AJ23-$L23 -> 6371310 | AL23: =AK23-$L23 -> 6290660.5 | ... AO23: =AN23-$L23 -> 6048712 | AQ23: 80649.5 | AR23: =AN23-AO23 -> 80649.5 | AS23: =AR23-AQ23 -> 0 | AT23: =L23*12 -> 967794 | AU23: =AO23-$L23 -> 5968062.5 | AV23: =AU23-$L23 -> 5887413 | AW23: =AV23-$L23 -> 5806763.5 | AX23: =AW23-$L23 -> 5726114 | AY23: =AX23-$L23 -> 5645464.5 | AZ23: =AY23-$L23 -> 5564815 | BA23: =AZ23-$L23 -> 5484165.5 | BB23: =BA23-$L23 -> 5403516 | BC23: =BB23-$L23 -> 5322866.5 | ... BF23: =BE23-$L23 -> 5080918 | BG23: =IF(K23<1,0,SUM(AU23:BF23,AO23)/13*$BG$1) -> 0 | BH23: 80649.5 | BI23: =BH23*12 -> 967794 | BJ23: =BF23-BH23 -> 5000268.5 | BK23: =BJ23-$L23 -> 4919619 | BL23: =BK23-$L23 -> 4838969.5 | BM23: =BL23-$L23 -> 4758320 | BN23: =BM23-$L23 -> 4677670.5 | BO23: =BN23-$L23 -> 4597021 | BP23: =BO23-$L23 -> 4516371.5 | BQ23: =BP23-$L23 -> 4435722 | BR23: =BQ23-$L23 -> 4355072.5 | ... BU23: =BT23-$L23 -> 4113124 | BV23: 0 | BW23: 80649.5 | BX23: =BW23*12 -> 967794 | BY23: =BU23-BW23 -> 4032474.5 | BZ23: =BY23-$L23 -> 3951825 | CA23: =BZ23-$L23 -> 3871175.5 | CB23: =CA23-$L23 -> 3790526 | CC23: =CB23-$L23 -> 3709876.5 | CD23: =CC23-$L23 -> 3629227 | CE23: =CD23-$L23 -> 3548577.5 | CF23: =CE23-$L23 -> 3467928 | CG23: =CF23-$L23 -> 3387278.5 | ... CJ23: =CI23-$L23 -> 3145330 | CK23: 0 | CL23: 80649.5 | CM23: =CL23*12 -> 967794 | CN23: =CJ23-CL23 -> 3064680.5 | CO23: =CN23-$L23 -> 2984031 | CP23: =CO23-$L23 -> 2903381.5 | CQ23: =CP23-$L23 -> 2822732 | CR23: =CQ23-$L23 -> 2742082.5 | CS23: =CR23-$L23 -> 2661433 | CT23: =CS23-$L23 -> 2580783.5 | CU23: =CT23-$L23 -> 2500134 | CV23: =CU23-$L23 -> 2419484.5 | ... CY23: =CX23-$L23 -> 2177536 | CZ23: 0
A24: ='[1]2021 УГРЦТ'!A27 -> Газотурбинный агрегат ГТА-6РМ №2 | B24: ='[1]2021 УГРЦТ'!B27 -> 00001169 | C24: ='[1]2021 УГРЦТ'!C27 -> ПРОИЗВОДСТВО | D24: ='[1]2021 УГРЦТ'!D27 -> Машины и оборудование (кроме офисного) | E24: ='[1]2021 УГРЦТ'!E27 -> 31.03.2010 | F24: ='[1]2021 УГРЦТ'!F27 -> Газотурбинный цех | G24: ='[1]2021 УГРЦТ'!AC27 -> 180 | H24: ='[1]2021 УГРЦТ'!X27 -> 63489677 | I24: ='[1]2021 УГРЦТ'!Y27 -> #REF! | J24: ='[1]2021 УГРЦТ'!Z27 -> 63489677 | K24: 0 | L24: 0 | N24: =L24*12 -> 0 | O24: =J24-$L24 -> 63489677 | P24: =O24-$L24 -> 63489677 | Q24: =P24-$L24 -> 63489677 | R24: =Q24-$L24 -> 63489677 | S24: =R24-$L24 -> 63489677 | T24: =S24-$L24 -> 63489677 | U24: =T24-$L24 -> 63489677 | V24: =U24-$L24 -> 63489677 | W24: =V24-$L24 -> 63489677 | ... Z24: =Y24-$L24 -> 63489677 | AC24: =L24*12 -> 0 | AD24: =Z24-$L24 -> 63489677 | AE24: =AD24-$L24 -> 63489677 | AF24: =AE24-$L24 -> 63489677 | AG24: =AF24-$L24 -> 63489677 | AH24: =AG24-$L24 -> 63489677 | AI24: =AH24-$L24 -> 63489677 | AJ24: =AI24-$L24 -> 63489677 | AK24: =AJ24-$L24 -> 63489677 | AL24: =AK24-$L24 -> 63489677 | ... AO24: =AN24-$L24 -> 63489677 | AQ24: 0 | AR24: =AN24-AO24 -> 0 | AS24: =AR24-AQ24 -> 0 | AT24: =L24*12 -> 0 | AU24: =AO24-$L24 -> 63489677 | AV24: =AU24-$L24 -> 63489677 | AW24: =AV24-$L24 -> 63489677 | AX24: =AW24-$L24 -> 63489677 | AY24: =AX24-$L24 -> 63489677 | AZ24: =AY24-$L24 -> 63489677 | BA24: =AZ24-$L24 -> 63489677 | BB24: =BA24-$L24 -> 63489677 | BC24: =BB24-$L24 -> 63489677 | ... BF24: =BE24-$L24 -> 63489677 | BG24: =IF(K24<1,0,SUM(AU24:BF24,AO24)/13*$BG$1) -> 0 | BH24: 0 | BI24: =AC24*12 -> 0 | BJ24: =BF24-BH24 -> 63489677 | BK24: =BJ24-$L24 -> 63489677 | BL24: =BK24-$L24 -> 63489677 | BM24: =BL24-$L24 -> 63489677 | BN24: =BM24-$L24 -> 63489677 | BO24: =BN24-$L24 -> 63489677 | BP24: =BO24-$L24 -> 63489677 | BQ24: =BP24-$L24 -> 63489677 | BR24: =BQ24-$L24 -> 63489677 | ... BU24: =BT24-$L24 -> 63489677 | BV24: 0 | BW24: 0 | BX24: =AT24*12 -> 0 | BY24: =BU24-BW24 -> 63489677 | BZ24: =BY24-$L24 -> 63489677 | CA24: =BZ24-$L24 -> 63489677 | CB24: =CA24-$L24 -> 63489677 | CC24: =CB24-$L24 -> 63489677 | CD24: =CC24-$L24 -> 63489677 | CE24: =CD24-$L24 -> 63489677 | CF24: =CE24-$L24 -> 63489677 | CG24: =CF24-$L24 -> 63489677 | ... CJ24: =CI24-$L24 -> 63489677 | CK24: 0 | CL24: 0 | CM24: =BI24*12 -> 0 | CN24: =CJ24-CL24 -> 63489677 | CO24: =CN24-$L24 -> 63489677 | CP24: =CO24-$L24 -> 63489677 | CQ24: =CP24-$L24 -> 63489677 | CR24: =CQ24-$L24 -> 63489677 | CS24: =CR24-$L24 -> 63489677 | CT24: =CS24-$L24 -> 63489677 | CU24: =CT24-$L24 -> 63489677 | CV24: =CU24-$L24 -> 63489677 | ... CY24: =CX24-$L24 -> 63489677 | CZ24: 0
A25: ='[1]2021 УГРЦТ'!A28 -> Газотурбинный агрегат ГТА-6РМ №2 | B25: ='[1]2021 УГРЦТ'!B28 -> #REF! | C25: ='[1]2021 УГРЦТ'!C28 -> ПРОИЗВОДСТВО | D25: ='[1]2021 УГРЦТ'!D28 -> Машины и оборудование (кроме офисного) | E25: ='[1]2021 УГРЦТ'!E28 -> #REF! | F25: ='[1]2021 УГРЦТ'!F28 -> Газотурбинный цех | G25: ='[1]2021 УГРЦТ'!AC28 -> 100 | H25: ='[1]2021 УГРЦТ'!X28 -> 37399701 | I25: ='[1]2021 УГРЦТ'!Y28 -> 29415401 | J25: ='[1]2021 УГРЦТ'!Z28 -> 7984300 | K25: 0 | L25: 80649.5 | N25: =L25*12 -> 967794 | O25: =J25-$L25 -> 7903650.5 | P25: =O25-$L25 -> 7823001 | Q25: =P25-$L25 -> 7742351.5 | R25: =Q25-$L25 -> 7661702 | S25: =R25-$L25 -> 7581052.5 | T25: =S25-$L25 -> 7500403 | U25: =T25-$L25 -> 7419753.5 | V25: =U25-$L25 -> 7339104 | W25: =V25-$L25 -> 7258454.5 | ... Z25: =Y25-$L25 -> 7016506 | AC25: =L25*12 -> 967794 | AD25: =Z25-$L25 -> 6935856.5 | AE25: =AD25-$L25 -> 6855207 | AF25: =AE25-$L25 -> 6774557.5 | AG25: =AF25-$L25 -> 6693908 | AH25: =AG25-$L25 -> 6613258.5 | AI25: =AH25-$L25 -> 6532609 | AJ25: =AI25-$L25 -> 6451959.5 | AK25: =AJ25-$L25 -> 6371310 | AL25: =AK25-$L25 -> 6290660.5 | ... AO25: =AN25-$L25 -> 6048712 | AQ25: 80649.5 | AR25: =AN25-AO25 -> 80649.5 | AS25: =AR25-AQ25 -> 0 | AT25: =L25*12 -> 967794 | AU25: =AO25-$L25 -> 5968062.5 | AV25: =AU25-$L25 -> 5887413 | AW25: =AV25-$L25 -> 5806763.5 | AX25: =AW25-$L25 -> 5726114 | AY25: =AX25-$L25 -> 5645464.5 | AZ25: =AY25-$L25 -> 5564815 | BA25: =AZ25-$L25 -> 5484165.5 | BB25: =BA25-$L25 -> 5403516 | BC25: =BB25-$L25 -> 5322866.5 | ... BF25: =BE25-$L25 -> 5080918 | BG25: =IF(K25<1,0,SUM(AU25:BF25,AO25)/13*$BG$1) -> 0 | BH25: 80649.5 | BI25: =BH25*12 -> 967794 | BJ25: =BF25-BH25 -> 5000268.5 | BK25: =BJ25-$L25 -> 4919619 | BL25: =BK25-$L25 -> 4838969.5 | BM25: =BL25-$L25 -> 4758320 | BN25: =BM25-$L25 -> 4677670.5 | BO25: =BN25-$L25 -> 4597021 | BP25: =BO25-$L25 -> 4516371.5 | BQ25: =BP25-$L25 -> 4435722 | BR25: =BQ25-$L25 -> 4355072.5 | ... BU25: =BT25-$L25 -> 4113124 | BV25: 0 | BW25: 80649.5 | BX25: =BW25*12 -> 967794 | BY25: =BU25-BW25 -> 4032474.5 | BZ25: =BY25-$L25 -> 3951825 | CA25: =BZ25-$L25 -> 3871175.5 | CB25: =CA25-$L25 -> 3790526 | CC25: =CB25-$L25 -> 3709876.5 | CD25: =CC25-$L25 -> 3629227 | CE25: =CD25-$L25 -> 3548577.5 | CF25: =CE25-$L25 -> 3467928 | CG25: =CF25-$L25 -> 3387278.5 | ... CJ25: =CI25-$L25 -> 3145330 | CK25: 0 | CL25: 80649.5 | CM25: =CL25*12 -> 967794 | CN25: =CJ25-CL25 -> 3064680.5 | CO25: =CN25-$L25 -> 2984031 | CP25: =CO25-$L25 -> 2903381.5 | CQ25: =CP25-$L25 -> 2822732 | CR25: =CQ25-$L25 -> 2742082.5 | CS25: =CR25-$L25 -> 2661433 | CT25: =CS25-$L25 -> 2580783.5 | CU25: =CT25-$L25 -> 2500134 | CV25: =CU25-$L25 -> 2419484.5 | ... CY25: =CX25-$L25 -> 2177536 | CZ25: 0
A26: ='[1]2021 УГРЦТ'!A29 -> Газотурбинный агрегат ГТА-6РМ №3 | B26: ='[1]2021 УГРЦТ'!B29 -> 00001170 | C26: ='[1]2021 УГРЦТ'!C29 -> ПРОИЗВОДСТВО | D26: ='[1]2021 УГРЦТ'!D29 -> Машины и оборудование (кроме офисного) | E26: ='[1]2021 УГРЦТ'!E29 -> 31.03.2010 | F26: ='[1]2021 УГРЦТ'!F29 -> Газотурбинный цех | G26: ='[1]2021 УГРЦТ'!AC29 -> 180 | H26: ='[1]2021 УГРЦТ'!X29 -> 63230670 | I26: ='[1]2021 УГРЦТ'!Y29 -> #REF! | J26: ='[1]2021 УГРЦТ'!Z29 -> 63230670 | K26: 0 | L26: 0 | N26: =L26*12 -> 0 | O26: =J26-$L26 -> 63230670 | P26: =O26-$L26 -> 63230670 | Q26: =P26-$L26 -> 63230670 | R26: =Q26-$L26 -> 63230670 | S26: =R26-$L26 -> 63230670 | T26: =S26-$L26 -> 63230670 | U26: =T26-$L26 -> 63230670 | V26: =U26-$L26 -> 63230670 | W26: =V26-$L26 -> 63230670 | ... Z26: =Y26-$L26 -> 63230670 | AC26: =L26*12 -> 0 | AD26: =Z26-$L26 -> 63230670 | AE26: =AD26-$L26 -> 63230670 | AF26: =AE26-$L26 -> 63230670 | AG26: =AF26-$L26 -> 63230670 | AH26: =AG26-$L26 -> 63230670 | AI26: =AH26-$L26 -> 63230670 | AJ26: =AI26-$L26 -> 63230670 | AK26: =AJ26-$L26 -> 63230670 | AL26: =AK26-$L26 -> 63230670 | ... AO26: =AN26-$L26 -> 63230670 | AQ26: 0 | AR26: =AN26-AO26 -> 0 | AS26: =AR26-AQ26 -> 0 | AT26: =L26*12 -> 0 | AU26: =AO26-$L26 -> 63230670 | AV26: =AU26-$L26 -> 63230670 | AW26: =AV26-$L26 -> 63230670 | AX26: =AW26-$L26 -> 63230670 | AY26: =AX26-$L26 -> 63230670 | AZ26: =AY26-$L26 -> 63230670 | BA26: =AZ26-$L26 -> 63230670 | BB26: =BA26-$L26 -> 63230670 | BC26: =BB26-$L26 -> 63230670 | ... BF26: =BE26-$L26 -> 63230670 | BG26: =IF(K26<1,0,SUM(AU26:BF26,AO26)/13*$BG$1) -> 0 | BH26: 0 | BI26: =AC26*12 -> 0 | BJ26: =BF26-BH26 -> 63230670 | BK26: =BJ26-$L26 -> 63230670 | BL26: =BK26-$L26 -> 63230670 | BM26: =BL26-$L26 -> 63230670 | BN26: =BM26-$L26 -> 63230670 | BO26: =BN26-$L26 -> 63230670 | BP26: =BO26-$L26 -> 63230670 | BQ26: =BP26-$L26 -> 63230670 | BR26: =BQ26-$L26 -> 63230670 | ... BU26: =BT26-$L26 -> 63230670 | BV26: 0 | BW26: 0 | BX26: =AT26*12 -> 0 | BY26: =BU26-BW26 -> 63230670 | BZ26: =BY26-$L26 -> 63230670 | CA26: =BZ26-$L26 -> 63230670 | CB26: =CA26-$L26 -> 63230670 | CC26: =CB26-$L26 -> 63230670 | CD26: =CC26-$L26 -> 63230670 | CE26: =CD26-$L26 -> 63230670 | CF26: =CE26-$L26 -> 63230670 | CG26: =CF26-$L26 -> 63230670 | ... CJ26: =CI26-$L26 -> 63230670 | CK26: 0 | CL26: 0 | CM26: =BI26*12 -> 0 | CN26: =CJ26-CL26 -> 63230670 | CO26: =CN26-$L26 -> 63230670 | CP26: =CO26-$L26 -> 63230670 | CQ26: =CP26-$L26 -> 63230670 | CR26: =CQ26-$L26 -> 63230670 | CS26: =CR26-$L26 -> 63230670 | CT26: =CS26-$L26 -> 63230670 | CU26: =CT26-$L26 -> 63230670 | CV26: =CU26-$L26 -> 63230670 | ... CY26: =CX26-$L26 -> 63230670 | CZ26: 0
