Workbook
Name ACTIVITY: Титульный!$H$25
Name ACTIVITY_ID: Титульный!$N$25
Name ATH_SCHEME: TECHSHEET!$I$3
Name AUTHORIZATION_RANGE: AUTHORIZATION!$A$2:$B$2
Name CONTACTS_MARKER: Титульный!$E$60
Name DICTIONARY_DATA: DICTIONARIES!$B$3:$E$17
Name DICTIONARY_HEADER: DICTIONARIES!$A$1:$E$1
Name EE_PURCHASE_METHOD: Титульный!$H$43
Name EE_PURCHASE_METHOD_LIST: TECHSHEET!$E$12:$E$14
Name FILE_STORE_DATA_RANGE: FILE_STORE_DATA!$B$2:$F$3
Name GEN: Титульный!$H$37
Name GP: Титульный!$H$39
Name INDEPENDENT_SALES: Титульный!$H$41
Name INN: Титульный!$H$20
Name INN_ID: Титульный!$N$20
Name JUSTIFICATION_SAMPLE: Титульный!$H$80
Name JUSTIFICATION_SAMPLE_URL: TECHSHEET!$G$17
Name JUSTIFICATION_URL: Титульный!$H$78
Name KPP: Титульный!$H$21
Name KPP_ID: Титульный!$N$21
Name LastUpdateDate_ORG: Титульный!$E$75
Name LIST_OKOPF_DATA: LIST_OKOPF!$B$3:$B$96
Name LIST_OKOPF_HEADER: LIST_OKOPF!$A$1:$B$1
Name LIST_ORG_EE_DATA: REESTR_ORG!$DR$3:$EI$11
Name LIST_ORG_EE_HEADER: REESTR_ORG!$DQ$1:$EI$1
Name LOGIN: TECHSHEET!$I$1
Name MO_END_DATE: TECHSHEET!$G$14
Name MO_START_DATE: TECHSHEET!$G$13
Name MONTH: Титульный!$H$12
Name MONTH_LIST: TECHSHEET!$L$8:$L$14
Name MONTH_VS_SEQUENCE_LIST: TECHSHEET!$L$2:$M$14
Name NO_JUSTIFICATION_REPORT_TILL_DATE_APR: DICTIONARIES!$C$3:$C$3
Name NO_JUSTIFICATION_REPORT_TILL_DATE_AUG: DICTIONARIES!$C$4:$C$4
Name NO_JUSTIFICATION_REPORT_TILL_DATE_DEC: DICTIONARIES!$C$5:$C$5
Name NO_JUSTIFICATION_REPORT_TILL_DATE_FEB: DICTIONARIES!$C$6:$C$6
Name NO_JUSTIFICATION_REPORT_TILL_DATE_JAN: DICTIONARIES!$C$7:$C$7
Name NO_JUSTIFICATION_REPORT_TILL_DATE_JUL: DICTIONARIES!$C$8:$C$8
Name NO_JUSTIFICATION_REPORT_TILL_DATE_JUN: DICTIONARIES!$C$9:$C$9
Name NO_JUSTIFICATION_REPORT_TILL_DATE_MAR: DICTIONARIES!$C$10:$C$10
Name NO_JUSTIFICATION_REPORT_TILL_DATE_MAY: DICTIONARIES!$C$11:$C$11
Name NO_JUSTIFICATION_REPORT_TILL_DATE_NOV: DICTIONARIES!$C$12:$C$12
Name NO_JUSTIFICATION_REPORT_TILL_DATE_OCT: DICTIONARIES!$C$13:$C$13
Name NO_JUSTIFICATION_REPORT_TILL_DATE_SEP: DICTIONARIES!$C$14:$C$14
Name NO_JUSTIFICATION_REPORT_TILL_DATE_TTL: DICTIONARIES!$C$15:$C$15
Name OBFUSCATED_PASSWORD: TECHSHEET!$I$6
Name OGRN: Титульный!$H$22
Name OKATO: Титульный!$H$35
Name OKPO: Титульный!$H$33
Name OPF: Титульный!$H$23
Name ORG: Титульный!$H$18
Name ORG_DATA_AREA: Титульный!$H$18:$H$21
Name ORG_END_DATE: TECHSHEET!$G$6
Name ORG_START_DATE: TECHSHEET!$G$5
Name PASSWORD: TECHSHEET!$I$2
Name PERIOD: TECHSHEET!$G$2
Name REGION: TECHSHEET!$A$1:$A$86
Name REGION_NAME: Титульный!$H$6
Name REPORT_EXISTENCE_STATUS: DICTIONARIES!$C$16:$C$16
Name REPORT_MONTH_ABSENCE: DICTIONARIES!$C$17:$C$17
Name REPORT_TYPE: Титульный!$H$27

Sheet Инструкция
AA1: (требуется обновление)
B2: Код отчёта: 46EE.STX.EIAS
B3: Версия отчёта: 1.0.3
B5: Cведения о полезном отпуске (продаже) электрической энергии и мощности отдельным категориям потребителей_x000D_ Приказ Росстата: Об утверждении формы от 24.03.2022 № 141
B6: Условные обозначения
E8: A | F8: - предназначенные для заполнения | O8: A | P8: - ссылки и автозаполняемые поля
E9: A | F9: - с формулами и константами | O9: A | P9: - обязательные для заполнения
B11: Работа с реестрами
E12: Если в предложенном Вам списке необходимая организация или наименование отсутствуют, обновите списки с помощью элементов управления на листах. Если после обновления Вам не удалось найти необходимую позицию в списке, обратитесь к ответственному за поддержание реестра Вашего региона либо в Отдел сопровождения пользователей ЕИАС.
B13: Проверка отчёта
E14: • При сохранении отчётной формы осуществляется проверка корректности данных_x000D_ • Для каждого сообщения возможны 2 статуса: ошибка и предупреждение_x000D_ • При наличии сообщений со статусом «Ошибка» файл будет отклонён системой и не будет загружен в хранилище данных, сообщения со статусом «Предупреждение» носят информационный характер, и такой файл будет принят к обработке системой

Sheet Титульный
E3: обновление данных для проверки отчёта
E4: Cведения о полезном отпуске (продаже) электрической энергии и мощности отдельным категориям потребителей | S4: Форма № 46-ЭЭ (полезный отпуск)
E6: Субъект РФ | H6: Ненецкий автономный округ | P6: MANDATORY | S6: Приказ Росстата:_x000D_ Об утверждении формы от 24.03.2022 № 141
H8: Отчётный период | S8: Месячная, годовая
S10: Сроки предоставления: _x000D_ 25 числа после отчётного месяца,_x000D_ 15 февраля - за отчётный год
E11: Год | H11: 2025 | P11: MANDATORY
E12: Месяц | H12: Январь | P12: MANDATORY
S15: Предоставляют: _x000D_ - юридические лица, кроме субъектов малого предпринимательства - поставщики электрической энергии (мощности) оптового и розничного рынков электроэнергии (мощности);_x000D_ - гарантирующие поставщики электрической энергии (мощности);_x000D_ - покупатели - субъекты оптового рынка электроэнергии (мощности);_x000D_ - энергосбытовые и энергоснабжающие организации;_x000D_ - участники оптового рынка электроэнергии (мощности), в отношении которых не приняты балансовые решения_x000D_ Федеральной антимонопольной службе по установленному адресу
E16: RST_ORG_ID
E18: Наименование ЮЛ / ИП | H18: ГУП НАО "Нарьян-Марская электростанция" | P18: MANDATORY
E20: ИНН | H20: 8300010188 | P20: MANDATORY
E21: КПП | H21: 298301001 | P21: MANDATORY
E22: ОГРН | H22: 1028301647241 | P22: MANDATORY
E23: Организационно-правовая форма | H23: 6 52 42 | Государственные унитарные предприятия субъектов Российской Федерации | P23: MANDATORY
E25: Вид(-ы) деятельности | H25: РСО :: ГП :: Некомбинированная выработка | P25: MANDATORY
E27: Тип отчёта | H27: В целом по организации | P27: MANDATORY
E29: Наименование обособленного подразделения | P29: =IF(H27="По обособленному подразделению","MANDATORY","OPTIONAL") -> OPTIONAL
E33: Код по ОКПО | H33: 41409296 | P33: MANDATORY | S33: ОКПО - Общероссийский Классификатор Предприятий и Организаций
E35: ОКАТО | H35: 11851000 | P35: MANDATORY | S35: ОКАТО - Общероссийский Классификатор Административно-Территориальных Образований
E37: Генерирующая компания | H37: Да | P37: MANDATORY
E39: Гарантирующий поставщик | H39: Да | P39: MANDATORY
E41: Независимый сбыт | H41: Нет | P41: MANDATORY | S41: ="(на территории: "&IF(REGION_NAME="","субъект Российской Федерации не выбран",REGION_NAME)&")" -> (на территории: Ненецкий автономный округ)
E43: Способ приобретения электроэнергии | H43: от ГП первого уровня | P43: MANDATORY
E45: Система налогообложения | H45: ОСН | P45: MANDATORY | S45: ОСН - общая система налогообложения_x000D_ УСН - упрощенная система налогообложения_x000D_ ПСН - патентная система налогообложения_x000D_ ЕНВД - вмененная система налогообложения или единый налог на вмененный доход_x000D_ ЕСХН - единый сельскохозяйственный налог
E60: Контактные данные
E62: Адрес организации | F62: Юридический | H62: г.Нарьян-Мар, ул. 60 лет Октября д.37 | P62: MANDATORY
F63: Почтовый | H63: г.Нарьян-Мар, ул. 60 лет Октября д.37 | P63: MANDATORY
E64: Руководитель | F64: ФИО | H64: Сенокосов Евгений Юрьевич | P64: MANDATORY
F65: Контактный телефон | H65: (81853) 2-30-70 | P65: MANDATORY
E66: Главный бухгалтер | F66: ФИО | H66: Чупрова Елена Валерьевна | P66: MANDATORY
F67: Контактный телефон | H67: (81853) 4-97-50 | P67: MANDATORY
E68: Должностное лицо, ответственное за составление формы | F68: ФИО | H68: Чендемерова Алена Ивановна | P68: MANDATORY
F69: Должность | H69: Заместитель директора по экономике | P69: MANDATORY
F70: Контактный телефон | H70: (81853) 2-30-72 | P70: MANDATORY
F71: e-mail | H71: a.chendemerova@nm-energy.ru | P71: MANDATORY
E75: Дата последнего обновления реестра организаций: 24.08.2022, 14:50:01
E78: Если срок представления отчёта за период истёк, необходимо указать URL-ссылку на пояснительную записку (документ) | S78: URL-ссылку на пояснительную записку (документ) необходимо указывать только в случае, если срок представления отчёта за период истёк
E80: Образец пояснительной записки (документа) можно скачать по ссылке | H80: =HYPERLINK("http://eias.fas.gov.ru/files/46ee.stx.eias.justification.rtf","Загрузить") -> Загрузить

Sheet Раздел I. А
F1: 1PC | G1: 1PC | H1: 1PC | I1: 1PC | J1: 1PC | K1: 1PC | L1: 1PC | M1: 1PC | N1: 1PC | O1: 1PC | P1: 1PC | Q1: 1PC | R1: 1PC | S1: 1PC | T1: 2PC | U1: 2PC | V1: 2PC | W1: 2PC | X1: 2PC | Y1: 2PC | Z1: 2PC | AA1: 2PC | AB1: 2PC | AC1: 2PC | AD1: 2PC | AE1: 2PC | AF1: 2PC | AG1: 2PC | AH1: 35PC | AI1: 35PC | AJ1: 35PC | AK1: 35PC | AL1: 35PC | AM1: 35PC | AN1: 35PC | AO1: 35PC | AP1: 35PC | AQ1: 35PC | AR1: 35PC | AS1: 35PC | AT1: 35PC | AU1: 35PC | AV1: 35PC | AW1: 35PC | AX1: 35PC | AY1: 35PC | AZ1: 35PC | BA1: 35PC | BB1: 35PC | BC1: 35PC | BD1: 35PC | BE1: 35PC | BF1: 35PC | BG1: 35PC | BH1: 35PC | BI1: 35PC | BJ1: 46PC | BK1: 46PC | BL1: 46PC | BM1: 46PC | BN1: 46PC | BO1: 46PC | BP1: 46PC | BQ1: 46PC | BR1: 46PC | BS1: 46PC | BT1: 46PC | BU1: 46PC | BV1: 46PC | BW1: 46PC | BX1: 46PC | BY1: 46PC | BZ1: 46PC | CA1: 46PC | CB1: 46PC | CC1: 46PC | CD1: 46PC | CE1: 46PC | CF1: 46PC | CG1: 46PC | CH1: 46PC | CI1: 46PC | CJ1: 46PC | CK1: 46PC | CL1: 46PC | CM1: 46PC | CN1: 46PC | CO1: 46PC | CP1: 46PC | CQ1: 46PC | CR1: 46PC | CS1: 46PC | CT1: 46PC | CU1: 46PC | CV1: 46PC | CW1: 46PC | CX1: 46PC | CY1: 46PC
F2: TTL | G2: HV | H2: AV1 | I2: AV2 | J2: LV | K2: FSK | L2: GV | M2: TTL | N2: HV | O2: AV1 | P2: AV2 | Q2: LV | R2: FSK | S2: GV | T2: TTL | U2: HV | V2: AV1 | W2: AV2 | X2: LV | Y2: FSK | Z2: GV | AA2: TTL | AB2: HV | AC2: AV1 | AD2: AV2 | AE2: LV | AF2: FSK | AG2: GV | AH2: TTL | AI2: HV | AJ2: AV1 | AK2: AV2 | AL2: LV | AM2: FSK | AN2: GV | AO2: TTL | AP2: HV | AQ2: AV1 | AR2: AV2 | AS2: LV | AT2: FSK | AU2: GV | AV2: TTL | AW2: HV | AX2: AV1 | AY2: AV2 | AZ2: LV | BA2: FSK | BB2: GV | BC2: TTL | BD2: HV | BE2: AV1 | BF2: AV2 | BG2: LV | BH2: FSK | BI2: GV | BJ2: TTL | BK2: HV | BL2: AV1 | BM2: AV2 | BN2: LV | BO2: FSK | BP2: GV | BQ2: TTL | BR2: HV | BS2: AV1 | BT2: AV2 | BU2: LV | BV2: FSK | BW2: GV | BX2: TTL | BY2: HV | BZ2: AV1 | CA2: AV2 | CB2: LV | CC2: FSK | CD2: GV | CE2: TTL | CF2: HV | CG2: AV1 | CH2: AV2 | CI2: LV | CJ2: FSK | CK2: GV | CL2: TTL | CM2: HV | CN2: AV1 | CO2: AV2 | CP2: LV | CQ2: FSK | CR2: GV | CS2: TTL | CT2: HV | CU2: AV1 | CV2: AV2 | CW2: LV | CX2: FSK | CY2: GV
D8: Раздел I. Полезный отпуск электроэнергии и мощности, реализуемой по нерегулируемым ценам в ценовых зонах оптового рынка и по регулируемым ценам (тарифа) в неценовых зонах ОРЭ
D9: А. Полезный отпуск электроэнергии и мощности, реализуемой по нерегулируемым (в ценовых зонах ОРЭ) и по регулируемым (в неценовых зонах ОРЭ) ценам по договорам энергоснабжения
D10: =IF(ORG="","Не определено",ORG) -> ГУП НАО "Нарьян-Марская электростанция" | CY10: Коды по ОКЕИ: 1000 киловатт-часов – 245, мегаватт – 215, тысяча рублей – 384
D11: * Постановление Правительства Российской Федерации от 26 ноября 2021 г. №2062 | M11: без НДС | AA11: без НДС | AO11: без НДС | BC11: без НДС | BQ11: без НДС | CE11: без НДС | CS11: без НДС
D12: Потребители | E12: Код строки | F12: 1 ценовая категория | T12: 2 ценовая категория | AH12: 3 и 5 ценовые категории | AV12: 3 и 5 ценовые категории | BJ12: 4 и 6 ценовые категории | BX12: 4 и 6 ценовые категории | CL12: 4 и 6 ценовые категории
F13: Объём электрической энергии (мощности) потребителей за отчётный месяц (год) | M13: Стоимость электрической энергии (мощности) потребителей за отчётный месяц (год) | T13: Объём электрической энергии (мощности) потребителей за отчётный месяц (год) | AA13: Стоимость электрической энергии (мощности) потребителей за отчётный месяц (год) | AH13: Объём электрической энергии потребителей за отчётный месяц (год) | AO13: Стоимость электрической энергии потребителей за отчётный месяц (год) | AV13: Объём электрической мощности за отчётный месяц (год) | BC13: Стоимость электрической мощности за отчётный месяц (год) | BJ13: Объём электрической энергии потребителей за отчётный месяц (год) | BQ13: Стоимость электрической энергии потребителей за отчётный месяц (год) | BX13: Объём электрической мощности за отчётный месяц (год) | CE13: Стоимость электрической мощности за отчётный месяц (год) | CL13: Объём мощности услуг по передаче электроэнергии потребителей за отчётный месяц (год) | CS13: Стоимость мощности услуг по передаче электроэнергии потребителей за отчётный месяц (год)
F14: всего | G14: в том числе: | M14: всего | N14: в том числе: | T14: всего | U14: в том числе: | AA14: всего | AB14: в том числе: | AH14: всего | AI14: в том числе: | AO14: всего | AP14: в том числе: | AV14: всего | AW14: в том числе: | BC14: всего | BD14: в том числе: | BJ14: всего | BK14: в том числе: | BQ14: всего | BR14: в том числе: | BX14: всего | BY14: в том числе: | CE14: всего | CF14: в том числе: | CL14: всего | CM14: в том числе: | CS14: всего | CT14: в том числе:
G15: ВН | H15: СН1 | I15: СН2 | J15: НН | K15: ФСК | L15: ГН | N15: ВН | O15: СН1 | P15: СН2 | Q15: НН | R15: ФСК | S15: ГН | U15: ВН | V15: СН1 | W15: СН2 | X15: НН | Y15: ФСК | Z15: ГН | AB15: ВН | AC15: СН1 | AD15: СН2 | AE15: НН | AF15: ФСК | AG15: ГН | AI15: ВН | AJ15: СН1 | AK15: СН2 | AL15: НН | AM15: ФСК | AN15: ГН | AP15: ВН | AQ15: СН1 | AR15: СН2 | AS15: НН | AT15: ФСК | AU15: ГН | AW15: ВН | AX15: СН1 | AY15: СН2 | AZ15: НН | BA15: ФСК | BB15: ГН | BD15: ВН | BE15: СН1 | BF15: СН2 | BG15: НН | BH15: ФСК | BI15: ГН | BK15: ВН | BL15: СН1 | BM15: СН2 | BN15: НН | BO15: ФСК | BP15: ГН | BR15: ВН | BS15: СН1 | BT15: СН2 | BU15: НН | BV15: ФСК | BW15: ГН | BY15: ВН | BZ15: СН1 | CA15: СН2 | CB15: НН | CC15: ФСК | CD15: ГН | CF15: ВН | CG15: СН1 | CH15: СН2 | CI15: НН | CJ15: ФСК | CK15: ГН | CM15: ВН | CN15: СН1 | CO15: СН2 | CP15: НН | CQ15: ФСК | CR15: ГН | CT15: ВН | CU15: СН1 | CV15: СН2 | CW15: НН | CX15: ФСК | CY15: ГН
F16: тыс.кВтч | G16: тыс.кВтч | H16: тыс.кВтч | I16: тыс.кВтч | J16: тыс.кВтч | K16: тыс.кВтч | L16: тыс.кВтч | M16: тыс.руб. | N16: тыс.руб. | O16: тыс.руб. | P16: тыс.руб. | Q16: тыс.руб. | R16: тыс.руб. | S16: тыс.руб. | T16: тыс.кВтч | U16: тыс.кВтч | V16: тыс.кВтч | W16: тыс.кВтч | X16: тыс.кВтч | Y16: тыс.кВтч | Z16: тыс.кВтч | AA16: тыс.руб. | AB16: тыс.руб. | AC16: тыс.руб. | AD16: тыс.руб. | AE16: тыс.руб. | AF16: тыс.руб. | AG16: тыс.руб. | AH16: тыс.кВтч | AI16: тыс.кВтч | AJ16: тыс.кВтч | AK16: тыс.кВтч | AL16: тыс.кВтч | AM16: тыс.кВтч | AN16: тыс.кВтч | AO16: тыс.руб. | AP16: тыс.руб. | AQ16: тыс.руб. | AR16: тыс.руб. | AS16: тыс.руб. | AT16: тыс.руб. | AU16: тыс.руб. | AV16: МВт | AW16: МВт | AX16: МВт | AY16: МВт | AZ16: МВт | BA16: МВт | BB16: МВт | BC16: тыс.руб. | BD16: тыс.руб. | BE16: тыс.руб. | BF16: тыс.руб. | BG16: тыс.руб. | BH16: тыс.руб. | BI16: тыс.руб. | BJ16: тыс.кВтч | BK16: тыс.кВтч | BL16: тыс.кВтч | BM16: тыс.кВтч | BN16: тыс.кВтч | BO16: тыс.кВтч | BP16: тыс.кВтч | BQ16: тыс.руб. | BR16: тыс.руб. | BS16: тыс.руб. | BT16: тыс.руб. | BU16: тыс.руб. | BV16: тыс.руб. | BW16: тыс.руб. | BX16: МВт | BY16: МВт | BZ16: МВт | CA16: МВт | CB16: МВт | CC16: МВт | CD16: МВт | CE16: тыс.руб. | CF16: тыс.руб. | CG16: тыс.руб. | CH16: тыс.руб. | CI16: тыс.руб. | CJ16: тыс.руб. | CK16: тыс.руб. | CL16: МВт | CM16: МВт | CN16: МВт | CO16: МВт | CP16: МВт | CQ16: МВт | CR16: МВт | CS16: тыс.руб. | CT16: тыс.руб. | CU16: тыс.руб. | CV16: тыс.руб. | CW16: тыс.руб. | CX16: тыс.руб. | CY16: тыс.руб.
D17: 1 | E17: 2 | F17: 3 | G17: 4 | H17: 5 | I17: 6 | J17: 7 | K17: 8 | L17: 9 | M17: 10 | N17: 11 | O17: 12 | P17: 13 | Q17: 14 | R17: 15 | S17: 16 | T17: 17 | U17: 18 | V17: 19 | W17: 20 | X17: 21 | Y17: 22 | Z17: 23 | AA17: 24 | AB17: 25 | AC17: 26 | AD17: 27 | AE17: 28 | AF17: 29 | AG17: 30 | AH17: 31 | AI17: 32 | AJ17: 33 | AK17: 34 | AL17: 35 | AM17: 36 | AN17: 37 | AO17: 38 | AP17: 39 | AQ17: 40 | AR17: 41 | AS17: 42 | AT17: 43 | AU17: 44 | AV17: 45 | AW17: 46 | AX17: 47 | AY17: 48 | AZ17: 49 | BA17: 50 | BB17: 51 | BC17: 52 | BD17: 53 | BE17: 54 | BF17: 55 | BG17: 56 | BH17: 57 | BI17: 58 | BJ17: 59 | BK17: 60 | BL17: 61 | BM17: 62 | BN17: 63 | BO17: 64 | BP17: 65 | BQ17: 66 | BR17: 67 | BS17: 68 | BT17: 69 | BU17: 70 | BV17: 71 | BW17: 72 | BX17: 73 | BY17: 74 | BZ17: 75 | CA17: 76 | CB17: 77 | CC17: 78 | CD17: 79 | CE17: 80 | CF17: 81 | CG17: 82 | CH17: 83 | CI17: 84 | CJ17: 85 | CK17: 86 | CL17: 87 | CM17: 88 | CN17: 89 | CO17: 90 | CP17: 91 | CQ17: 92 | CR17: 93 | CS17: 94 | CT17: 95 | CU17: 96 | CV17: 97 | CW17: 98 | CX17: 99 | CY17: 100
D18: Поставка электрической энергии гарантирующим поставщиком потребителям (покупателям), функционирующим в зоне деятельности данного ГП | E18: 100 | F18: =SUM(G18:L18) -> 0 | G18: =SUM(G19,G37,G55) -> 0 | H18: =SUM(H19,H37,H55) -> 0 | I18: =SUM(I19,I37,I55) -> 0 | J18: =SUM(J19,J37,J55) -> 0 | K18: =SUM(K19,K37,K55) -> 0 | L18: =SUM(L19,L37,L55) -> 0 | M18: =SUM(N18:S18) -> 0 | N18: =SUM(N19,N37,N55) -> 0 | O18: =SUM(O19,O37,O55) -> 0 | P18: =SUM(P19,P37,P55) -> 0 | Q18: =SUM(Q19,Q37,Q55) -> 0 | R18: =SUM(R19,R37,R55) -> 0 | S18: =SUM(S19,S37,S55) -> 0 | T18: =SUM(U18:Z18) -> 0 | U18: =SUM(U19,U37,U55) -> 0 | V18: =SUM(V19,V37,V55) -> 0 | W18: =SUM(W19,W37,W55) -> 0 | X18: =SUM(X19,X37,X55) -> 0 | Y18: =SUM(Y19,Y37,Y55) -> 0 | Z18: =SUM(Z19,Z37,Z55) -> 0 | AA18: =SUM(AB18:AG18) -> 0 | AB18: =SUM(AB19,AB37,AB55) -> 0 | AC18: =SUM(AC19,AC37,AC55) -> 0 | AD18: =SUM(AD19,AD37,AD55) -> 0 | AE18: =SUM(AE19,AE37,AE55) -> 0 | AF18: =SUM(AF19,AF37,AF55) -> 0 | AG18: =SUM(AG19,AG37,AG55) -> 0 | AH18: =SUM(AI18:AN18) -> 0 | AI18: =SUM(AI19,AI37,AI55) -> 0 | AJ18: =SUM(AJ19,AJ37,AJ55) -> 0 | AK18: =SUM(AK19,AK37,AK55) -> 0 | AL18: =SUM(AL19,AL37,AL55) -> 0 | AM18: =SUM(AM19,AM37,AM55) -> 0 | AN18: =SUM(AN19,AN37,AN55) -> 0 | AO18: =SUM(AP18:AU18) -> 0 | AP18: =SUM(AP19,AP37,AP55) -> 0 | AQ18: =SUM(AQ19,AQ37,AQ55) -> 0 | AR18: =SUM(AR19,AR37,AR55) -> 0 | AS18: =SUM(AS19,AS37,AS55) -> 0 | AT18: =SUM(AT19,AT37,AT55) -> 0 | AU18: =SUM(AU19,AU37,AU55) -> 0 | AV18: =SUM(AW18:BB18) -> 0 | AW18: =SUM(AW19,AW37,AW55) -> 0 | AX18: =SUM(AX19,AX37,AX55) -> 0 | AY18: =SUM(AY19,AY37,AY55) -> 0 | AZ18: =SUM(AZ19,AZ37,AZ55) -> 0 | BA18: =SUM(BA19,BA37,BA55) -> 0 | BB18: =SUM(BB19,BB37,BB55) -> 0 | BC18: =SUM(BD18:BI18) -> 0 | BD18: =SUM(BD19,BD37,BD55) -> 0 | BE18: =SUM(BE19,BE37,BE55) -> 0 | BF18: =SUM(BF19,BF37,BF55) -> 0 | BG18: =SUM(BG19,BG37,BG55) -> 0 | BH18: =SUM(BH19,BH37,BH55) -> 0 | BI18: =SUM(BI19,BI37,BI55) -> 0 | BJ18: =SUM(BK18:BP18) -> 0 | BK18: =SUM(BK19,BK37,BK55) -> 0 | BL18: =SUM(BL19,BL37,BL55) -> 0 | BM18: =SUM(BM19,BM37,BM55) -> 0 | BN18: =SUM(BN19,BN37,BN55) -> 0 | BO18: =SUM(BO19,BO37,BO55) -> 0 | BP18: =SUM(BP19,BP37,BP55) -> 0 | BQ18: =SUM(BR18:BW18) -> 0 | BR18: =SUM(BR19,BR37,BR55) -> 0 | BS18: =SUM(BS19,BS37,BS55) -> 0 | BT18: =SUM(BT19,BT37,BT55) -> 0 | BU18: =SUM(BU19,BU37,BU55) -> 0 | BV18: =SUM(BV19,BV37,BV55) -> 0 | BW18: =SUM(BW19,BW37,BW55) -> 0 | BX18: =SUM(BY18:CD18) -> 0 | BY18: =SUM(BY19,BY37,BY55) -> 0 | BZ18: =SUM(BZ19,BZ37,BZ55) -> 0 | CA18: =SUM(CA19,CA37,CA55) -> 0 | CB18: =SUM(CB19,CB37,CB55) -> 0 | CC18: =SUM(CC19,CC37,CC55) -> 0 | CD18: =SUM(CD19,CD37,CD55) -> 0 | CE18: =SUM(CF18:CK18) -> 0 | CF18: =SUM(CF19,CF37,CF55) -> 0 | CG18: =SUM(CG19,CG37,CG55) -> 0 | CH18: =SUM(CH19,CH37,CH55) -> 0 | CI18: =SUM(CI19,CI37,CI55) -> 0 | CJ18: =SUM(CJ19,CJ37,CJ55) -> 0 | CK18: =SUM(CK19,CK37,CK55) -> 0 | CL18: =SUM(CM18:CR18) -> 0 | CM18: =SUM(CM19,CM37,CM55) -> 0 | CN18: =SUM(CN19,CN37,CN55) -> 0 | CO18: =SUM(CO19,CO37,CO55) -> 0 | CP18: =SUM(CP19,CP37,CP55) -> 0 | CQ18: =SUM(CQ19,CQ37,CQ55) -> 0 | CR18: =SUM(CR19,CR37,CR55) -> 0 | CS18: =SUM(CT18:CY18) -> 0 | CT18: =SUM(CT19,CT37,CT55) -> 0 | CU18: =SUM(CU19,CU37,CU55) -> 0 | CV18: =SUM(CV19,CV37,CV55) -> 0 | CW18: =SUM(CW19,CW37,CW55) -> 0 | CX18: =SUM(CX19,CX37,CX55) -> 0 | CY18: =SUM(CY19,CY37,CY55) -> 0
D19: Потребители с максимальной мощностью принадлежащих им энергопринимающих устройств не менее 10 МВт | E19: 200 | F19: =SUM(G19:L19) -> 0 | G19: =SUM(G20,G30:G36) -> 0 | H19: =SUM(H20,H30:H36) -> 0 | I19: =SUM(I20,I30:I36) -> 0 | J19: =SUM(J20,J30:J36) -> 0 | K19: =SUM(K20,K30:K36) -> 0 | L19: =SUM(L20,L30:L36) -> 0 | M19: =SUM(N19:S19) -> 0 | N19: =SUM(N20,N30:N36) -> 0 | O19: =SUM(O20,O30:O36) -> 0 | P19: =SUM(P20,P30:P36) -> 0 | Q19: =SUM(Q20,Q30:Q36) -> 0 | R19: =SUM(R20,R30:R36) -> 0 | S19: =SUM(S20,S30:S36) -> 0 | T19: =SUM(U19:Z19) -> 0 | U19: =SUM(U20,U30:U36) -> 0 | V19: =SUM(V20,V30:V36) -> 0 | W19: =SUM(W20,W30:W36) -> 0 | X19: =SUM(X20,X30:X36) -> 0 | Y19: =SUM(Y20,Y30:Y36) -> 0 | Z19: =SUM(Z20,Z30:Z36) -> 0 | AA19: =SUM(AB19:AG19) -> 0 | AB19: =SUM(AB20,AB30:AB36) -> 0 | AC19: =SUM(AC20,AC30:AC36) -> 0 | AD19: =SUM(AD20,AD30:AD36) -> 0 | AE19: =SUM(AE20,AE30:AE36) -> 0 | AF19: =SUM(AF20,AF30:AF36) -> 0 | AG19: =SUM(AG20,AG30:AG36) -> 0 | AH19: =SUM(AI19:AN19) -> 0 | AI19: =SUM(AI20,AI30:AI36) -> 0 | AJ19: =SUM(AJ20,AJ30:AJ36) -> 0 | AK19: =SUM(AK20,AK30:AK36) -> 0 | AL19: =SUM(AL20,AL30:AL36) -> 0 | AM19: =SUM(AM20,AM30:AM36) -> 0 | AN19: =SUM(AN20,AN30:AN36) -> 0 | AO19: =SUM(AP19:AU19) -> 0 | AP19: =SUM(AP20,AP30:AP36) -> 0 | AQ19: =SUM(AQ20,AQ30:AQ36) -> 0 | AR19: =SUM(AR20,AR30:AR36) -> 0 | AS19: =SUM(AS20,AS30:AS36) -> 0 | AT19: =SUM(AT20,AT30:AT36) -> 0 | AU19: =SUM(AU20,AU30:AU36) -> 0 | AV19: =SUM(AW19:BB19) -> 0 | AW19: =SUM(AW20,AW30:AW36) -> 0 | AX19: =SUM(AX20,AX30:AX36) -> 0 | AY19: =SUM(AY20,AY30:AY36) -> 0 | AZ19: =SUM(AZ20,AZ30:AZ36) -> 0 | BA19: =SUM(BA20,BA30:BA36) -> 0 | BB19: =SUM(BB20,BB30:BB36) -> 0 | BC19: =SUM(BD19:BI19) -> 0 | BD19: =SUM(BD20,BD30:BD36) -> 0 | BE19: =SUM(BE20,BE30:BE36) -> 0 | BF19: =SUM(BF20,BF30:BF36) -> 0 | BG19: =SUM(BG20,BG30:BG36) -> 0 | BH19: =SUM(BH20,BH30:BH36) -> 0 | BI19: =SUM(BI20,BI30:BI36) -> 0 | BJ19: =SUM(BK19:BP19) -> 0 | BK19: =SUM(BK20,BK30:BK36) -> 0 | BL19: =SUM(BL20,BL30:BL36) -> 0 | BM19: =SUM(BM20,BM30:BM36) -> 0 | BN19: =SUM(BN20,BN30:BN36) -> 0 | BO19: =SUM(BO20,BO30:BO36) -> 0 | BP19: =SUM(BP20,BP30:BP36) -> 0 | BQ19: =SUM(BR19:BW19) -> 0 | BR19: =SUM(BR20,BR30:BR36) -> 0 | BS19: =SUM(BS20,BS30:BS36) -> 0 | BT19: =SUM(BT20,BT30:BT36) -> 0 | BU19: =SUM(BU20,BU30:BU36) -> 0 | BV19: =SUM(BV20,BV30:BV36) -> 0 | BW19: =SUM(BW20,BW30:BW36) -> 0 | BX19: =SUM(BY19:CD19) -> 0 | BY19: =SUM(BY20,BY30:BY36) -> 0 | BZ19: =SUM(BZ20,BZ30:BZ36) -> 0 | CA19: =SUM(CA20,CA30:CA36) -> 0 | CB19: =SUM(CB20,CB30:CB36) -> 0 | CC19: =SUM(CC20,CC30:CC36) -> 0 | CD19: =SUM(CD20,CD30:CD36) -> 0 | CE19: =SUM(CF19:CK19) -> 0 | CF19: =SUM(CF20,CF30:CF36) -> 0 | CG19: =SUM(CG20,CG30:CG36) -> 0 | CH19: =SUM(CH20,CH30:CH36) -> 0 | CI19: =SUM(CI20,CI30:CI36) -> 0 | CJ19: =SUM(CJ20,CJ30:CJ36) -> 0 | CK19: =SUM(CK20,CK30:CK36) -> 0 | CL19: =SUM(CM19:CR19) -> 0 | CM19: =SUM(CM20,CM30:CM36) -> 0 | CN19: =SUM(CN20,CN30:CN36) -> 0 | CO19: =SUM(CO20,CO30:CO36) -> 0 | CP19: =SUM(CP20,CP30:CP36) -> 0 | CQ19: =SUM(CQ20,CQ30:CQ36) -> 0 | CR19: =SUM(CR20,CR30:CR36) -> 0 | CS19: =SUM(CT19:CY19) -> 0 | CT19: =SUM(CT20,CT30:CT36) -> 0 | CU19: =SUM(CU20,CU30:CU36) -> 0 | CV19: =SUM(CV20,CV30:CV36) -> 0 | CW19: =SUM(CW20,CW30:CW36) -> 0 | CX19: =SUM(CX20,CX30:CX36) -> 0 | CY19: =SUM(CY20,CY30:CY36) -> 0
D20: Потребители электрической энергии (мощности) на территории Дальневосточного федерального округа, в отношении которых осуществляется доведение цен (тарифов) на электрическую энергию (мощность) до базовых уровней цен (тарифов) на электрическую энергию (мощность) | E20: 210 | F20: =SUM(G20:L20) -> 0 | G20: =SUM(G21:G29) -> 0 | H20: =SUM(H21:H29) -> 0 | I20: =SUM(I21:I29) -> 0 | J20: =SUM(J21:J29) -> 0 | K20: =SUM(K21:K29) -> 0 | L20: =SUM(L21:L29) -> 0 | M20: =SUM(N20:S20) -> 0 | N20: =SUM(N21:N29) -> 0 | O20: =SUM(O21:O29) -> 0 | P20: =SUM(P21:P29) -> 0 | Q20: =SUM(Q21:Q29) -> 0 | R20: =SUM(R21:R29) -> 0 | S20: =SUM(S21:S29) -> 0 | T20: =SUM(U20:Z20) -> 0 | U20: =SUM(U21:U29) -> 0 | V20: =SUM(V21:V29) -> 0 | W20: =SUM(W21:W29) -> 0 | X20: =SUM(X21:X29) -> 0 | Y20: =SUM(Y21:Y29) -> 0 | Z20: =SUM(Z21:Z29) -> 0 | AA20: =SUM(AB20:AG20) -> 0 | AB20: =SUM(AB21:AB29) -> 0 | AC20: =SUM(AC21:AC29) -> 0 | AD20: =SUM(AD21:AD29) -> 0 | AE20: =SUM(AE21:AE29) -> 0 | AF20: =SUM(AF21:AF29) -> 0 | AG20: =SUM(AG21:AG29) -> 0 | AH20: =SUM(AI20:AN20) -> 0 | AI20: =SUM(AI21:AI29) -> 0 | AJ20: =SUM(AJ21:AJ29) -> 0 | AK20: =SUM(AK21:AK29) -> 0 | AL20: =SUM(AL21:AL29) -> 0 | AM20: =SUM(AM21:AM29) -> 0 | AN20: =SUM(AN21:AN29) -> 0 | AO20: =SUM(AP20:AU20) -> 0 | AP20: =SUM(AP21:AP29) -> 0 | AQ20: =SUM(AQ21:AQ29) -> 0 | AR20: =SUM(AR21:AR29) -> 0 | AS20: =SUM(AS21:AS29) -> 0 | AT20: =SUM(AT21:AT29) -> 0 | AU20: =SUM(AU21:AU29) -> 0 | AV20: =SUM(AW20:BB20) -> 0 | AW20: =SUM(AW21:AW29) -> 0 | AX20: =SUM(AX21:AX29) -> 0 | AY20: =SUM(AY21:AY29) -> 0 | AZ20: =SUM(AZ21:AZ29) -> 0 | BA20: =SUM(BA21:BA29) -> 0 | BB20: =SUM(BB21:BB29) -> 0 | BC20: =SUM(BD20:BI20) -> 0 | BD20: =SUM(BD21:BD29) -> 0 | BE20: =SUM(BE21:BE29) -> 0 | BF20: =SUM(BF21:BF29) -> 0 | BG20: =SUM(BG21:BG29) -> 0 | BH20: =SUM(BH21:BH29) -> 0 | BI20: =SUM(BI21:BI29) -> 0 | BJ20: =SUM(BK20:BP20) -> 0 | BK20: =SUM(BK21:BK29) -> 0 | BL20: =SUM(BL21:BL29) -> 0 | BM20: =SUM(BM21:BM29) -> 0 | BN20: =SUM(BN21:BN29) -> 0 | BO20: =SUM(BO21:BO29) -> 0 | BP20: =SUM(BP21:BP29) -> 0 | BQ20: =SUM(BR20:BW20) -> 0 | BR20: =SUM(BR21:BR29) -> 0 | BS20: =SUM(BS21:BS29) -> 0 | BT20: =SUM(BT21:BT29) -> 0 | BU20: =SUM(BU21:BU29) -> 0 | BV20: =SUM(BV21:BV29) -> 0 | BW20: =SUM(BW21:BW29) -> 0 | BX20: =SUM(BY20:CD20) -> 0 | BY20: =SUM(BY21:BY29) -> 0 | BZ20: =SUM(BZ21:BZ29) -> 0 | CA20: =SUM(CA21:CA29) -> 0 | CB20: =SUM(CB21:CB29) -> 0 | CC20: =SUM(CC21:CC29) -> 0 | CD20: =SUM(CD21:CD29) -> 0 | CE20: =SUM(CF20:CK20) -> 0 | CF20: =SUM(CF21:CF29) -> 0 | CG20: =SUM(CG21:CG29) -> 0 | CH20: =SUM(CH21:CH29) -> 0 | CI20: =SUM(CI21:CI29) -> 0 | CJ20: =SUM(CJ21:CJ29) -> 0 | CK20: =SUM(CK21:CK29) -> 0 | CL20: =SUM(CM20:CR20) -> 0 | CM20: =SUM(CM21:CM29) -> 0 | CN20: =SUM(CN21:CN29) -> 0 | CO20: =SUM(CO21:CO29) -> 0 | CP20: =SUM(CP21:CP29) -> 0 | CQ20: =SUM(CQ21:CQ29) -> 0 | CR20: =SUM(CR21:CR29) -> 0 | CS20: =SUM(CT20:CY20) -> 0 | CT20: =SUM(CT21:CT29) -> 0 | CU20: =SUM(CU21:CU29) -> 0 | CV20: =SUM(CV21:CV29) -> 0 | CW20: =SUM(CW21:CW29) -> 0 | CX20: =SUM(CX21:CX29) -> 0 | CY20: =SUM(CY21:CY29) -> 0
D21: Потребители, указанные в пункте 1 критериев, утверждённых Постановлением * | E21: 211 | F21: =SUM(G21:L21) -> 0 | M21: =SUM(N21:S21) -> 0 | T21: =SUM(U21:Z21) -> 0 | AA21: =SUM(AB21:AG21) -> 0 | AH21: =SUM(AI21:AN21) -> 0 | AO21: =SUM(AP21:AU21) -> 0 | AV21: =SUM(AW21:BB21) -> 0 | BC21: =SUM(BD21:BI21) -> 0 | BJ21: =SUM(BK21:BP21) -> 0 | BQ21: =SUM(BR21:BW21) -> 0 | BX21: =SUM(BY21:CD21) -> 0 | CE21: =SUM(CF21:CK21) -> 0 | CL21: =SUM(CM21:CR21) -> 0 | CS21: =SUM(CT21:CY21) -> 0
D22: Потребители, указанные в пункте 2 критериев, утверждённых Постановлением * | E22: 212 | F22: =SUM(G22:L22) -> 0 | M22: =SUM(N22:S22) -> 0 | T22: =SUM(U22:Z22) -> 0 | AA22: =SUM(AB22:AG22) -> 0 | AH22: =SUM(AI22:AN22) -> 0 | AO22: =SUM(AP22:AU22) -> 0 | AV22: =SUM(AW22:BB22) -> 0 | BC22: =SUM(BD22:BI22) -> 0 | BJ22: =SUM(BK22:BP22) -> 0 | BQ22: =SUM(BR22:BW22) -> 0 | BX22: =SUM(BY22:CD22) -> 0 | CE22: =SUM(CF22:CK22) -> 0 | CL22: =SUM(CM22:CR22) -> 0 | CS22: =SUM(CT22:CY22) -> 0
D23: Потребители, указанные в пункте 3 критериев, утверждённых Постановлением * | E23: 213 | F23: =SUM(G23:L23) -> 0 | M23: =SUM(N23:S23) -> 0 | T23: =SUM(U23:Z23) -> 0 | AA23: =SUM(AB23:AG23) -> 0 | AH23: =SUM(AI23:AN23) -> 0 | AO23: =SUM(AP23:AU23) -> 0 | AV23: =SUM(AW23:BB23) -> 0 | BC23: =SUM(BD23:BI23) -> 0 | BJ23: =SUM(BK23:BP23) -> 0 | BQ23: =SUM(BR23:BW23) -> 0 | BX23: =SUM(BY23:CD23) -> 0 | CE23: =SUM(CF23:CK23) -> 0 | CL23: =SUM(CM23:CR23) -> 0 | CS23: =SUM(CT23:CY23) -> 0
D24: Потребители, указанные в пункте 4 критериев, утверждённых Постановлением * | E24: 214 | F24: =SUM(G24:L24) -> 0 | M24: =SUM(N24:S24) -> 0 | T24: =SUM(U24:Z24) -> 0 | AA24: =SUM(AB24:AG24) -> 0 | AH24: =SUM(AI24:AN24) -> 0 | AO24: =SUM(AP24:AU24) -> 0 | AV24: =SUM(AW24:BB24) -> 0 | BC24: =SUM(BD24:BI24) -> 0 | BJ24: =SUM(BK24:BP24) -> 0 | BQ24: =SUM(BR24:BW24) -> 0 | BX24: =SUM(BY24:CD24) -> 0 | CE24: =SUM(CF24:CK24) -> 0 | CL24: =SUM(CM24:CR24) -> 0 | CS24: =SUM(CT24:CY24) -> 0
D25: Потребители, указанные в пункте 5 критериев, утверждённых Постановлением * | E25: 215 | F25: =SUM(G25:L25) -> 0 | M25: =SUM(N25:S25) -> 0 | T25: =SUM(U25:Z25) -> 0 | AA25: =SUM(AB25:AG25) -> 0 | AH25: =SUM(AI25:AN25) -> 0 | AO25: =SUM(AP25:AU25) -> 0 | AV25: =SUM(AW25:BB25) -> 0 | BC25: =SUM(BD25:BI25) -> 0 | BJ25: =SUM(BK25:BP25) -> 0 | BQ25: =SUM(BR25:BW25) -> 0 | BX25: =SUM(BY25:CD25) -> 0 | CE25: =SUM(CF25:CK25) -> 0 | CL25: =SUM(CM25:CR25) -> 0 | CS25: =SUM(CT25:CY25) -> 0
D26: Потребители, указанные в пункте 6 критериев, утверждённых Постановлением * | E26: 216 | F26: =SUM(G26:L26) -> 0 | M26: =SUM(N26:S26) -> 0 | T26: =SUM(U26:Z26) -> 0 | AA26: =SUM(AB26:AG26) -> 0 | AH26: =SUM(AI26:AN26) -> 0 | AO26: =SUM(AP26:AU26) -> 0 | AV26: =SUM(AW26:BB26) -> 0 | BC26: =SUM(BD26:BI26) -> 0 | BJ26: =SUM(BK26:BP26) -> 0 | BQ26: =SUM(BR26:BW26) -> 0 | BX26: =SUM(BY26:CD26) -> 0 | CE26: =SUM(CF26:CK26) -> 0 | CL26: =SUM(CM26:CR26) -> 0 | CS26: =SUM(CT26:CY26) -> 0
D27: Потребители, указанные в пункте 7 критериев, утверждённых Постановлением * | E27: 217 | F27: =SUM(G27:L27) -> 0 | M27: =SUM(N27:S27) -> 0 | T27: =SUM(U27:Z27) -> 0 | AA27: =SUM(AB27:AG27) -> 0 | AH27: =SUM(AI27:AN27) -> 0 | AO27: =SUM(AP27:AU27) -> 0 | AV27: =SUM(AW27:BB27) -> 0 | BC27: =SUM(BD27:BI27) -> 0 | BJ27: =SUM(BK27:BP27) -> 0 | BQ27: =SUM(BR27:BW27) -> 0 | BX27: =SUM(BY27:CD27) -> 0 | CE27: =SUM(CF27:CK27) -> 0 | CL27: =SUM(CM27:CR27) -> 0 | CS27: =SUM(CT27:CY27) -> 0
D28: Потребители, указанные в пункте 8 критериев, утверждённых Постановлением * | E28: 218 | F28: =SUM(G28:L28) -> 0 | M28: =SUM(N28:S28) -> 0 | T28: =SUM(U28:Z28) -> 0 | AA28: =SUM(AB28:AG28) -> 0 | AH28: =SUM(AI28:AN28) -> 0 | AO28: =SUM(AP28:AU28) -> 0 | AV28: =SUM(AW28:BB28) -> 0 | BC28: =SUM(BD28:BI28) -> 0 | BJ28: =SUM(BK28:BP28) -> 0 | BQ28: =SUM(BR28:BW28) -> 0 | BX28: =SUM(BY28:CD28) -> 0 | CE28: =SUM(CF28:CK28) -> 0 | CL28: =SUM(CM28:CR28) -> 0 | CS28: =SUM(CT28:CY28) -> 0
D29: Потребители, указанные в пункте 9 критериев, утверждённых Постановлением * | E29: 219 | F29: =SUM(G29:L29) -> 0 | M29: =SUM(N29:S29) -> 0 | T29: =SUM(U29:Z29) -> 0 | AA29: =SUM(AB29:AG29) -> 0 | AH29: =SUM(AI29:AN29) -> 0 | AO29: =SUM(AP29:AU29) -> 0 | AV29: =SUM(AW29:BB29) -> 0 | BC29: =SUM(BD29:BI29) -> 0 | BJ29: =SUM(BK29:BP29) -> 0 | BQ29: =SUM(BR29:BW29) -> 0 | BX29: =SUM(BY29:CD29) -> 0 | CE29: =SUM(CF29:CK29) -> 0 | CL29: =SUM(CM29:CR29) -> 0 | CS29: =SUM(CT29:CY29) -> 0
D30: Промышленные и приравненные к ним потребители | E30: 220 | F30: =SUM(G30:L30) -> 0 | M30: =SUM(N30:S30) -> 0 | T30: =SUM(U30:Z30) -> 0 | AA30: =SUM(AB30:AG30) -> 0 | AH30: =SUM(AI30:AN30) -> 0 | AO30: =SUM(AP30:AU30) -> 0 | AV30: =SUM(AW30:BB30) -> 0 | BC30: =SUM(BD30:BI30) -> 0 | BJ30: =SUM(BK30:BP30) -> 0 | BQ30: =SUM(BR30:BW30) -> 0 | BX30: =SUM(BY30:CD30) -> 0 | CE30: =SUM(CF30:CK30) -> 0 | CL30: =SUM(CM30:CR30) -> 0 | CS30: =SUM(CT30:CY30) -> 0
D31: Электрифицированный железнодорожный транспорт | E31: 230 | F31: =SUM(G31:L31) -> 0 | M31: =SUM(N31:S31) -> 0 | T31: =SUM(U31:Z31) -> 0 | AA31: =SUM(AB31:AG31) -> 0 | AH31: =SUM(AI31:AN31) -> 0 | AO31: =SUM(AP31:AU31) -> 0 | AV31: =SUM(AW31:BB31) -> 0 | BC31: =SUM(BD31:BI31) -> 0 | BJ31: =SUM(BK31:BP31) -> 0 | BQ31: =SUM(BR31:BW31) -> 0 | BX31: =SUM(BY31:CD31) -> 0 | CE31: =SUM(CF31:CK31) -> 0 | CL31: =SUM(CM31:CR31) -> 0 | CS31: =SUM(CT31:CY31) -> 0
D32: Электрифицированный городской транспорт | E32: 240 | F32: =SUM(G32:L32) -> 0 | M32: =SUM(N32:S32) -> 0 | T32: =SUM(U32:Z32) -> 0 | AA32: =SUM(AB32:AG32) -> 0 | AH32: =SUM(AI32:AN32) -> 0 | AO32: =SUM(AP32:AU32) -> 0 | AV32: =SUM(AW32:BB32) -> 0 | BC32: =SUM(BD32:BI32) -> 0 | BJ32: =SUM(BK32:BP32) -> 0 | BQ32: =SUM(BR32:BW32) -> 0 | BX32: =SUM(BY32:CD32) -> 0 | CE32: =SUM(CF32:CK32) -> 0 | CL32: =SUM(CM32:CR32) -> 0 | CS32: =SUM(CT32:CY32) -> 0
... D36: Иные потребители (покупатели) | E36: 280 | F36: =SUM(G36:L36) -> 0 | M36: =SUM(N36:S36) -> 0 | T36: =SUM(U36:Z36) -> 0 | AA36: =SUM(AB36:AG36) -> 0 | AH36: =SUM(AI36:AN36) -> 0 | AO36: =SUM(AP36:AU36) -> 0 | AV36: =SUM(AW36:BB36) -> 0 | BC36: =SUM(BD36:BI36) -> 0 | BJ36: =SUM(BK36:BP36) -> 0 | BQ36: =SUM(BR36:BW36) -> 0 | BX36: =SUM(BY36:CD36) -> 0 | CE36: =SUM(CF36:CK36) -> 0 | CL36: =SUM(CM36:CR36) -> 0 | CS36: =SUM(CT36:CY36) -> 0
D37: Потребители с максимальной мощностью принадлежащих им энергопринимающих устройств от 670 кВт до 10 МВт | E37: 300 | F37: =SUM(G37:L37) -> 0 | G37: =SUM(G38,G48:G54) -> 0 | H37: =SUM(H38,H48:H54) -> 0 | I37: =SUM(I38,I48:I54) -> 0 | J37: =SUM(J38,J48:J54) -> 0 | K37: =SUM(K38,K48:K54) -> 0 | L37: =SUM(L38,L48:L54) -> 0 | M37: =SUM(N37:S37) -> 0 | N37: =SUM(N38,N48:N54) -> 0 | O37: =SUM(O38,O48:O54) -> 0 | P37: =SUM(P38,P48:P54) -> 0 | Q37: =SUM(Q38,Q48:Q54) -> 0 | R37: =SUM(R38,R48:R54) -> 0 | S37: =SUM(S38,S48:S54) -> 0 | T37: =SUM(U37:Z37) -> 0 | U37: =SUM(U38,U48:U54) -> 0 | V37: =SUM(V38,V48:V54) -> 0 | W37: =SUM(W38,W48:W54) -> 0 | X37: =SUM(X38,X48:X54) -> 0 | Y37: =SUM(Y38,Y48:Y54) -> 0 | Z37: =SUM(Z38,Z48:Z54) -> 0 | AA37: =SUM(AB37:AG37) -> 0 | AB37: =SUM(AB38,AB48:AB54) -> 0 | AC37: =SUM(AC38,AC48:AC54) -> 0 | AD37: =SUM(AD38,AD48:AD54) -> 0 | AE37: =SUM(AE38,AE48:AE54) -> 0 | AF37: =SUM(AF38,AF48:AF54) -> 0 | AG37: =SUM(AG38,AG48:AG54) -> 0 | AH37: =SUM(AI37:AN37) -> 0 | AI37: =SUM(AI38,AI48:AI54) -> 0 | AJ37: =SUM(AJ38,AJ48:AJ54) -> 0 | AK37: =SUM(AK38,AK48:AK54) -> 0 | AL37: =SUM(AL38,AL48:AL54) -> 0 | AM37: =SUM(AM38,AM48:AM54) -> 0 | AN37: =SUM(AN38,AN48:AN54) -> 0 | AO37: =SUM(AP37:AU37) -> 0 | AP37: =SUM(AP38,AP48:AP54) -> 0 | AQ37: =SUM(AQ38,AQ48:AQ54) -> 0 | AR37: =SUM(AR38,AR48:AR54) -> 0 | AS37: =SUM(AS38,AS48:AS54) -> 0 | AT37: =SUM(AT38,AT48:AT54) -> 0 | AU37: =SUM(AU38,AU48:AU54) -> 0 | AV37: =SUM(AW37:BB37) -> 0 | AW37: =SUM(AW38,AW48:AW54) -> 0 | AX37: =SUM(AX38,AX48:AX54) -> 0 | AY37: =SUM(AY38,AY48:AY54) -> 0 | AZ37: =SUM(AZ38,AZ48:AZ54) -> 0 | BA37: =SUM(BA38,BA48:BA54) -> 0 | BB37: =SUM(BB38,BB48:BB54) -> 0 | BC37: =SUM(BD37:BI37) -> 0 | BD37: =SUM(BD38,BD48:BD54) -> 0 | BE37: =SUM(BE38,BE48:BE54) -> 0 | BF37: =SUM(BF38,BF48:BF54) -> 0 | BG37: =SUM(BG38,BG48:BG54) -> 0 | BH37: =SUM(BH38,BH48:BH54) -> 0 | BI37: =SUM(BI38,BI48:BI54) -> 0 | BJ37: =SUM(BK37:BP37) -> 0 | BK37: =SUM(BK38,BK48:BK54) -> 0 | BL37: =SUM(BL38,BL48:BL54) -> 0 | BM37: =SUM(BM38,BM48:BM54) -> 0 | BN37: =SUM(BN38,BN48:BN54) -> 0 | BO37: =SUM(BO38,BO48:BO54) -> 0 | BP37: =SUM(BP38,BP48:BP54) -> 0 | BQ37: =SUM(BR37:BW37) -> 0 | BR37: =SUM(BR38,BR48:BR54) -> 0 | BS37: =SUM(BS38,BS48:BS54) -> 0 | BT37: =SUM(BT38,BT48:BT54) -> 0 | BU37: =SUM(BU38,BU48:BU54) -> 0 | BV37: =SUM(BV38,BV48:BV54) -> 0 | BW37: =SUM(BW38,BW48:BW54) -> 0 | BX37: =SUM(BY37:CD37) -> 0 | BY37: =SUM(BY38,BY48:BY54) -> 0 | BZ37: =SUM(BZ38,BZ48:BZ54) -> 0 | CA37: =SUM(CA38,CA48:CA54) -> 0 | CB37: =SUM(CB38,CB48:CB54) -> 0 | CC37: =SUM(CC38,CC48:CC54) -> 0 | CD37: =SUM(CD38,CD48:CD54) -> 0 | CE37: =SUM(CF37:CK37) -> 0 | CF37: =SUM(CF38,CF48:CF54) -> 0 | CG37: =SUM(CG38,CG48:CG54) -> 0 | CH37: =SUM(CH38,CH48:CH54) -> 0 | CI37: =SUM(CI38,CI48:CI54) -> 0 | CJ37: =SUM(CJ38,CJ48:CJ54) -> 0 | CK37: =SUM(CK38,CK48:CK54) -> 0 | CL37: =SUM(CM37:CR37) -> 0 | CM37: =SUM(CM38,CM48:CM54) -> 0 | CN37: =SUM(CN38,CN48:CN54) -> 0 | CO37: =SUM(CO38,CO48:CO54) -> 0 | CP37: =SUM(CP38,CP48:CP54) -> 0 | CQ37: =SUM(CQ38,CQ48:CQ54) -> 0 | CR37: =SUM(CR38,CR48:CR54) -> 0 | CS37: =SUM(CT37:CY37) -> 0 | CT37: =SUM(CT38,CT48:CT54) -> 0 | CU37: =SUM(CU38,CU48:CU54) -> 0 | CV37: =SUM(CV38,CV48:CV54) -> 0 | CW37: =SUM(CW38,CW48:CW54) -> 0 | CX37: =SUM(CX38,CX48:CX54) -> 0 | CY37: =SUM(CY38,CY48:CY54) -> 0
D38: Потребители электрической энергии (мощности) на территории Дальневосточного федерального округа, в отношении которых осуществляется доведение цен (тарифов) на электрическую энергию (мощность) до базовых уровней цен (тарифов) на электрическую энергию (мощность) | E38: 310 | F38: =SUM(G38:L38) -> 0 | G38: =SUM(G39:G47) -> 0 | H38: =SUM(H39:H47) -> 0 | I38: =SUM(I39:I47) -> 0 | J38: =SUM(J39:J47) -> 0 | K38: =SUM(K39:K47) -> 0 | L38: =SUM(L39:L47) -> 0 | M38: =SUM(N38:S38) -> 0 | N38: =SUM(N39:N47) -> 0 | O38: =SUM(O39:O47) -> 0 | P38: =SUM(P39:P47) -> 0 | Q38: =SUM(Q39:Q47) -> 0 | R38: =SUM(R39:R47) -> 0 | S38: =SUM(S39:S47) -> 0 | T38: =SUM(U38:Z38) -> 0 | U38: =SUM(U39:U47) -> 0 | V38: =SUM(V39:V47) -> 0 | W38: =SUM(W39:W47) -> 0 | X38: =SUM(X39:X47) -> 0 | Y38: =SUM(Y39:Y47) -> 0 | Z38: =SUM(Z39:Z47) -> 0 | AA38: =SUM(AB38:AG38) -> 0 | AB38: =SUM(AB39:AB47) -> 0 | AC38: =SUM(AC39:AC47) -> 0 | AD38: =SUM(AD39:AD47) -> 0 | AE38: =SUM(AE39:AE47) -> 0 | AF38: =SUM(AF39:AF47) -> 0 | AG38: =SUM(AG39:AG47) -> 0 | AH38: =SUM(AI38:AN38) -> 0 | AI38: =SUM(AI39:AI47) -> 0 | AJ38: =SUM(AJ39:AJ47) -> 0 | AK38: =SUM(AK39:AK47) -> 0 | AL38: =SUM(AL39:AL47) -> 0 | AM38: =SUM(AM39:AM47) -> 0 | AN38: =SUM(AN39:AN47) -> 0 | AO38: =SUM(AP38:AU38) -> 0 | AP38: =SUM(AP39:AP47) -> 0 | AQ38: =SUM(AQ39:AQ47) -> 0 | AR38: =SUM(AR39:AR47) -> 0 | AS38: =SUM(AS39:AS47) -> 0 | AT38: =SUM(AT39:AT47) -> 0 | AU38: =SUM(AU39:AU47) -> 0 | AV38: =SUM(AW38:BB38) -> 0 | AW38: =SUM(AW39:AW47) -> 0 | AX38: =SUM(AX39:AX47) -> 0 | AY38: =SUM(AY39:AY47) -> 0 | AZ38: =SUM(AZ39:AZ47) -> 0 | BA38: =SUM(BA39:BA47) -> 0 | BB38: =SUM(BB39:BB47) -> 0 | BC38: =SUM(BD38:BI38) -> 0 | BD38: =SUM(BD39:BD47) -> 0 | BE38: =SUM(BE39:BE47) -> 0 | BF38: =SUM(BF39:BF47) -> 0 | BG38: =SUM(BG39:BG47) -> 0 | BH38: =SUM(BH39:BH47) -> 0 | BI38: =SUM(BI39:BI47) -> 0 | BJ38: =SUM(BK38:BP38) -> 0 | BK38: =SUM(BK39:BK47) -> 0 | BL38: =SUM(BL39:BL47) -> 0 | BM38: =SUM(BM39:BM47) -> 0 | BN38: =SUM(BN39:BN47) -> 0 | BO38: =SUM(BO39:BO47) -> 0 | BP38: =SUM(BP39:BP47) -> 0 | BQ38: =SUM(BR38:BW38) -> 0 | BR38: =SUM(BR39:BR47) -> 0 | BS38: =SUM(BS39:BS47) -> 0 | BT38: =SUM(BT39:BT47) -> 0 | BU38: =SUM(BU39:BU47) -> 0 | BV38: =SUM(BV39:BV47) -> 0 | BW38: =SUM(BW39:BW47) -> 0 | BX38: =SUM(BY38:CD38) -> 0 | BY38: =SUM(BY39:BY47) -> 0 | BZ38: =SUM(BZ39:BZ47) -> 0 | CA38: =SUM(CA39:CA47) -> 0 | CB38: =SUM(CB39:CB47) -> 0 | CC38: =SUM(CC39:CC47) -> 0 | CD38: =SUM(CD39:CD47) -> 0 | CE38: =SUM(CF38:CK38) -> 0 | CF38: =SUM(CF39:CF47) -> 0 | CG38: =SUM(CG39:CG47) -> 0 | CH38: =SUM(CH39:CH47) -> 0 | CI38: =SUM(CI39:CI47) -> 0 | CJ38: =SUM(CJ39:CJ47) -> 0 | CK38: =SUM(CK39:CK47) -> 0 | CL38: =SUM(CM38:CR38) -> 0 | CM38: =SUM(CM39:CM47) -> 0 | CN38: =SUM(CN39:CN47) -> 0 | CO38: =SUM(CO39:CO47) -> 0 | CP38: =SUM(CP39:CP47) -> 0 | CQ38: =SUM(CQ39:CQ47) -> 0 | CR38: =SUM(CR39:CR47) -> 0 | CS38: =SUM(CT38:CY38) -> 0 | CT38: =SUM(CT39:CT47) -> 0 | CU38: =SUM(CU39:CU47) -> 0 | CV38: =SUM(CV39:CV47) -> 0 | CW38: =SUM(CW39:CW47) -> 0 | CX38: =SUM(CX39:CX47) -> 0 | CY38: =SUM(CY39:CY47) -> 0
D39: Потребители, указанные в пункте 1 критериев, утверждённых Постановлением * | E39: 311 | F39: =SUM(G39:L39) -> 0 | M39: =SUM(N39:S39) -> 0 | T39: =SUM(U39:Z39) -> 0 | AA39: =SUM(AB39:AG39) -> 0 | AH39: =SUM(AI39:AN39) -> 0 | AO39: =SUM(AP39:AU39) -> 0 | AV39: =SUM(AW39:BB39) -> 0 | BC39: =SUM(BD39:BI39) -> 0 | BJ39: =SUM(BK39:BP39) -> 0 | BQ39: =SUM(BR39:BW39) -> 0 | BX39: =SUM(BY39:CD39) -> 0 | CE39: =SUM(CF39:CK39) -> 0 | CL39: =SUM(CM39:CR39) -> 0 | CS39: =SUM(CT39:CY39) -> 0
D40: Потребители, указанные в пункте 2 критериев, утверждённых Постановлением * | E40: 312 | F40: =SUM(G40:L40) -> 0 | M40: =SUM(N40:S40) -> 0 | T40: =SUM(U40:Z40) -> 0 | AA40: =SUM(AB40:AG40) -> 0 | AH40: =SUM(AI40:AN40) -> 0 | AO40: =SUM(AP40:AU40) -> 0 | AV40: =SUM(AW40:BB40) -> 0 | BC40: =SUM(BD40:BI40) -> 0 | BJ40: =SUM(BK40:BP40) -> 0 | BQ40: =SUM(BR40:BW40) -> 0 | BX40: =SUM(BY40:CD40) -> 0 | CE40: =SUM(CF40:CK40) -> 0 | CL40: =SUM(CM40:CR40) -> 0 | CS40: =SUM(CT40:CY40) -> 0
D41: Потребители, указанные в пункте 3 критериев, утверждённых Постановлением * | E41: 313 | F41: =SUM(G41:L41) -> 0 | M41: =SUM(N41:S41) -> 0 | T41: =SUM(U41:Z41) -> 0 | AA41: =SUM(AB41:AG41) -> 0 | AH41: =SUM(AI41:AN41) -> 0 | AO41: =SUM(AP41:AU41) -> 0 | AV41: =SUM(AW41:BB41) -> 0 | BC41: =SUM(BD41:BI41) -> 0 | BJ41: =SUM(BK41:BP41) -> 0 | BQ41: =SUM(BR41:BW41) -> 0 | BX41: =SUM(BY41:CD41) -> 0 | CE41: =SUM(CF41:CK41) -> 0 | CL41: =SUM(CM41:CR41) -> 0 | CS41: =SUM(CT41:CY41) -> 0
D42: Потребители, указанные в пункте 4 критериев, утверждённых Постановлением * | E42: 314 | F42: =SUM(G42:L42) -> 0 | M42: =SUM(N42:S42) -> 0 | T42: =SUM(U42:Z42) -> 0 | AA42: =SUM(AB42:AG42) -> 0 | AH42: =SUM(AI42:AN42) -> 0 | AO42: =SUM(AP42:AU42) -> 0 | AV42: =SUM(AW42:BB42) -> 0 | BC42: =SUM(BD42:BI42) -> 0 | BJ42: =SUM(BK42:BP42) -> 0 | BQ42: =SUM(BR42:BW42) -> 0 | BX42: =SUM(BY42:CD42) -> 0 | CE42: =SUM(CF42:CK42) -> 0 | CL42: =SUM(CM42:CR42) -> 0 | CS42: =SUM(CT42:CY42) -> 0
D43: Потребители, указанные в пункте 5 критериев, утверждённых Постановлением * | E43: 315 | F43: =SUM(G43:L43) -> 0 | M43: =SUM(N43:S43) -> 0 | T43: =SUM(U43:Z43) -> 0 | AA43: =SUM(AB43:AG43) -> 0 | AH43: =SUM(AI43:AN43) -> 0 | AO43: =SUM(AP43:AU43) -> 0 | AV43: =SUM(AW43:BB43) -> 0 | BC43: =SUM(BD43:BI43) -> 0 | BJ43: =SUM(BK43:BP43) -> 0 | BQ43: =SUM(BR43:BW43) -> 0 | BX43: =SUM(BY43:CD43) -> 0 | CE43: =SUM(CF43:CK43) -> 0 | CL43: =SUM(CM43:CR43) -> 0 | CS43: =SUM(CT43:CY43) -> 0
D44: Потребители, указанные в пункте 6 критериев, утверждённых Постановлением * | E44: 316 | F44: =SUM(G44:L44) -> 0 | M44: =SUM(N44:S44) -> 0 | T44: =SUM(U44:Z44) -> 0 | AA44: =SUM(AB44:AG44) -> 0 | AH44: =SUM(AI44:AN44) -> 0 | AO44: =SUM(AP44:AU44) -> 0 | AV44: =SUM(AW44:BB44) -> 0 | BC44: =SUM(BD44:BI44) -> 0 | BJ44: =SUM(BK44:BP44) -> 0 | BQ44: =SUM(BR44:BW44) -> 0 | BX44: =SUM(BY44:CD44) -> 0 | CE44: =SUM(CF44:CK44) -> 0 | CL44: =SUM(CM44:CR44) -> 0 | CS44: =SUM(CT44:CY44) -> 0
D45: Потребители, указанные в пункте 7 критериев, утверждённых Постановлением * | E45: 317 | F45: =SUM(G45:L45) -> 0 | M45: =SUM(N45:S45) -> 0 | T45: =SUM(U45:Z45) -> 0 | AA45: =SUM(AB45:AG45) -> 0 | AH45: =SUM(AI45:AN45) -> 0 | AO45: =SUM(AP45:AU45) -> 0 | AV45: =SUM(AW45:BB45) -> 0 | BC45: =SUM(BD45:BI45) -> 0 | BJ45: =SUM(BK45:BP45) -> 0 | BQ45: =SUM(BR45:BW45) -> 0 | BX45: =SUM(BY45:CD45) -> 0 | CE45: =SUM(CF45:CK45) -> 0 | CL45: =SUM(CM45:CR45) -> 0 | CS45: =SUM(CT45:CY45) -> 0
D46: Потребители, указанные в пункте 8 критериев, утверждённых Постановлением * | E46: 318 | F46: =SUM(G46:L46) -> 0 | M46: =SUM(N46:S46) -> 0 | T46: =SUM(U46:Z46) -> 0 | AA46: =SUM(AB46:AG46) -> 0 | AH46: =SUM(AI46:AN46) -> 0 | AO46: =SUM(AP46:AU46) -> 0 | AV46: =SUM(AW46:BB46) -> 0 | BC46: =SUM(BD46:BI46) -> 0 | BJ46: =SUM(BK46:BP46) -> 0 | BQ46: =SUM(BR46:BW46) -> 0 | BX46: =SUM(BY46:CD46) -> 0 | CE46: =SUM(CF46:CK46) -> 0 | CL46: =SUM(CM46:CR46) -> 0 | CS46: =SUM(CT46:CY46) -> 0
D47: Потребители, указанные в пункте 9 критериев, утверждённых Постановлением * | E47: 319 | F47: =SUM(G47:L47) -> 0 | M47: =SUM(N47:S47) -> 0 | T47: =SUM(U47:Z47) -> 0 | AA47: =SUM(AB47:AG47) -> 0 | AH47: =SUM(AI47:AN47) -> 0 | AO47: =SUM(AP47:AU47) -> 0 | AV47: =SUM(AW47:BB47) -> 0 | BC47: =SUM(BD47:BI47) -> 0 | BJ47: =SUM(BK47:BP47) -> 0 | BQ47: =SUM(BR47:BW47) -> 0 | BX47: =SUM(BY47:CD47) -> 0 | CE47: =SUM(CF47:CK47) -> 0 | CL47: =SUM(CM47:CR47) -> 0 | CS47: =SUM(CT47:CY47) -> 0
D48: Промышленные и приравненные к ним потребители | E48: 320 | F48: =SUM(G48:L48) -> 0 | M48: =SUM(N48:S48) -> 0 | T48: =SUM(U48:Z48) -> 0 | AA48: =SUM(AB48:AG48) -> 0 | AH48: =SUM(AI48:AN48) -> 0 | AO48: =SUM(AP48:AU48) -> 0 | AV48: =SUM(AW48:BB48) -> 0 | BC48: =SUM(BD48:BI48) -> 0 | BJ48: =SUM(BK48:BP48) -> 0 | BQ48: =SUM(BR48:BW48) -> 0 | BX48: =SUM(BY48:CD48) -> 0 | CE48: =SUM(CF48:CK48) -> 0 | CL48: =SUM(CM48:CR48) -> 0 | CS48: =SUM(CT48:CY48) -> 0
...

Sheet Раздел I. Б
F1: 1PC | G1: 1PC | H1: 2PC | I1: 2PC | J1: 34PC | K1: 34PC | L1: 34PC | M1: 34PC | N1: 56PC | O1: 56PC | P1: 56PC | Q1: 56PC
D8: Раздел I. Полезный отпуск электроэнергии и мощности, реализуемой по нерегулируемым ценам
D9: Б. Полезный отпуск электроэнергии и мощности, реализуемой по нерегулируемым (в ценовых зонах ОРЭ) и по регулируемым (в неценовых зонах ОРЭ) ценам по договорам купли-продажи
D10: =IF(ORG="","Не определено",ORG) -> ГУП НАО "Нарьян-Марская электростанция" | Q10: Коды по ОКЕИ: 1000 киловатт-часов – 245, мегаватт – 215, тысяча рублей – 384
D11: * Постановление Правительства Российской Федерации от 26 ноября 2021 г. №2062 | G11: без НДС | I11: без НДС | K11: без НДС | M11: без НДС | O11: без НДС | Q11: без НДС
D12: Потребители | E12: Код строки | F12: 1 ценовая категория | H12: 2 ценовая категория | J12: 3 и 4 ценовые категории | L12: 3 и 4 ценовые категории | N12: 5 и 6 ценовые категории | P12: 5 и 6 ценовые категории
F13: Объём электрической энергии (мощности) потребителей за отчётный месяц (год) | G13: Стоимость электрической энергии (мощности) потребителей за отчётный месяц (год) | H13: Объём электрической энергии (мощности) потребителей за отчётный месяц (год) | I13: Стоимость электрической энергии (мощности) потребителей за отчётный месяц (год) | J13: Объём электрической энергии потребителей за отчётный месяц (год) | K13: Стоимость электрической энергии потребителей за отчётный месяц (год) | L13: Объём электрической мощности за отчётный месяц (год) | M13: Стоимость электрической мощности за отчётный месяц (год) | N13: Объём электрической энергии потребителей за отчётный месяц (год) | O13: Стоимость электрической энергии потребителей за отчётный месяц (год) | P13: Объём электрической мощности за отчётный месяц (год) | Q13: Стоимость электрической мощности за отчётный месяц (год)
F16: тыс.кВтч | G16: тыс.руб. | H16: тыс.кВтч | I16: тыс.руб. | J16: тыс.кВтч | K16: тыс.руб. | L16: МВт | M16: тыс.руб. | N16: тыс.кВтч | O16: тыс.руб. | P16: МВт | Q16: тыс.руб.
D17: 1 | E17: 2 | F17: 3 | G17: 4 | H17: 5 | I17: 6 | J17: 7 | K17: 8 | L17: 9 | M17: 10 | N17: 11 | O17: 12 | P17: 13 | Q17: 14
D18: Поставка электрической энергии гарантирующим поставщиком потребителям (покупателям), функционирующим в зоне деятельности данного ГП | E18: 100 | F18: =SUM(F19,F37,F55) -> 0 | G18: =SUM(G19,G37,G55) -> 0 | H18: =SUM(H19,H37,H55) -> 0 | I18: =SUM(I19,I37,I55) -> 0 | J18: =SUM(J19,J37,J55) -> 0 | K18: =SUM(K19,K37,K55) -> 0 | L18: =SUM(L19,L37,L55) -> 0 | M18: =SUM(M19,M37,M55) -> 0 | ... Q18: =SUM(Q19,Q37,Q55) -> 0
D19: Потребители с максимальной мощностью принадлежащих им энергопринимающих устройств не менее 10 МВт | E19: 200 | F19: =SUM(F20,F30:F36) -> 0 | G19: =SUM(G20,G30:G36) -> 0 | H19: =SUM(H20,H30:H36) -> 0 | I19: =SUM(I20,I30:I36) -> 0 | J19: =SUM(J20,J30:J36) -> 0 | K19: =SUM(K20,K30:K36) -> 0 | L19: =SUM(L20,L30:L36) -> 0 | M19: =SUM(M20,M30:M36) -> 0 | ... Q19: =SUM(Q20,Q30:Q36) -> 0
D20: Потребители электрической энергии (мощности) на территории Дальневосточного федерального округа, в отношении которых осуществляется доведение цен (тарифов) на электрическую энергию (мощность) до базовых уровней цен (тарифов) на электрическую энергию (мощность) | E20: 210 | F20: =SUM(F21:F29) -> 0 | G20: =SUM(G21:G29) -> 0 | H20: =SUM(H21:H29) -> 0 | I20: =SUM(I21:I29) -> 0 | J20: =SUM(J21:J29) -> 0 | K20: =SUM(K21:K29) -> 0 | L20: =SUM(L21:L29) -> 0 | M20: =SUM(M21:M29) -> 0 | ... Q20: =SUM(Q21:Q29) -> 0
D21: Потребители, указанные в пункте 1 критериев, утверждённых Постановлением * | E21: 211
D22: Потребители, указанные в пункте 2 критериев, утверждённых Постановлением * | E22: 212
D23: Потребители, указанные в пункте 3 критериев, утверждённых Постановлением * | E23: 213
D24: Потребители, указанные в пункте 4 критериев, утверждённых Постановлением * | E24: 214
D25: Потребители, указанные в пункте 5 критериев, утверждённых Постановлением * | E25: 215
D26: Потребители, указанные в пункте 6 критериев, утверждённых Постановлением * | E26: 216
D27: Потребители, указанные в пункте 7 критериев, утверждённых Постановлением * | E27: 217
D28: Потребители, указанные в пункте 8 критериев, утверждённых Постановлением * | E28: 218
D29: Потребители, указанные в пункте 9 критериев, утверждённых Постановлением * | E29: 219
D30: Промышленные и приравненные к ним потребители | E30: 220
D31: Электрифицированный железнодорожный транспорт | E31: 230
D32: Электрифицированный городской транспорт | E32: 240
... D36: Иные потребители (покупатели) | E36: 280
D37: Потребители с максимальной мощностью принадлежащих им энергопринимающих устройств от 670 кВт до 10 МВт | E37: 300 | F37: =SUM(F38,F48:F54) -> 0 | G37: =SUM(G38,G48:G54) -> 0 | H37: =SUM(H38,H48:H54) -> 0 | I37: =SUM(I38,I48:I54) -> 0 | J37: =SUM(J38,J48:J54) -> 0 | K37: =SUM(K38,K48:K54) -> 0 | L37: =SUM(L38,L48:L54) -> 0 | M37: =SUM(M38,M48:M54) -> 0 | ... Q37: =SUM(Q38,Q48:Q54) -> 0
D38: Потребители электрической энергии (мощности) на территории Дальневосточного федерального округа, в отношении которых осуществляется доведение цен (тарифов) на электрическую энергию (мощность) до базовых уровней цен (тарифов) на электрическую энергию (мощность) | E38: 310 | F38: =SUM(F39:F47) -> 0 | G38: =SUM(G39:G47) -> 0 | H38: =SUM(H39:H47) -> 0 | I38: =SUM(I39:I47) -> 0 | J38: =SUM(J39:J47) -> 0 | K38: =SUM(K39:K47) -> 0 | L38: =SUM(L39:L47) -> 0 | M38: =SUM(M39:M47) -> 0 | ... Q38: =SUM(Q39:Q47) -> 0
D39: Потребители, указанные в пункте 1 критериев, утверждённых Постановлением * | E39: 311
D40: Потребители, указанные в пункте 2 критериев, утверждённых Постановлением * | E40: 312
D41: Потребители, указанные в пункте 3 критериев, утверждённых Постановлением * | E41: 313
D42: Потребители, указанные в пункте 4 критериев, утверждённых Постановлением * | E42: 314
D43: Потребители, указанные в пункте 5 критериев, утверждённых Постановлением * | E43: 315
D44: Потребители, указанные в пункте 6 критериев, утверждённых Постановлением * | E44: 316
D45: Потребители, указанные в пункте 7 критериев, утверждённых Постановлением * | E45: 317
D46: Потребители, указанные в пункте 8 критериев, утверждённых Постановлением * | E46: 318
D47: Потребители, указанные в пункте 9 критериев, утверждённых Постановлением * | E47: 319
D48: Промышленные и приравненные к ним потребители | E48: 320
D49: Электрифицированный железнодорожный транспорт | E49: 330
D50: Электрифицированный городской транспорт | E50: 340
... D54: Иные потребители (покупатели) | E54: 380
...

Sheet Раздел I. В
D8: Раздел I. Полезный отпуск электроэнергии и мощности, реализуемой по регулируемым тарифам (ценам)
D9: В. Полезный отпуск электроэнергии, реализуемой населению и приравненным к нему категориям потребителей
D10: =IF(ORG="","Не определено",ORG) -> ГУП НАО "Нарьян-Марская электростанция" | Z10: Коды по ОКЕИ: 1000 киловатт-часов – 245, мегаватт – 215, тысяча рублей – 384
G11: с НДС | H11: без НДС | J11: с НДС | K11: без НДС | N11: с НДС | P11: без НДС | U11: с НДС | X11: без НДС
D12: Потребители | E12: Код строки | F12: Объём электрической энергии за отчётный месяц (год) | G12: Стоимость электрической энергии за отчётный месяц (год) | I12: Объём электрической энергии потребителей, осуществляющих оплату по одноставочному тарифу за отчётный месяц (год) | J12: Стоимость электрической энергии потребителей, осуществляющих оплату по одноставочному тарифу за отчётный месяц (год) | L12: Объём электрической энергии потребителей, осуществляющих оплату по зонным тарифам по двум зонам суток за отчётный месяц (год) | N12: Стоимость электрической энергии потребителей, осуществляющих оплату по зонным тарифам по двум зонам суток за отчётный месяц (год) | P12: Стоимость электрической энергии потребителей, осуществляющих оплату по зонным тарифам по двум зонам суток за отчётный месяц (год) | R12: Объём электрической энергии потребителей, осуществляющих оплату по зонным тарифам по трём зонам суток за отчётный месяц (год) | U12: Стоимость электрической энергии потребителей, осуществляющих оплату по зонным тарифам по трём зонам суток за отчётный месяц (год) | X12: Стоимость электрической энергии потребителей, осуществляющих оплату по зонным тарифам по трём зонам суток за отчётный месяц (год)
F13: всего | G13: всего | H13: всего | I13: всего | J13: всего | K13: всего | L13: ночь | M13: день | N13: ночь | O13: день | P13: ночь | Q13: день | R13: ночь | S13: пик | T13: полупик | U13: ночь | V13: пик | W13: полупик | X13: ночь | Y13: пик | Z13: полупик
F16: тыс.кВтч | G16: тыс.руб. | H16: тыс.руб. | I16: тыс.кВтч | J16: тыс.руб. | K16: тыс.руб. | L16: тыс.кВтч | M16: тыс.кВтч | N16: тыс.руб. | O16: тыс.руб. | P16: тыс.руб. | Q16: тыс.руб. | R16: тыс.кВтч | S16: тыс.кВтч | T16: тыс.кВтч | U16: тыс.руб. | V16: тыс.руб. | W16: тыс.руб. | X16: тыс.руб. | Y16: тыс.руб. | Z16: тыс.руб.
D17: 1 | E17: 2 | F17: 3 | G17: 4 | H17: 5 | I17: 6 | J17: 7 | K17: 8 | L17: 9 | M17: 10 | N17: 11 | O17: 12 | P17: 13 | Q17: 14 | R17: 15 | S17: 16 | T17: 17 | U17: 18 | V17: 19 | W17: 20 | X17: 21 | Y17: 22 | Z17: 23
D18: Всего по населению и приравненным к нему категориям | E18: 100 | F18: =SUM(F19,F20) -> 2724.324 | G18: =SUM(G19,G20) -> 18239.67 | H18: =SUM(H19,H20) -> 15199.725 | I18: =SUM(I19,I20) -> 2689.55 | J18: =SUM(J19,J20) -> 18002.509 | K18: =SUM(K19,K20) -> 15002.091 | L18: =SUM(L19,L20) -> 10.031 | M18: =SUM(M19,M20) -> 24.743 | ... Z18: =SUM(Z19,Z20) -> 0
D19: в пределах социальной нормы | E19: 110 | F19: =SUM(I19,L19:M19,R19:T19) -> 2724.324 | G19: =SUM(J19,N19:O19,U19:W19) -> 18239.67 | H19: =SUM(K19,P19:Q19,X19:Z19) -> 15199.725 | I19: =SUM(I22,I40) -> 2689.55 | J19: =SUM(J22,J40) -> 18002.509 | K19: =SUM(K22,K40) -> 15002.091 | L19: =SUM(L22,L40) -> 10.031 | M19: =SUM(M22,M40) -> 24.743 | N19: =SUM(N22,N40) -> 41.35363 | O19: =SUM(O22,O40) -> 195.80739 | P19: =SUM(P22,P40) -> 34.461358 | ... Z19: =SUM(Z22,Z40) -> 0
D20: сверх социальной нормы | E20: 120 | F20: =SUM(I20,L20:M20,R20:T20) -> 0 | G20: =SUM(J20,N20:O20,U20:W20) -> 0 | H20: =SUM(K20,P20:Q20,X20:Z20) -> 0 | I20: =SUM(I23,I41) -> 0 | J20: =SUM(J23,J41) -> 0 | K20: =SUM(K23,K41) -> 0 | L20: =SUM(L23,L41) -> 0 | M20: =SUM(M23,M41) -> 0 | N20: =SUM(N23,N41) -> 0 | O20: =SUM(O23,O41) -> 0 | P20: =SUM(P23,P41) -> 0 | ... Z20: =SUM(Z23,Z41) -> 0
D21: Население, всего | E21: 200 | F21: =SUM(F22,F23) -> 2432.743 | G21: =SUM(G22,G23) -> 16284.847 | H21: =SUM(H22,H23) -> 13570.706 | I21: =SUM(I22,I23) -> 2401.254 | J21: =SUM(J22,J23) -> 16070.316 | K21: =SUM(K22,K23) -> 13391.93 | L21: =SUM(L22,L23) -> 9.131 | M21: =SUM(M22,M23) -> 22.358 | ... Z21: =SUM(Z22,Z23) -> 0
D22: в пределах социальной нормы | E22: 201 | F22: =SUM(I22,L22:M22,R22:T22) -> 2432.743 | G22: =SUM(J22,N22:O22,U22:W22) -> 16284.847 | H22: =SUM(K22,P22:Q22,X22:Z22) -> 13570.706 | I22: =SUM(I25,I28,I31,I34,I37) -> 2401.254 | J22: =SUM(J25,J28,J31,J34,J37) -> 16070.316 | K22: =SUM(K25,K28,K31,K34,K37) -> 13391.93 | L22: =SUM(L25,L28,L31,L34,L37) -> 9.131 | M22: =SUM(M25,M28,M31,M34,M37) -> 22.358 | N22: =SUM(N25,N28,N31,N34,N37) -> 37.63663 | O22: =SUM(O25,O28,O31,O34,O37) -> 176.89434 | P22: =SUM(P25,P28,P31,P34,P37) -> 31.363858 | ... Z22: =SUM(Z25,Z28,Z31,Z34,Z37) -> 0
D23: сверх социальной нормы | E23: 202 | F23: =SUM(I23,L23:M23,R23:T23) -> 0 | G23: =SUM(J23,N23:O23,U23:W23) -> 0 | H23: =SUM(K23,P23:Q23,X23:Z23) -> 0 | I23: =SUM(I26,I29,I32,I35,I38) -> 0 | J23: =SUM(J26,J29,J32,J35,J38) -> 0 | K23: =SUM(K26,K29,K32,K35,K38) -> 0 | L23: =SUM(L26,L29,L32,L35,L38) -> 0 | M23: =SUM(M26,M29,M32,M35,M38) -> 0 | N23: =SUM(N26,N29,N32,N35,N38) -> 0 | O23: =SUM(O26,O29,O32,O35,O38) -> 0 | P23: =SUM(P26,P29,P32,P35,P38) -> 0 | ... Z23: =SUM(Z26,Z29,Z32,Z35,Z38) -> 0
D24: Население, не относящееся к категории населения, проживающего в городских населенных пунктах в домах, оборудованных стационарными электроплитами и (или) электроотопительными установками, и категории населения, проживающего в сельских населенных пунктах, а также приравненные к нему категории | E24: 210 | F24: =SUM(F25,F26) -> 2179.22 | G24: =SUM(G25,G26) -> 15034.345 | H24: =SUM(H25,H26) -> 12528.621 | I24: =SUM(I25,I26) -> 2147.961 | J24: =SUM(J25,J26) -> 14820.931 | K24: =SUM(K25,K26) -> 12350.776 | L24: =SUM(L25,L26) -> 9.071 | M24: =SUM(M25,M26) -> 22.188 | ... Z24: =SUM(Z25,Z26) -> 0
D25: в пределах социальной нормы | E25: 211 | F25: =SUM(I25,L25:M25,R25:T25) -> 2179.22 | G25: =SUM(J25,N25:O25,U25:W25) -> 15034.345 | H25: =SUM(K25,P25:Q25,X25:Z25) -> 12528.621 | I25: 2147.961 | J25: =K25*1.2 -> 14820.931 | K25: 12350.776 | L25: 9.071 | M25: 22.188 | N25: =P25*1.2 -> 37.46323 | O25: =Q25*1.2 -> 175.95084 | P25: 31.219358 | Q25: 146.6257
D26: сверх социальной нормы | E26: 212 | F26: =SUM(I26,L26:M26,R26:T26) -> 0 | G26: =SUM(J26,N26:O26,U26:W26) -> 0 | H26: =SUM(K26,P26:Q26,X26:Z26) -> 0
D27: Население, проживающее в городских населенных пунктах в домах, оборудованных стационарными электроплитами и электроотопительными установками, а также приравненные к нему категории | E27: 220 | F27: =SUM(F28,F29) -> 0 | G27: =SUM(G28,G29) -> 0 | H27: =SUM(H28,H29) -> 0 | I27: =SUM(I28,I29) -> 0 | J27: =SUM(J28,J29) -> 0 | K27: =SUM(K28,K29) -> 0 | L27: =SUM(L28,L29) -> 0 | M27: =SUM(M28,M29) -> 0 | ... Z27: =SUM(Z28,Z29) -> 0
D28: в пределах социальной нормы | E28: 221 | F28: =SUM(I28,L28:M28,R28:T28) -> 0 | G28: =SUM(J28,N28:O28,U28:W28) -> 0 | H28: =SUM(K28,P28:Q28,X28:Z28) -> 0
D29: сверх социальной нормы | E29: 222 | F29: =SUM(I29,L29:M29,R29:T29) -> 0 | G29: =SUM(J29,N29:O29,U29:W29) -> 0 | H29: =SUM(K29,P29:Q29,X29:Z29) -> 0
D30: Население, проживающее в городских населенных пунктах в домах, оборудованных стационарными электроплитами и не оборудованных электроотопительными установками, а также приравненные к нему категории потребителей | E30: 230 | F30: =SUM(F31,F32) -> 47.236 | G30: =SUM(G31,G32) -> 254.12968 | H30: =SUM(H31,H32) -> 211.77473 | I30: =SUM(I31,I32) -> 47.236 | J30: =SUM(J31,J32) -> 254.12968 | K30: =SUM(K31,K32) -> 211.77473 | L30: =SUM(L31,L32) -> 0 | M30: =SUM(M31,M32) -> 0 | ... Z30: =SUM(Z31,Z32) -> 0
D31: в пределах социальной нормы | E31: 231 | F31: =SUM(I31,L31:M31,R31:T31) -> 47.236 | G31: =SUM(J31,N31:O31,U31:W31) -> 254.12968 | H31: =SUM(K31,P31:Q31,X31:Z31) -> 211.77473 | I31: 47.236 | J31: =K31*1.2 -> 254.12968 | K31: 211.77473 | L31: 0 | M31: 0 | N31: =P31*1.2 -> 0 | O31: =Q31*1.2 -> 0 | P31: 0 | Q31: 0
D32: сверх социальной нормы | E32: 232 | F32: =SUM(I32,L32:M32,R32:T32) -> 0 | G32: =SUM(J32,N32:O32,U32:W32) -> 0 | H32: =SUM(K32,P32:Q32,X32:Z32) -> 0
D33: Население, проживающее в городских населенных пунктах в домах, оборудованных электроотопительными установками и не оборудованных стационарными электроплитами, а также приравненные к нему категории потребителей | E33: 240 | F33: =SUM(F34,F35) -> 0 | G33: =SUM(G34,G35) -> 0 | H33: =SUM(H34,H35) -> 0 | I33: =SUM(I34,I35) -> 0 | J33: =SUM(J34,J35) -> 0 | K33: =SUM(K34,K35) -> 0 | L33: =SUM(L34,L35) -> 0 | M33: =SUM(M34,M35) -> 0 | ... Z33: =SUM(Z34,Z35) -> 0
D34: в пределах социальной нормы | E34: 241 | F34: =SUM(I34,L34:M34,R34:T34) -> 0 | G34: =SUM(J34,N34:O34,U34:W34) -> 0 | H34: =SUM(K34,P34:Q34,X34:Z34) -> 0
D35: сверх социальной нормы | E35: 242 | F35: =SUM(I35,L35:M35,R35:T35) -> 0 | G35: =SUM(J35,N35:O35,U35:W35) -> 0 | H35: =SUM(K35,P35:Q35,X35:Z35) -> 0
D36: Население, проживающее в сельских населенных пунктах, а также приравненные к нему категории потребителей | E36: 250 | F36: =SUM(F37,F38) -> 206.287 | G36: =SUM(G37,G38) -> 996.37221 | H36: =SUM(H37,H38) -> 830.31017 | I36: =SUM(I37,I38) -> 206.057 | J36: =SUM(J37,J38) -> 995.25531 | K36: =SUM(K37,K38) -> 829.37942 | L36: =SUM(L37,L38) -> 0.06 | M36: =SUM(M37,M38) -> 0.17 | ... Z36: =SUM(Z37,Z38) -> 0
D37: в пределах социальной нормы | E37: 251 | F37: =SUM(I37,L37:M37,R37:T37) -> 206.287 | G37: =SUM(J37,N37:O37,U37:W37) -> 996.37221 | H37: =SUM(K37,P37:Q37,X37:Z37) -> 830.31017 | I37: 206.057 | J37: =K37*1.2 -> 995.25531 | K37: 829.37942 | L37: 0.06 | M37: 0.17 | N37: =P37*1.2 -> 0.1734 | O37: =Q37*1.2 -> 0.9435 | P37: 0.1445 | Q37: 0.78625
D38: сверх социальной нормы | E38: 252 | F38: =SUM(I38,L38:M38,R38:T38) -> 0 | G38: =SUM(J38,N38:O38,U38:W38) -> 0 | H38: =SUM(K38,P38:Q38,X38:Z38) -> 0
D39: Приравненные к населению категории потребителей, всего | E39: 300 | F39: =SUM(F40,F41) -> 291.581 | G39: =SUM(G40,G41) -> 1954.8231 | H39: =SUM(H40,H41) -> 1629.0193 | I39: =SUM(I40,I41) -> 288.296 | J39: =SUM(J40,J41) -> 1932.1931 | K39: =SUM(K40,K41) -> 1610.1609 | L39: =SUM(L40,L41) -> 0.9 | M39: =SUM(M40,M41) -> 2.385 | ... Z39: =SUM(Z40,Z41) -> 0
