Workbook

Sheet структура затрат 2017
A6: Форма раскрытия информации о структуре и объемах затрат
A7: субъектов электроэнергетики регулирование
A8: деятельности которых осуществляется методом
A9: экономически обоснованных расходов (затрат)
A11: Наименование организации: ГУП НАО "Нарьян-Марская электростанция"
A12: ИНН: 8300010188
A13: КПП: 298301001
A15: № п/п | C15: Ед. изм. | D15: Год
D16: 2017 план | E16: факт 2017
A17: 1 | B17: Структура затрат | C17: х | D17: х | E17: х
A18: 2 | B18: Себестоимость, всего | C18: тыс. руб. | D18: =[1]Э!$O$55/1000 -> 456560.7 | E18: =[2]TDSheet!$E$214/1000 -> 463507.19
A19: 3 | B19: Топливо на технологические цели | C19: тыс. руб. | D19: =[1]Э!$O$39/1000 -> 159015.56 | E19: =[1]Э!$L$39/1000 -> 153925.15
A20: 4 | B20: Фонд оплаты труда и отчисления на социальные нужды, всего | C20: тыс. руб. | D20: =([1]Э!$O$40+[1]Э!$O$41+[1]Общепроизв!$F$8+[1]Общепроизв!$F$9+[1]Общехоз!$I$6+[1]Общехоз!$I$7)/1000 -> 170982.58 | E20: =([1]Э!$L$40+[1]Э!$L$41+[1]Общепроизв!$E$8+[1]Общепроизв!$E$9+[1]Общехоз!$H$6+[1]Общехоз!$H$7)/1000 -> 166403.08
A21: 5 | B21: Амортизационные отчисления | C21: тыс. руб. | D21: =([1]Э!$O$43+[1]Общепроизв!$F$10+[1]Общехоз!$I$9)/1000 -> 83355.114 | E21: =([1]Э!$L$43+[1]Общепроизв!$E$10+[1]Общехоз!$H$9)/1000 -> 84129.349
A22: 6 | B22: Ремонт оборудования | C22: тыс. руб. | D22: =[1]Э!$O$45/1000 -> 712.5339 | E22: =[1]Э!$L$45/1000 -> 15856.869
A23: 7 | B23: Налог на имущество | C23: тыс. руб. | D23: =[1]Общехоз!$I$62/1000 -> 15173.323 | E23: =[1]Общехоз!$H$62/1000 -> 17721.949
A24: 8 | B24: Прочие затраты | C24: тыс. руб. | D24: =D18-SUM(D19:D23) -> 27321.579 | E24: =E18-SUM(E19:E23) -> 25470.792
A25: 9 | B25: Объем реализации электрической энерии | C25: тыс. кВт/ч | D25: =[1]Э!$O$16/1000 -> 91592.795 | E25: ='[3]Значения декабрь'!$CO$14 -> 93968.066

Sheet структура затрат 2018
A6: Форма раскрытия информации о структуре и объемах затрат
A7: субъектов электроэнергетики регулирование
A8: деятельности которых осуществляется методом
A9: экономически обоснованных расходов (затрат)
A11: Наименование организации: ГУП НАО "Нарьян-Марская электростанция"
A12: ИНН: 8300010188
A13: КПП: 298301001
A15: № п/п | C15: Ед. изм. | D15: Год
D16: 2018 план | E16: факт 2018
A17: 1 | B17: Структура затрат | C17: х | D17: х | E17: х
A18: 2 | B18: Себестоимость, всего | C18: тыс. руб. | D18: =[4]Э!$W$55/1000 -> 472179.19 | E18: =[5]TDSheet!$E$227/1000 -> 491198.71
A19: 3 | B19: Топливо на технологические цели | C19: тыс. руб. | D19: =[4]Э!$W$39/1000 -> 158783.76 | E19: =[4]Э!$S$39/1000 -> 159055.32
A20: 4 | B20: Фонд оплаты труда и отчисления на социальные нужды, всего | C20: тыс. руб. | D20: =([4]Э!$W$40+[4]Э!$W$41+[4]Общепроизв!$J$9+[4]Общепроизв!$J$8+[4]Общехоз!$N$6+[4]Общехоз!$N$7)/1000 -> 180516.32 | E20: =([4]Э!$S$40+[4]Э!$S$41+[4]Общепроизв!$I$9+[4]Общепроизв!$I$8+[4]Общехоз!$M$6+[4]Общехоз!$M$7)/1000 -> 184147.78
A21: 5 | B21: Амортизационные отчисления | C21: тыс. руб. | D21: =([4]Э!$W$43+[4]Общепроизв!$J$10+[4]Общехоз!$N$9)/1000 -> 81837.479 | E21: =([4]Э!$S$43+[4]Общепроизв!$I$10+[4]Общехоз!$M$9)/1000 -> 83417.834
A22: 6 | B22: Ремонт оборудования | C22: тыс. руб. | D22: =[4]Э!$W$45/1000 -> 19173.206 | E22: =[4]Э!$S$45/1000 -> 21149.56
A23: 7 | B23: Налог на имущество | C23: тыс. руб. | D23: =[4]Общехоз!$N$62/1000 -> 19072.714 | E23: =[4]Общехоз!$M$62/1000 -> 18705.37
A24: 8 | B24: Прочие затраты | C24: тыс. руб. | D24: =D18-SUM(D19:D23) -> 12795.716 | E24: =E18-SUM(E19:E23) -> 24722.845
A25: 9 | B25: Объем реализации электрической энерии | C25: тыс. кВт/ч | D25: =[4]Э!$W$16/1000 -> 92400.559 | E25: ='[6]Значения декабрь кор'!$CO$14 -> 92792.072

Sheet структура затрат 2019
A6: Форма раскрытия информации о структуре и объемах затрат
A7: субъектов электроэнергетики регулирование
A8: деятельности которых осуществляется методом
A9: экономически обоснованных расходов (затрат)
A11: Наименование организации: ГУП НАО "Нарьян-Марская электростанция"
A12: ИНН: 8300010188
A13: КПП: 298301001
A15: № п/п | C15: Ед. изм. | D15: Год
D16: 2019 план | E16: факт 2019
A17: 1 | B17: Структура затрат | C17: х | D17: х | E17: х
A18: 2 | B18: Себестоимость, всего | C18: тыс. руб. | D18: 488346.35 | E18: 518074.3
A19: 3 | B19: Топливо на технологические цели | C19: тыс. руб. | D19: 156483.41 | E19: 160251.66
A20: 4 | B20: Фонд оплаты труда и отчисления на социальные нужды, всего | C20: тыс. руб. | D20: 187675.17 | E20: 203959.97
A21: 5 | B21: Амортизационные отчисления | C21: тыс. руб. | D21: 81507.987 | E21: 84740.93
A22: 6 | B22: Ремонт оборудования | C22: тыс. руб. | D22: 27176.932 | E22: 33261.248
A23: 7 | B23: Налог на имущество | C23: тыс. руб. | D23: 19133.121 | E23: 14930.727
A24: 8 | B24: Прочие затраты | C24: тыс. руб. | D24: 16369.726 | E24: 20929.755
A25: 9 | B25: Объем реализации электрической энерии | C25: тыс. кВт/ч | D25: 93059.359 | E25: 89303.084

Sheet структура затрат 2020
A6: Форма раскрытия информации о структуре и объемах затрат
A7: субъектов электроэнергетики регулирование
A8: деятельности которых осуществляется методом
A9: экономически обоснованных расходов (затрат)
A11: Наименование организации: ГУП НАО "Нарьян-Марская электростанция"
A12: ИНН: 8300010188
A13: КПП: 298301001
A15: № п/п | C15: Ед. изм. | D15: Год
D16: 2020 план | E16: факт 2020
A17: 1 | B17: Структура затрат | C17: х | D17: х | E17: х
A18: 2 | B18: Себестоимость, всего | C18: тыс. руб. | D18: 483802.8 | E18: 514345.71
A19: 3 | B19: Топливо на технологические цели | C19: тыс. руб. | D19: 156745.23 | E19: 158998.61
A20: 4 | B20: Фонд оплаты труда и отчисления на социальные нужды, всего | C20: тыс. руб. | D20: 193835.52 | E20: 199490.15
A21: 5 | B21: Амортизационные отчисления | C21: тыс. руб. | D21: 75100.735 | E21: 80691.851
A22: 6 | B22: Ремонт оборудования | C22: тыс. руб. | D22: 23202.303 | E22: 20987.871
A23: 7 | B23: Налог на имущество | C23: тыс. руб. | D23: 13983.935 | E23: 15980.794
A24: 8 | B24: Прочие затраты | C24: тыс. руб. | D24: 20935.074 | E24: 38196.43
A25: 9 | B25: Объем реализации электрической энерии | C25: тыс. кВт/ч | D25: 92791.429 | E25: 89178.43

Sheet структура затрат 2022
A2: Форма раскрытия информации о структуре и объемах затрат
A3: субъектов электроэнергетики регулирование,
A4: деятельность которых осуществляется методом
A5: индексации необходимой валовой выручки
A7: Наименование организации: ГУП НАО "Нарьян-Марская электростанция"
A8: ИНН: 8300010188
A9: КПП: 298301001
A11: № п/п | C11: Ед. изм. | D11: Год
D12: 2022 план | E12: факт 2022
A13: 1 | B13: Структура затрат | C13: х | D13: х | E13: х
A14: 2 | B14: Себестоимость, всего | C14: тыс. руб. | D14: 524757.72 | E14: 577298
A15: 3 | B15: Топливо на технологические цели | C15: тыс. руб. | D15: 158089.72 | E15: 162765.79
A16: 4 | B16: Фонд оплаты труда и отчисления на социальные нужды, всего | C16: тыс. руб. | D16: 208749.4 | E16: 214830.27
A17: 5 | B17: Амортизационные отчисления | C17: тыс. руб. | D17: 86713.377 | E17: 85933.917
A18: 6 | B18: Ремонт оборудования | C18: тыс. руб. | D18: 24572.286 | E18: 40307.072
A19: 7 | B19: Налог на имущество | C19: тыс. руб. | D19: 16281.647 | E19: 16965.103
A20: 8 | B20: Прочие затраты | C20: тыс. руб. | D20: 30351.297 | E20: 56495.846
A21: 9 | B21: Объем реализации электрической энерии | C21: тыс. кВт/ч | D21: 89178.1 | E21: 88844.33

Sheet структура затрат 2023
A2: Форма раскрытия информации о структуре и объемах затрат
A3: субъектов электроэнергетики регулирование,
A4: деятельность которых осуществляется методом
A5: индексации необходимой валовой выручки
A7: Наименование организации: ГУП НАО "Нарьян-Марская электростанция"
A8: ИНН: 8300010188
A9: КПП: 298301001
A11: № п/п | B11: Показатель | C11: Ед. изм. | D11: Год
D12: 2023 план | E12: факт 2023
A13: 1 | B13: Структура затрат | C13: х | D13: х | E13: х
A14: 2 | B14: Себестоимость, всего | C14: тыс. руб. | D14: 582759.7 | E14: 601509.66
A15: 3 | B15: Топливо на технологические цели | C15: тыс. руб. | D15: 174137.69 | E15: 179303.03
A16: 4 | B16: Фонд оплаты труда и отчисления на социальные нужды, всего | C16: тыс. руб. | D16: 172464.17 | E16: 165438.93
A17: 5 | B17: Амортизационные отчисления | C17: тыс. руб. | D17: 72460.457 | E17: 77337.268
A18: 6 | B18: Ремонт оборудования | C18: тыс. руб. | D18: 41172.184 | E18: 34626.259
A19: 7 | B19: Налог на имущество | C19: тыс. руб. | D19: 15899.114 | E19: 16963.256
A20: 8 | B20: Прочие затраты | C20: тыс. руб. | D20: 106626.1 | E20: 127840.92
A21: 9 | B21: Объем реализации электрической энерии | C21: тыс. кВт/ч | D21: 89178.43 | E21: 89445.094

Sheet структура затрат 2024
A2: Форма раскрытия информации о структуре и объемах затрат
A3: субъектов электроэнергетики регулирование,
A4: деятельность которых осуществляется методом
A5: индексации необходимой валовой выручки
A7: Наименование организации: ГУП НАО "Нарьян-Марская электростанция"
A8: ИНН: 8300010188
A9: КПП: 298301001
A11: № п/п | B11: Показатель | C11: Ед. изм. | D11: Год
D12: 2024 план | E12: факт 2024
A13: 1 | B13: Структура затрат | C13: х | D13: х | E13: х
A14: 2 | B14: Себестоимость, всего | C14: тыс. руб. | D14: 614777.66 | E14: 643226.95
A15: 3 | B15: Топливо на технологические цели | C15: тыс. руб. | D15: 176600.9 | E15: 192650.11
A16: 4 | B16: Фонд оплаты труда и отчисления на социальные нужды, всего | C16: тыс. руб. | D16: 177312.74 | E16: 172325.62
A17: 5 | B17: Амортизационные отчисления | C17: тыс. руб. | D17: 92400.303 | E17: 95524.623
A18: 6 | B18: Ремонт оборудования | C18: тыс. руб. | D18: 43690.753 | E18: 38224.076
A19: 7 | B19: Налог на имущество | C19: тыс. руб. | D19: 16389.82 | E19: 18008.123
A20: 8 | B20: Прочие затраты | C20: тыс. руб. | D20: 108383.14 | E20: 126494.4
A21: 9 | B21: Объем реализации электрической энерии | C21: тыс. кВт/ч | D21: 88845.752 | E21: 91217.77
