Workbook
Name AI_Version: #REF!
Name CalcMethod: #REF!
Name DaNet: #REF!
Name dt_03: #REF!
Name end_02: #REF!
Name end_03_1: #REF!
Name end_03_2: #REF!
Name ht_03: #REF!
Name Irtysh: #REF!
Name IS_DEMO: #REF!
Name IS_ESTATE: #REF!
Name IS_SUMM: #REF!
Name IS_TRIAL: #REF!
Name it_03: #REF!
Name KTP: #REF!
Name KTP: #REF!
Name kW_а_ген1: #REF!
Name kW_а_ген1: #REF!
Name kW_а_ген3: #REF!
Name kW_а_ген3: #REF!
Name LanguageID: #REF!
Name line: #REF!
Name month_list: #REF!
Name MR_LIST: #REF!
Name nds: #REF!
Name pIns_ws_01_3: #REF!
Name PORT_PrjPeriods: #REF!
Name prd: #REF!
Name prim_03: #REF!
Name PrjTariff: #REF!
Name qr110to10: #REF!
Name qr110to10: #REF!
Name qr110to35: #REF!
Name qr110to35: #REF!
Name qr220to10_2: #REF!
Name qr220to10_2: #REF!
Name qr220to110: #REF!
Name qr220to110: #REF!
Name qr220to35: #REF!
Name qr35to10: #REF!
Name Quarter2: #REF!
Name Razd1End: #REF!
Name Razd1End: #REF!
Name Razd1Start: #REF!
Name Razd1Start: #REF!
Name Razd2End: #REF!
Name Razd2End: #REF!
Name Razd2Start: #REF!
Name Razd3Start: #REF!
Name Razd4End: #REF!
Name Razd4Start: #REF!
Name Razd5End: #REF!
Name Razd5Start: #REF!
Name Razd6End: #REF!
Name Razd6Start: #REF!
Name Razd7End: #REF!
Name Razd7Start: #REF!
Name REGION: #REF!
Name region_name: #REF!
Name tavrich: #REF!

Sheet Финансовый план 2027
R1: Приложение № 1
R2: к приказу Минэнерго России
R3: от 13.04.2017 № 310
H5: Форма № | I5: Финансовый план субъекта электроэнергетики
A7: Инвестиционная программа | D7: ГУП НАО "Нарьян-Марская электростанция"
D8: полное наименование субъекта электроэнергетики
D9: Субъект Российской Федерации: | E9: Ненецкий автономный округ
E10: Год раскрытия (предоставления) информации: | G10: год
A12: Утвержденные плановые значения показателей приведены в соответствии
A13: с
B14: реквизиты решения органа исполнительной власти, утвердившего инвестиционную программу
A15: 1. Финансово-экономическая модель деятельности субъекта электроэнергетики
A16: № п/п | C16: Показатель | H16: Ед. изм. | I16: 2022 год | J16: 2023 год | K16: 2024 год | L16: 2025 год | M16: 2026 год | O16: 2027 год | Q16: Итого за период реализации инвестиционной программы
I17: Факт | J17: Факт | K17: Факт | L17: Факт | M17: План (Утвержденный план) | N17: Предложение по корректировке утвержденного плана | O17: План (Утвержденный план) | P17: Предложение по корректировке утвержденного плана | Q17: План (Утвержденный план) | R17: Предложение по корректировке утвержденного плана
A18: 1 | C18: 2 | H18: 3 | I18: 4 | J18: 5 | K18: 6 | L18: 7 | M18: 8 | N18: 9 | O18: 10 | P18: 11 | Q18: 12 | R18: 13
I19: -5.3290705e-15 | M19: 1.0512 | O19: 1.0401
A20: БЮДЖЕТ ДОХОДОВ И РАСХОДОВ
A21: I | C21: Выручка от реализации товаров (работ, услуг) всего, в том числе *: | H21: млн рублей | I21: 510.07402 | J21: 588.75227 | K21: 639.20651 | L21: 651.66313 | M21: 685.02828 | N21: 685.02828 | O21: 712.49792 | P21: 712.41563 | Q21: 1397.5262 | R21: 1397.4439
A22: 1.1 | C22: Производство и поставка электрической энергии и мощности всего, в том числе: | H22: млн рублей | I22: 503.85934 | J22: 579.7897 | K22: 625.68126 | L22: 634.4026 | M22: 666.88401 | N22: 666.88401 | O22: 693.62606 | P22: 693.62606 | Q22: 1360.5101 | R22: 1360.5101
A23: 1.1.1 | C23: производство и поставка электрической энергии на оптовом рынке электрической энергии и мощности | H23: млн рублей
A24: 1.1.2 | C24: производство и поставка электрической мощности на оптовом рынке электрической энергии и мощности | H24: млн рублей
A25: 1.1.3 | C25: производство и поставка электрической энергии (мощности) на розничных рынках электрической энергии | H25: млн рублей | I25: 503.85934 | J25: 579.7897 | K25: 625.68126 | L25: 634.4026 | M25: 666.88401 | N25: 666.88401 | O25: 693.62606 | P25: 693.62606 | Q25: 1360.5101 | R25: 1360.5101
A26: 1.2 | C26: Производство и поставка тепловой энергии (мощности) | H26: млн рублей
A27: 1.3 | C27: Оказание услуг по передаче электрической энергии | H27: млн рублей
A28: 1.4 | C28: Оказание услуг по передаче тепловой энергии, теплоносителя | H28: млн рублей
A29: 1.5 | C29: Оказание услуг по технологическому присоединению | H29: млн рублей | I29: 2.9987707 | J29: 6.9570578 | K29: 11.966859 | L29: 15.308412 | M29: 16.092202 | N29: 16.092202 | O29: 16.7375 | P29: 16.7375 | Q29: 32.829702 | R29: 32.829702
A30: 1.6 | C30: Реализация электрической энергии и мощности | H30: млн рублей
A31: 1.7 | C31: Реализации тепловой энергии (мощности) | H31: млн рублей
A32: 1.8 | C32: Оказание услуг по оперативно-диспетчерскому управлению в электроэнергетике всего, в том числе: | H32: млн рублей | I32: 0 | J32: 0 | K32: 0
A33: 1.8.1 | C33: в части управления технологическими режимами | H33: млн рублей
A34: 1.8.2 | C34: в части обеспечения надежности | H34: млн рублей
A35: 1.9 | C35: Прочая деятельность | H35: млн рублей | I35: 3.215904 | J35: 2.0055081 | K35: 1.5583956 | L35: 1.9521231 | M35: 2.0520718 | N35: 2.0520718 | O35: 2.1343599 | P35: 2.0520718 | Q35: 4.1864316 | R35: 4.1041436
A36: II | C36: Себестоимость товаров (работ, услуг), коммерческие и управленческие расходы всего, в том числе: | H36: млн рублей | I36: 550.26017 | J36: 603.51324 | K36: 657.35713 | L36: 744.37557 | M36: 788.29313 | N36: 926.11127 | O36: 819.90364 | P36: 963.51115 | Q36: 1608.1968 | R36: 1889.6224
A37: 2.1 | C37: Производство и поставка электрической энергии и мощности всего, в том числе: | H37: млн рублей | I37: 538.86703 | J37: 588.21266 | K37: 657.35713 | L37: 744.37557 | M37: 788.29313 | N37: 926.11127 | O37: 819.90364 | P37: 963.51115 | Q37: 1608.1968 | R37: 1889.6224
A38: 2.1.1 | C38: производство и поставка электрической энергии на оптовом рынке электрической энергии и мощности | H38: млн рублей
A39: 2.1.2 | C39: производство и поставка электрической мощности на оптовом рынке электрической энергии и мощности | H39: млн рублей
A40: 2.1.3 | C40: производство и поставка электрической энергии (мощности) на розничных рынках электрической энергии | H40: млн рублей | I40: 538.86703 | J40: 588.21266 | K40: 637.18412 | L40: 723.20134 | M40: 760.22924 | N40: 760.22924 | O40: 790.71444 | P40: 790.71444 | Q40: 1651.2374 | R40: 1651.2374
A41: 2.2 | C41: Производство и поставка тепловой энергии (мощности) | H41: млн рублей
A42: 2.3 | C42: Оказание услуг по передаче электрической энергии | H42: млн рублей | I42: 5.4746535 | J42: 6.6963 | K42: 8.9203891 | L42: 7.5713101 | M42: 7.9589612 | N42: 7.9589612 | O42: 8.2781155 | P42: 8.2781155 | Q42: 16.237077 | R42: 16.237077
A43: 2.4 | C43: Оказание услуг по передаче тепловой энергии, теплоносителя | H43: млн рублей
...

Sheet СО1
H6: #REF!
H8: № п/п | I8: Показатели | J8: Сроки реализации проекта | L8: Физические параметры проекта | O8: Стоимость реализации мероприятия, всего (в течение всех периодов реализации проекта), тыс руб без НДС | Q8: Источники финансирования в отчётном году, тыс руб без НДС | AU8: Примечание
J9: Год начала проекта | K9: Год окончания проекта | L9: Вводимая мощность, протяженность сетей | M9: План по вводу на период регулирования | N9: Ед. изм. (МВА, км) | Q9: Итого в отчётном году | U9: Итого | W9: За счет регулируемых тарифов на передачу электрической энергии | AI9: За счет платы за технологическое присоединение | AK9: Возврат НДС | AM9: Дополнительная эмиссия акций | AO9: Заемные средства | AQ9: Бюджетные средства | AS9: За счет иных источников
W10: Всего | Y10: Амортизация | AA10: Прибыль на капитальные вложения | AC10: Расчетная предпринимательская прибыль | AE10: Лизинговые платежи | AG10: Выпадающие доходы от льготного технологического присоединения
O11: План | P11: Факт (нарастающим итогом) | Q11: План 1 (учтено в НВВ)* | R11: План 2 (утверждено до начала текущего года)** | S11: План 3 (скорректировано в течении текущего года)*** | T11: Факт (финансирование) | U11: План | V11: Факт (финансирование) | W11: План | X11: Факт (финансирование) | Y11: План | Z11: Факт (финансирование) | AA11: План | AB11: Факт (финансирование) | AC11: План | AD11: Факт (финансирование) | AE11: План | AF11: Факт (финансирование) | AG11: План | AH11: Факт (финансирование) | AI11: План | AJ11: Факт (финансирование) | AK11: План | AL11: Факт (финансирование) | AM11: План | AN11: Факт (финансирование) | AO11: План | AP11: Факт (финансирование) | AQ11: План | AR11: Факт (финансирование) | AS11: План | AT11: Факт (финансирование)
H12: 1 | I12: 2 | J12: 3 | K12: 4 | L12: 5 | M12: 6 | N12: 7 | O12: 8 | P12: 9 | Q12: 10 | R12: 11 | S12: 12 | T12: 13 | U12: 14 | V12: 15 | W12: 16 | X12: 17 | Y12: 18 | Z12: 19 | AA12: 20 | AB12: 21 | AC12: 22 | AD12: 23 | AE12: 24 | AF12: 25 | AG12: 26 | AH12: 27 | AI12: 28 | AJ12: 29 | AK12: 30 | AL12: 31 | AM12: 32 | AN12: 33 | AO12: 34 | AP12: 35 | AQ12: 36 | AR12: 37 | AS12: 38 | AT12: 39 | AU12: 40
H13: А. Регулирующихся методом индексации, методом долгосрочной индексации или методом экономически обоснованных расходов
H14: 1 | I14: Период (год долгосрочного периода регулирования) | O14: 252604.1 | P14: 133345.46 | Q14: 96883.333 | R14: 96883.333 | S14: 97222.16 | T14: 180893.35 | U14: 185028.83 | V14: 180893.35 | W14: 101695.83 | X14: 97560.35 | Y14: 101695.83 | Z14: 97560.35 | AA14: 0 | AB14: 0 | AC14: 0 | AD14: 0 | AE14: 0 | AF14: 0 | AG14: 0 | AH14: 0 | AI14: 0 | AJ14: 0 | AK14: 0 | AL14: 0 | AM14: 0 | AN14: 0 | AO14: 0 | AP14: 0 | AQ14: 83333 | AR14: 83333 | AS14: 0 | AT14: 0
H15: 1.1 | I15: Технологическое присоединение | O15: 0 | P15: 0 | Q15: 0 | R15: 0 | S15: 0 | T15: 0 | U15: 0 | V15: 0 | W15: 0 | X15: 0 | Y15: 0 | Z15: 0 | AA15: 0 | AB15: 0 | AC15: 0 | AD15: 0 | AE15: 0 | AF15: 0 | AG15: 0 | AH15: 0 | AI15: 0 | AJ15: 0 | AK15: 0 | AL15: 0 | AM15: 0 | AN15: 0 | AO15: 0 | AP15: 0 | AQ15: 0 | AR15: 0 | AS15: 0 | AT15: 0
H16: 1.2 | I16: Реконструкция, модернизация, техническое перевооружение | O16: 48803.333 | P16: 19600.679 | Q16: 16514.167 | R16: 16514.167 | S16: 0 | T16: 8598.599 | U16: 7437.5 | V16: 8598.599 | W16: 7437.5 | X16: 8598.599 | Y16: 7437.5 | Z16: 8598.599 | AA16: 0 | AB16: 0 | AC16: 0 | AD16: 0 | AE16: 0 | AF16: 0 | AG16: 0 | AH16: 0 | AI16: 0 | AJ16: 0 | AK16: 0 | AL16: 0 | AM16: 0 | AN16: 0 | AO16: 0 | AP16: 0 | AQ16: 0 | AR16: 0 | AS16: 0 | AT16: 0
H17: 1.3 | I17: Инвестиционные проекты, реализация которых обуславливается схемами и программами перспективного развития электроэнергетики | O17: 87331.1 | P17: 11277.66 | Q17: 47232.5 | R17: 47232.5 | S17: 0 | T17: 39816.082 | U17: 47232.5 | V17: 39816.082 | W17: 47232.5 | X17: 39816.082 | Y17: 47232.5 | Z17: 39816.082 | AA17: 0 | AB17: 0 | AC17: 0 | AD17: 0 | AE17: 0 | AF17: 0 | AG17: 0 | AH17: 0 | AI17: 0 | AJ17: 0 | AK17: 0 | AL17: 0 | AM17: 0 | AN17: 0 | AO17: 0 | AP17: 0 | AQ17: 0 | AR17: 0 | AS17: 0 | AT17: 0
H18: 1.4 | I18: Прочее новое строительство объектов электросетевого хозяйства | O18: 17421.667 | P18: 4200.971 | Q18: 17421.667 | R18: 17421.667 | S18: 0 | T18: 20323.362 | U18: 17421.67 | V18: 20323.362 | W18: 17421.67 | X18: 20323.362 | Y18: 17421.67 | Z18: 20323.362 | AA18: 0 | AB18: 0 | AC18: 0 | AD18: 0 | AE18: 0 | AF18: 0 | AG18: 0 | AH18: 0 | AI18: 0 | AJ18: 0 | AK18: 0 | AL18: 0 | AM18: 0 | AN18: 0 | AO18: 0 | AP18: 0 | AQ18: 0 | AR18: 0 | AS18: 0 | AT18: 0
H19: 1.5 | I19: Покупка земельных участков для целей реализации инвестиционных проектов | O19: 0 | P19: 0 | Q19: 0 | R19: 0 | S19: 0 | T19: 0 | U19: 0 | V19: 0 | W19: 0 | X19: 0 | Y19: 0 | Z19: 0 | AA19: 0 | AB19: 0 | AC19: 0 | AD19: 0 | AE19: 0 | AF19: 0 | AG19: 0 | AH19: 0 | AI19: 0 | AJ19: 0 | AK19: 0 | AL19: 0 | AM19: 0 | AN19: 0 | AO19: 0 | AP19: 0 | AQ19: 0 | AR19: 0 | AS19: 0 | AT19: 0
H20: 1.6 | I20: Прочие инвестиционные проекты | O20: 99048 | P20: 98266.15 | Q20: 15715 | R20: 15715 | S20: 97222.16 | T20: 112155.31 | U20: 112937.16 | V20: 112155.31 | W20: 29604.16 | X20: 28822.307 | Y20: 29604.16 | Z20: 28822.307 | AA20: 0 | AB20: 0 | AC20: 0 | AD20: 0 | AE20: 0 | AF20: 0 | AG20: 0 | AH20: 0 | AI20: 0 | AJ20: 0 | AK20: 0 | AL20: 0 | AM20: 0 | AN20: 0 | AO20: 0 | AP20: 0 | AQ20: 83333 | AR20: 83333 | AS20: 0 | AT20: 0
H22: ГУП НАО "Нарьян-Марская электростанция"
H23: 1.1 | I23: Технологическое присоединение | O23: 0 | P23: 0 | Q23: 0 | R23: 0 | S23: 0 | T23: 0 | U23: 0 | V23: 0 | W23: 0 | X23: 0 | Y23: 0 | Z23: 0 | AA23: 0 | AB23: 0 | AC23: 0 | AD23: 0 | AE23: 0 | AF23: 0 | AG23: 0 | AH23: 0 | AI23: 0 | AJ23: 0 | AK23: 0 | AL23: 0 | AM23: 0 | AN23: 0 | AO23: 0 | AP23: 0 | AQ23: 0 | AR23: 0 | AS23: 0 | AT23: 0 | AV23: r_1_1 | AW23: r_1_1
H24: 1.1.0
H25: Добавить
H26: 1.2 | I26: Реконструкция, модернизация, техническое перевооружение | O26: 48803.333 | P26: 19600.679 | Q26: 16514.167 | R26: 16514.167 | S26: 0 | T26: 8598.599 | U26: 7437.5 | V26: 8598.599 | W26: 7437.5 | X26: 8598.599 | Y26: 7437.5 | Z26: 8598.599 | AA26: 0 | AB26: 0 | AC26: 0 | AD26: 0 | AE26: 0 | AF26: 0 | AG26: 0 | AH26: 0 | AI26: 0 | AJ26: 0 | AK26: 0 | AL26: 0 | AM26: 0 | AN26: 0 | AO26: 0 | AP26: 0 | AQ26: 0 | AR26: 0 | AS26: 0 | AT26: 0 | AV26: r_1_2 | AW26: r_1_2
H27: 1.2.0
G28: О | H28: 1.2.1 | I28: Модернизация распределительного устройства-6 кВ ГТЭС-12 ГУП НАО "Нарьян-Марская электростанция" | J28: 2023 | K28: 2025 | L28: - | M28: 4-й квартал 2025 | N28: МВА/км | O28: 36726.667 | P28: 18922.197 | Q28: 4437.5 | R28: 4437.5 | S28: 0 | T28: 8397.256 | U28: 4437.5 | V28: 8397.256 | W28: 4437.5 | X28: 8397.256 | Y28: 4437.5 | Z28: 8397.256
G29: О | H29: 1.2.2 | I29: Трансформаторная подстанция ТП-7 "Столовая". Модернизация оборудования РУ-6 кВ | J29: 2025 | K29: 2025 | M29: 4-й квартал 2025 | N29: МВА/км | O29: 9076.6667 | P29: 678.482 | Q29: 9076.6667 | R29: 9076.6667 | S29: 0 | T29: 0 | U29: 0 | V29: 0 | W29: 0 | X29: 0 | Y29: 0 | Z29: 0
G30: О | H30: 1.2.3 | I30: Трансформаторная подстанция ТП-10 "Маслозавод". Модернизация оборудования РУ-6 кВ, РУ-0,4 кВ. (ПСД) | J30: 2025 | K30: 2025 | L30: - | M30: 4-й квартал 2025 | N30: МВА/км | O30: 1000 | P30: 0 | Q30: 1000 | R30: 1000 | S30: 0 | T30: 44.301 | U30: 1000 | V30: 44.301 | W30: 1000 | X30: 44.301 | Y30: 1000 | Z30: 44.301
G31: О | H31: 1.2.4 | I31: Трансформаторная подстанция ТП-3 "Больница". Модернизация оборудования РУ-0,4 кВ. ПСД | J31: 2025 | K31: 2025 | L31: - | M31: 4-й квартал 2024 | N31: МВА/км | O31: 1000 | P31: 0 | Q31: 1000 | R31: 1000 | S31: 0 | T31: 112.741 | U31: 1000 | V31: 112.741 | W31: 1000 | X31: 112.741 | Y31: 1000 | Z31: 112.741
G32: О | H32: 1.2.5 | I32: Трансформаторная подстанция ТП-118 "Мясокомбинат". Модернизация оборудования РУ-6кВ, РУ-0,4 кВ | J32: 2025 | K32: 2025 | L32: - | M32: 4-й квартал 2024 | N32: МВА/км | O32: 1000 | P32: 0 | Q32: 1000 | R32: 1000 | S32: 0 | T32: 44.301 | U32: 1000 | V32: 44.301 | W32: 1000 | X32: 44.301 | Y32: 1000 | Z32: 44.301
H33: Добавить
H34: 1.3 | I34: Инвестиционные проекты, реализация которых обуславливается схемами и программами перспективного развития электроэнергетики | O34: 87331.1 | P34: 11277.66 | Q34: 47232.5 | R34: 47232.5 | S34: 0 | T34: 39816.082 | U34: 47232.5 | V34: 39816.082 | W34: 47232.5 | X34: 39816.082 | Y34: 47232.5 | Z34: 39816.082 | AA34: 0 | AB34: 0 | AC34: 0 | AD34: 0 | AE34: 0 | AF34: 0 | AG34: 0 | AH34: 0 | AI34: 0 | AJ34: 0 | AK34: 0 | AL34: 0 | AM34: 0 | AN34: 0 | AO34: 0 | AP34: 0 | AQ34: 0 | AR34: 0 | AS34: 0 | AT34: 0 | AV34: r_1_3 | AW34: r_1_3
H35: 1.3.0
G36: О | H36: 1.3.1 | I36: "Трансформаторная подстанция ТП 6/0,4 кВ с питающими кабельными и воздушными линиями 6 и 0,4 кВ в районе пер. Озерный п. Искателей | J36: 2023 | K36: 2027 | L36: 0,400/16,344 | M36: 4-й квартал 2027 | N36: МВА/км | O36: 87331.1 | P36: 11277.66 | Q36: 47232.5 | R36: 47232.5 | S36: 0 | T36: 39816.082 | U36: 47232.5 | V36: 39816.082 | W36: 47232.5 | X36: 39816.082 | Y36: 47232.5 | Z36: 39816.082
H37: Добавить
H38: 1.4 | I38: Прочее новое строительство объектов электросетевого хозяйства | O38: 17421.667 | P38: 4200.971 | Q38: 17421.667 | R38: 17421.667 | S38: 0 | T38: 20323.362 | U38: 17421.67 | V38: 20323.362 | W38: 17421.67 | X38: 20323.362 | Y38: 17421.67 | Z38: 20323.362 | AA38: 0 | AB38: 0 | AC38: 0 | AD38: 0 | AE38: 0 | AF38: 0 | AG38: 0 | AH38: 0 | AI38: 0 | AJ38: 0 | AK38: 0 | AL38: 0 | AM38: 0 | AN38: 0 | AO38: 0 | AP38: 0 | AQ38: 0 | AR38: 0 | AS38: 0 | AT38: 0 | AV38: r_1_4 | AW38: r_1_4
H39: 1.4.0
G40: О | H40: 1.4.1 | I40: Строительство ВЛИ-0,4кВ от ТП-38 "Новый поселок" | J40: 2025 | K40: 2025 | L40: - | M40: 4-й квартал 2025 | N40: - | O40: 10755 | P40: 3262.681 | Q40: 10755 | R40: 10755 | S40: 0 | T40: 11844.222 | U40: 10755 | V40: 11844.222 | W40: 10755 | X40: 11844.222 | Y40: 10755 | Z40: 11844.222
G41: О | H41: 1.4.2 | I41: Строительство защитного сооружения гражданской обороны для укрытия наибольшей работающей смены ГУП НАО "Нарьян-Марская электростанция" (ПСД) | J41: 2024 | K41: 2025 | L41: - | M41: 4-й квартал 2024 | N41: - | O41: 6666.6667 | P41: 938.29 | Q41: 6666.6667 | R41: 6666.6667 | S41: 0 | T41: 8479.14 | U41: 6666.67 | V41: 8479.14 | W41: 6666.67 | X41: 8479.14 | Y41: 6666.67 | Z41: 8479.14
H42: Добавить
H43: 1.5 | I43: Покупка земельных участков для целей реализации инвестиционных проектов | O43: 0 | P43: 0 | Q43: 0 | R43: 0 | S43: 0 | T43: 0 | U43: 0 | V43: 0 | W43: 0 | X43: 0 | Y43: 0 | Z43: 0 | AA43: 0 | AB43: 0 | AC43: 0 | AD43: 0 | AE43: 0 | AF43: 0 | AG43: 0 | AH43: 0 | AI43: 0 | AJ43: 0 | AK43: 0 | AL43: 0 | AM43: 0 | AN43: 0 | AO43: 0 | AP43: 0 | AQ43: 0 | AR43: 0 | AS43: 0 | AT43: 0 | AV43: r_1_5 | AW43: r_1_5
H44: 1.5.0
H45: Добавить
H46: 1.6 | I46: Прочие инвестиционные проекты | O46: 99048 | P46: 98266.15 | Q46: 15715 | R46: 15715 | S46: 97222.16 | T46: 112155.31 | U46: 112937.16 | V46: 112155.31 | W46: 29604.16 | X46: 28822.307 | Y46: 29604.16 | Z46: 28822.307 | AA46: 0 | AB46: 0 | AC46: 0 | AD46: 0 | AE46: 0 | AF46: 0 | AG46: 0 | AH46: 0 | AI46: 0 | AJ46: 0 | AK46: 0 | AL46: 0 | AM46: 0 | AN46: 0 | AO46: 0 | AP46: 0 | AQ46: 83333 | AR46: 83333 | AS46: 0 | AT46: 0 | AV46: r_1_6 | AW46: r_1_6
H47: 1.6.0
...

Sheet Общая от 16.04.2026
B1: Мероприятия инвестиционной программы на 2023-2027 годы с НДС.
A2: № п/п | B2: Наименование | C2: утвержденна 21.10.2022 №554-р на 2023 | D2: утвержденна 21.10.2022 №554-р на 2024 | E2: утверждена 22.08.2023 №316-р на 2024 | F2: утверждена 11.11.2024 №175-р на 2024 | G2: утвержденна 21.10.2022 №554-р на 2025 | H2: утверждена 22.08.2023 №316-р на 2025 | I2: утверждена 11.11.2024 №175-р на 2025 | J2: корректировка на 2025 10.08.2025 | K2: корректировка на 2025 бюджет НАО | L2: утвержденна 21.10.2022 №554-р на 2026 | M2: утверждена 22.08.2023 №316-р на 2026 | N2: утверждена 11.11.2024 №175-р на 2026 | O2: утверждена 09.12.2025 №313-р на 2026 | P2: корректировка на 2026 амортизация | Q2: корректировка на 2026 бюджет НАО | R2: утвержденна 21.10.2022 №554-р на 2027 | S2: утверждена 22.08.2023 №316-р на 2027 | T2: утверждена 11.11.2024 №175-р на 2027 | U2: корректировка на 2027 амортизация | V2: корректировка на 2027 бюджет НАО
A4: 1 | B4: "Трансформаторная подстанция ТП 6/0,4 кВ с питающими кабельными и воздушными линиями 6 и 0,4 кВ в районе пер. Озерный п. Искателей | C4: 2.5 | D4: 25.628 | E4: 1e-07 | I4: 56.679 | J4: 56.679 | N4: 21.199 | O4: 21.199 | P4: 21.199
A5: 2 | B5: Трансформаторная подстанция ТП №4 "АТС" ул. Выучейского у дома 19А. Модернизация оборудования РУ 6 кВ, РУ 0,4 кВ. | D5: 0 | E5: 28.446 | F5: 28.446 | L5: 28.446 | M5: 0
A6: 4 | B6: Трансформаторная подстанция ТП-67 "Школа №5". Модернизация оборудования РУ-6кВ, РУ-0,4 кВ | D6: 9.854 | E6: 0 | L6: 0 | M6: 9.854 | N6: 9.854 | O6: 0
A7: 5 | B7: Трансформаторная подстанция ТП-7 "Столовая". Модернизация оборудования РУ-6 кВ | G7: 10.892 | H7: 10.892 | I7: 10.892 | J7: 0
A8: 6 | B8: Трансформаторная подстанция ТП-10 "Маслозавод". Модернизация оборудования РУ-6 кВ, РУ-0,4 кВ. | G8: 0.85 | H8: 0.85 | I8: 1.2 | J8: 1.2 | L8: 9.004 | M8: 9.004 | N8: 9.004 | O8: 0
A9: 7 | B9: Трансформаторная подстанция ТП-14 "Баня". Модернизация оборудования РУ-6кВ, РУ-0,4 кВ | G9: 0.85 | H9: 0.85 | I9: 0 | M9: 0 | N9: 1.2 | O9: 2.5 | P9: 1.7 | R9: 7.781 | S9: 7.781 | T9: 7.781 | U9: 0
B10: Трансформаторная подстанция ТП-3 "Больница". Модернизация оборудования РУ-0,4 кВ. ПСД | H10: 0 | I10: 1.2 | J10: 1.2
B11: Трансформаторная подстанция с питающими линиями в районе озера Сухого в п. Искателей | D11: 0 | E11: 19.799 | F11: 19.799
B12: Трансформаторная подстанция с питающими линиями в районе питьевого водозабора в п. Искателей (ДТП №1025 от 26.05.2022г) | C12: 18.983
B13: Трансформаторная подстанция с питающими линиями в районе пром-зоны в п. Лесозавод г. Нарьян-Мар | C13: 16.679
B14: Трансформаторная подстанция с питающими кабельными и воздушными линиями 6 кВ от реклоузера в п. Красное до ФГУП "РТРС" | C14: 38.013
B15: Трансформаторная подстанция ТП 16/1 "Мирный" в районе ул. Мира д. 68 | D15: 0 | E15: 3.104 | F15: 3.104
A16: 9 | B16: Трансформаторная подстанция ТП-39 "Котельная №12". Модернизация оборудования РУ-6кВ, РУ-0,4 кВ | G16: 0.85 | H16: 0.85 | I16: 0 | L16: 8.76 | M16: 8.76 | N16: 1.5 | O16: 0 | S16: 0 | T16: 8.76 | U16: 0
A17: 12 | B17: Трансформаторная подстанция ТП-118 "Мясокомбинат". Модернизация оборудования РУ-6кВ, РУ-0,4 кВ | G17: 0.85 | H17: 0.85 | I17: 1.2 | J17: 1.2 | L17: 14.823 | M17: 14.823 | N17: 0
A18: 13 | B18: Трансформаторная подстанция ТП-115 с питающими кабельными линиями 6кВ в г. Нарьян-Мар | L18: 0 | M18: 20.394 | N18: 0 | R18: 5.5 | S18: 12.158 | T18: 48.949 | V18: 49.94
B19: Трансформаторная подстанция ТП №49/1 "пер. Ленинградский" с питающими кабельными и воздушными линиями до ТП №50 "Виладж" | M19: 0 | N19: 32.391 | O19: 0 | V19: 32.391
A20: 14 | B20: Двух цепная ВЛЗ 6 кВ фидер "Нефтебаза", фидер "АТП" от реклоузера №2 до ТП №48 | D20: 0 | E20: 4.833 | F20: 4.833 | L20: 4 | M20: 0 | N20: 0 | Q20: 76.34 | R20: 6.833 | S20: 6 | T20: 6.833 | U20: 0
B21: Трансформаторная подстанция с питающими линиями в районе озера Сухого в п. Искателей. | N21: 7 | O21: 7 | P21: 5.465
B22: Трансформаторная подстанция с питающими линиями 6/0,4 кВ в районе оз. Комсомольское | O22: 6 | P22: 2.6 | U22: 37
B23: Трансформаторная подстанция с питающими линиями 6/0,4 кВ в районе «Станции по борьбе с животными | O23: 6 | P23: 4.736 | U23: 33
B24: Трансформаторная подстанция с питающими линиями 6/0,4 кВ в районе ул. Рабочая, 4а | O24: 6 | P24: 2.19 | U24: 42
B25: Трансформаторная подстанция с питающими линиями (ДТП №1221 от 31.08.2022 г. школа п. Искателей) | O25: 47.998 | P25: 36.794
A26: 15 | B26: Воздушные линии изолированные 0,4 кВ от ТП №75, фидер "Нефтяников, 18" | D26: 4.314 | E26: 0 | L26: 0 | M26: 4.314 | N26: 4.314 | O26: 0 | U26: 0
A27: 17 | B27: Строительство ВЛИ-0,4кВ от ТП-38 "Новый поселок" | H27: 0 | I27: 12.906 | J27: 12.906 | R27: 12.906 | S27: 12.906 | T27: 0
A28: 18 | B28: Строительство ВЛИ 0,4 кВ от ТП №67 фидер "Перьмдорстрой" с демонтажом ТП №53 (ПСД и СМР) | G28: 1.5 | H28: 1.5 | I28: 0 | M28: 0 | N28: 1.8 | O28: 0 | R28: 3.083 | S28: 3.083 | T28: 3.083 | U28: 0
A29: 19 | B29: Строительство ВЛИ 0,4 кВ от ТП №16/1 "Мирный" | R29: 4.583 | S29: 4.583 | T29: 4.583 | U29: 0
A30: 20 | B30: Строительство ВЛИ 0,4 кВ от ТП №100 "Малый Качгорт" | D30: 1.5 | E30: 1.5 | F30: 1.475 | R30: 3.083 | S30: 3.083 | T30: 3.083 | U30: 0
B31: Испытательный стенд для проведения проверки и настройки предохранительных клапанов | P31: 0.8
B32: Мезонин складской размером 6500*8240*5840 на колоннах | P32: 0.9
B33: Мобильная установка для регенерации энергетических масел УРМ-1000 | P33: 5.3
B34: Станок токарный СТ16К25Б/1500 | P34: 5.4
A35: 22 | B35: Экскаватор-погрузчик ЧЛМЗ | D35: 9.422 | E35: 9.422 | F35: 13.828
A36: 23 | B36: Автомобиль ГАЗ | D36: 0 | E36: 2.116 | F36: 2.866 | L36: 2.116 | M36: 0 | N36: 2.866 | O36: 0
B37: Автомобиль ГАЗ 231073 | P37: 2.3
B38: Автомобиль ГАЗ 27527 | P38: 2.1
B39: Автомобиль КамАЗ 6522-26011-53 самосвал | P39: 8.3
A40: 24 | B40: Автомобиль КамАЗ 43118 с КМУ TAURUS 086А и буровым оборудованием | G40: 14.014 | H40: 0 | I40: 18.858 | J40: 18.858
B41: Итого Сети | C41: 76.175 | D41: 50.718 | E41: 69.22 | F41: 74.351 | G41: 29.806 | H41: 15.792 | I41: 102.935 | J41: 92.043 | K41: 0 | L41: 67.149 | M41: 67.149 | N41: 91.128 | O41: 96.697 | P41: 99.784 | Q41: 76.34 | R41: 43.769 | S41: 49.594 | T41: 83.072 | U41: 112 | V41: 82.331
...

Sheet Общая от 18.05.2026
B1: Мероприятия инвестиционной программы на 2023-2027 годы с НДС.
A2: № п/п | B2: Наименование | C2: утвержденна 21.10.2022 №554-р на 2023 | D2: утвержденна 21.10.2022 №554-р на 2024 | E2: утверждена 22.08.2023 №316-р на 2024 | F2: утверждена 11.11.2024 №175-р на 2024 | G2: утвержденна 21.10.2022 №554-р на 2025 | H2: утверждена 22.08.2023 №316-р на 2025 | I2: утверждена 11.11.2024 №175-р на 2025 | J2: корректировка на 2025 10.08.2025 | K2: корректировка на 2025 бюджет НАО | L2: утвержденна 21.10.2022 №554-р на 2026 | M2: утверждена 22.08.2023 №316-р на 2026 | N2: утверждена 11.11.2024 №175-р на 2026 | O2: утверждена 09.12.2025 №313-р на 2026 | P2: корректировка на 2026 амортизация | Q2: корректировка на 2026 бюджет НАО | R2: утвержденна 21.10.2022 №554-р на 2027 | S2: утверждена 22.08.2023 №316-р на 2027 | T2: утверждена 11.11.2024 №175-р на 2027 | U2: утверждена 09.12.2025 №313-р на 2027 | V2: корректировка на 2027 амортизация | W2: корректировка на 2027 бюджет НАО
A4: 1 | B4: "Трансформаторная подстанция ТП 6/0,4 кВ с питающими кабельными и воздушными линиями 6 и 0,4 кВ в районе пер. Озерный п. Искателей | C4: 2.5 | D4: 25.628 | E4: 1e-07 | I4: 56.679 | J4: 56.679 | N4: 21.199 | O4: 21.199 | P4: 21.199 | U4: 0 | V4: 23.807
A5: 2 | B5: Трансформаторная подстанция ТП №4 "АТС" ул. Выучейского у дома 19А. Модернизация оборудования РУ 6 кВ, РУ 0,4 кВ. | D5: 0 | E5: 28.446 | F5: 28.446 | L5: 28.446 | M5: 0
A6: 4 | B6: Трансформаторная подстанция ТП-67 "Школа №5". Модернизация оборудования РУ-6кВ, РУ-0,4 кВ | D6: 9.854 | E6: 0 | L6: 0 | M6: 9.854 | N6: 9.854 | O6: 0
A7: 5 | B7: Трансформаторная подстанция ТП-7 "Столовая". Модернизация оборудования РУ-6 кВ | G7: 10.892 | H7: 10.892 | I7: 10.892 | J7: 0
A8: 6 | B8: Трансформаторная подстанция ТП-10 "Маслозавод". Модернизация оборудования РУ-6 кВ, РУ-0,4 кВ. | G8: 0.85 | H8: 0.85 | I8: 1.2 | J8: 1.2 | L8: 9.004 | M8: 9.004 | N8: 9.004 | O8: 0
A9: 7 | B9: Трансформаторная подстанция ТП-14 "Баня". Модернизация оборудования РУ-6кВ, РУ-0,4 кВ | G9: 0.85 | H9: 0.85 | I9: 0 | M9: 0 | N9: 1.2 | O9: 2.5 | P9: 1.7 | R9: 7.781 | S9: 7.781 | T9: 7.781 | U9: 0
B10: Трансформаторная подстанция ТП-3 "Больница". Модернизация оборудования РУ-0,4 кВ. ПСД | H10: 0 | I10: 1.2 | J10: 1.2
B11: Трансформаторная подстанция с питающими линиями в районе озера Сухого в п. Искателей | D11: 0 | E11: 19.799 | F11: 19.799
A12: ф | B12: Трансформаторная подстанция с питающими линиями в районе питьевого водозабора в п. Искателей (ДТП №1025 от 26.05.2022г) | C12: 18.983
B13: Трансформаторная подстанция с питающими линиями в районе пром-зоны в п. Лесозавод г. Нарьян-Мар | C13: 16.679
B14: Трансформаторная подстанция с питающими кабельными и воздушными линиями 6 кВ от реклоузера в п. Красное до ФГУП "РТРС" | C14: 38.013
B15: Трансформаторная подстанция ТП 16/1 "Мирный" в районе ул. Мира д. 68 | D15: 0 | E15: 3.104 | F15: 3.104
A16: 9 | B16: Трансформаторная подстанция ТП-39 "Котельная №12". Модернизация оборудования РУ-6кВ, РУ-0,4 кВ | G16: 0.85 | H16: 0.85 | I16: 0 | L16: 8.76 | M16: 8.76 | N16: 1.5 | O16: 0 | S16: 0 | T16: 8.76 | U16: 0
A17: 12 | B17: Трансформаторная подстанция ТП-118 "Мясокомбинат". Модернизация оборудования РУ-6кВ, РУ-0,4 кВ | G17: 0.85 | H17: 0.85 | I17: 1.2 | J17: 1.2 | L17: 14.823 | M17: 14.823 | N17: 0
A18: 13 | B18: Трансформаторная подстанция ТП-115 с питающими кабельными линиями 6кВ в г. Нарьян-Мар | L18: 0 | M18: 20.394 | N18: 0 | R18: 5.5 | S18: 12.158 | T18: 48.949 | U18: 48.949 | W18: 0
B19: Трансформаторная подстанция ТП №49/1 "пер. Ленинградский" с питающими кабельными и воздушными линиями до ТП №50 "Виладж" | M19: 0 | N19: 32.391 | O19: 0 | U19: 32.391 | W19: 32.391
A20: 14 | B20: Двух цепная ВЛЗ 6 кВ фидер "Нефтебаза", фидер "АТП" от реклоузера №2 до ТП №48 | D20: 0 | E20: 4.833 | F20: 4.833 | L20: 4 | M20: 0 | N20: 0 | O20: 76.34 | Q20: 76.34 | R20: 6.833 | S20: 6 | T20: 6.833 | U20: 0
B21: Трансформаторная подстанция с питающими линиями в районе озера Сухого в п. Искателей. | N21: 7 | O21: 7 | P21: 5.465
B22: Трансформаторная подстанция с питающими линиями 6/0,4 кВ в районе оз. Комсомольское | O22: 6 | P22: 2.6 | U22: 37 | V22: 0
B23: Трансформаторная подстанция с питающими линиями 6/0,4 кВ в районе «Станции по борьбе с животными | O23: 6 | P23: 4.736 | U23: 33 | V23: 0
B24: Трансформаторная подстанция с питающими линиями 6/0,4 кВ в районе ул. Рабочая, 4а | O24: 6 | P24: 2.19 | U24: 42 | V24: 0
B25: Трансформаторная подстанция с питающими линиями (ДТП №1221 от 31.08.2022 г. школа п. Искателей) | O25: 47.998 | P25: 36.794
A26: 15 | B26: Воздушные линии изолированные 0,4 кВ от ТП №75, фидер "Нефтяников, 18" | D26: 4.314 | E26: 0 | L26: 0 | M26: 4.314 | N26: 4.314 | O26: 0 | U26: 0
A27: 17 | B27: Строительство ВЛИ-0,4кВ от ТП-38 "Новый поселок" | H27: 0 | I27: 12.906 | J27: 12.906 | R27: 12.906 | S27: 12.906 | T27: 0
A28: 18 | B28: Строительство ВЛИ 0,4 кВ от ТП №67 фидер "Перьмдорстрой" (ПСД) | G28: 1.5 | H28: 1.5 | I28: 0 | M28: 0 | N28: 1.8 | O28: 0 | R28: 3.083 | S28: 3.083 | T28: 3.083 | U28: 0 | V28: 8
A29: 19 | B29: Строительство ВЛИ 0,4 кВ от ТП №16/1 "Мирный" | R29: 4.583 | S29: 4.583 | T29: 4.583 | U29: 0
A30: 20 | B30: Строительство ВЛИ 0,4 кВ от ТП №100 "Малый Качгорт" | D30: 1.5 | E30: 1.5 | F30: 1.475 | R30: 3.083 | S30: 3.083 | T30: 3.083 | U30: 0
B31: Испытательный стенд для проведения проверки и настройки предохранительных клапанов | P31: 0.8
B32: Мезонин складской размером 6500*8240*5840 на колоннах | P32: 0.9
B33: Стелаж для хранения оборудования и инвентаря | V33: 0.135
B34: Оборудование для перемотки кабельно-проводниковой продукции | V34: 0.32
B35: Мобильная установка для регенерации энергетических масел УРМ-1000 | P35: 5.3
B36: Станок токарный СТ16К25Б/1500 | P36: 5.4
A37: 22 | B37: Экскаватор-погрузчик ЧЛМЗ | D37: 9.422 | E37: 9.422 | F37: 13.828
A38: 23 | B38: Автомобиль ГАЗ | D38: 0 | E38: 2.116 | F38: 2.866 | L38: 2.116 | M38: 0 | N38: 2.866 | O38: 0
B39: Автомобиль ГАЗ 231073 | P39: 2.3
B40: Автомобиль ГАЗ 27527 | P40: 2.1
B41: Автомобиль КамАЗ 6522-26011-53 самосвал | P41: 8.3
...

Sheet Информация для фин.плана уточн.
A2: № п/п | B2: Наименование реализованного (планируемого к реализации) мероприятия в рамках Инвестиционной программы | C2: План без НДС | D2: Факт без НДС | E2: План без НДС | F2: Факт без НДС | G2: План без НДС | H2: Факт без НДС | I2: План без НДС | J2: Предложение по корректировке без НДС | K2: План без НДС | L2: Предложение по корректировке без НДС | M2: Категория объекта
C3: 2023 | E3: 2024 | G3: 2025 | I3: 2026 | K3: 2027
A5: 1 | B5: Трансформаторная подстанция с питающими кабельными и воздушными линиями 6 кВ от реклоузера в п. Красное до ФГУП "РТРС" | C5: 31.678 | D5: 36.19 | M5: новое строительство и расширение
A6: 2 | B6: Трансформаторная подстанция с питающими линиями в районе питьевого водозабора в п. Искателей (ДТП №1025 от 26.05.2022г) | C6: 15.819 | D6: 18.925 | M6: новое строительство и расширение
A7: 3 | B7: Трансформаторная подстанция с питающими линиями в районе пром-зоны в п. Лесозавод г. Нарьян-Мар | C7: 13.899 | D7: 16.971 | M7: новое строительство и расширение
A8: 4 | B8: "Трансформаторная подстанция ТП 6/0,4 кВ с питающими кабельными и воздушными линиями 6 и 0,4 кВ в районе пер. Озерный п. Искателей (ПСД) | C8: 2.083 | D8: 0.502 | E8: 0 | F8: 10.477 | G8: 47.232 | H8: 39.816 | I8: 17.666 | J8: 20.19 | K8: 8.3333333e-14 | L8: 19.513934 | M8: новое строительство и расширение
A9: 5 | B9: Модернизация распределительного устройства-6 кВ ГТЭС-12 ГУП НАО "Нарьян-Марская электростанция" | C9: 8.333 | D9: 5.42 | M9: техническое перевооружение и реконструкция
A10: 6 | B10: Трансформаторная подстанция с питающими линиями в районе озера Сухого в п. Искателей | E10: 16.499 | F10: 8.812 | M10: новое строительство и расширение
A11: 7 | B11: Трансформаторная подстанция ТП №4 "АТС" ул. Выучейского у дома 19А. Модернизация оборудования РУ 6 кВ, РУ 0,4 кВ. | E11: 23.705 | F11: 24.573 | M11: техническое перевооружение и реконструкция
A12: 8 | B12: Трансформаторная подстанция ТП 16/1 "Мирный" в районе ул. Мира д. 68 | E12: 2.587 | F12: 7.366 | M12: новое строительство и расширение
A13: 9 | B13: Двух цепная ВЛЗ 6 кВ фидер "Нефтебаза", фидер "АТП" от реклоузера №2 до ТП №48 | E13: 4.028 | F13: 5.647 | I13: 63.617 | J13: 62.574 | M13: новое строительство и расширение
A14: 10 | B14: Строительство ВЛИ 0,4 кВ от ТП №100 "Малый Качгорт" | E14: 1.229 | F14: 0 | M14: новое строительство и расширение
A15: 11 | B15: 2 очередь реконст. электрост. Здание ГТЭС-18 2010г (в части тома №5 "Газоснабжения") | E15: 8.32 | F15: 0 | M15: техническое перевооружение и реконструкция
A16: 12 | B16: Модернизация третьей очереди реконструкции Нарьян-марской электростанции в части: главной схемы электрических соединений для устранения несиметрии фазового напряжения в электрической сети 6,3 кВ. | E16: 0.725 | F16: 0.686 | M16: техническое перевооружение и реконструкция
A17: 13 | B17: Модернизация РУСН-0,4 кВ ГТЭС-12 ГУП НАО "Нарьян-Марская электростанция" ПСД | E17: 2.919 | F17: 0 | M17: техническое перевооружение и реконструкция
A18: 14 | B18: Модернизация распределительного устройства-6 кВ ГТЭС-12 ГУП НАО "Нарьян-Марская электростанция" | E18: 12.938 | F18: 12.982 | M18: техническое перевооружение и реконструкция
A19: 15 | B19: Строительство наружного и внутреннего газопровода среднего давления к котельной ГУП НАО "Нарьян-Марская электростанция" | E19: 1.917 | F19: 2.728 | M19: новое строительство и расширение
A20: 16 | B20: Устройство инженерного защитного периметрального ограждения Энергокомплекса п. Красное | E20: 4.021 | F20: 4.452 | M20: новое строительство и расширение
A21: 17 | B21: Автомобиль ГАЗ | E21: 2.388 | F21: 3.318 | M21: приобретение объектов основных средств, земельных участков
A22: 18 | B22: Экскаватор-погрузчик ЧЛМЗ | E22: 11.523 | F22: 11.79 | M22: приобретение объектов основных средств, земельных участков
A23: 19 | B23: Трансформаторная подстанция ТП-10 "Маслозавод". Модернизация оборудования РУ-6 кВ, РУ-0,4 кВ.ПСД | G23: 1 | H23: 0.044 | M23: техническое перевооружение и реконструкция
A24: 20 | B24: Трансформаторная подстанция ТП-3 "Больница". Модернизация оборудования РУ-0,4 кВ. ПСД | G24: 1 | H24: 0.112 | M24: техническое перевооружение и реконструкция
A25: 21 | B25: Трансформаторная подстанция ТП-118 "Мясокомбинат". Модернизация оборудования РУ-6кВ, РУ-0,4 кВ ПСД | G25: 1 | H25: 0.044 | M25: техническое перевооружение и реконструкция
A26: 22 | B26: Строительство ВЛИ-0,4кВ от ТП-38 "Новый поселок" | G26: 10.755 | H26: 11.844 | M26: новое строительство и расширение
A27: 23 | B27: Модернизация распределительного устройства-6 кВ ГТЭС-12 ГУП НАО "Нарьян-Марская электростанция" | G27: 4.438 | H27: 8.397 | M27: техническое перевооружение и реконструкция
A28: 24 | B28: Строительство защитного сооружения гражданской обороны для укрытия наибольшей работающей смены ГУП НАО "Нарьян-Марская электростанция" (ПСД) | G28: 6.667 | H28: 8.479 | K28: 8.3333333e-08 | L28: 28.404918 | M28: новое строительство и расширение
A29: 25 | B29: Автомобиль КамАЗ 43118 с КМУ TAURUS 086А и буровым оборудованием | G29: 15.714 | H29: 14.935 | M29: приобретение объектов основных средств, земельных участков
A30: 26 | B30: Двигатель газотурбинный ГТД-6/РМ на раме для эксплуатации в климатических районах с умеренным и холодным климатом | G30: 97.222 | H30: 85.63 | M30: приобретение объектов основных средств, земельных участков
A31: 27 | B31: Трансформаторная подстанция с питающими линиями (ДТП №1221 от 31.08.2022 г. школа п. Искателей) | I31: 47.998 | J31: 36.794 | M31: новое строительство и расширение
A32: 28 | B32: Трансформаторная подстанция ТП-14 "Баня". Модернизация оборудования РУ-6кВ, РУ-0,4 кВ | I32: 2.083 | J32: 1.701 | M32: техническое перевооружение и реконструкция
A33: 29 | B33: Трансформаторная подстанция с питающими линиями 6/0,4 кВ в районе оз. Комсомольское | I33: 5 | J33: 2.416 | K33: 30.833333 | L33: 8.3333333e-11 | M33: проектно-изыскательные работы для объектов нового строительства будущих лет
A34: 30 | B34: Трансформаторная подстанция с питающими линиями 6/0,4 кВ в районе «Станции по борьбе с болезнями животных" | I34: 5 | J34: 4.51 | K34: 27.5 | L34: 8.3333333e-12 | M34: проектно-изыскательные работы для объектов нового строительства будущих лет
A35: 31 | B35: Трансформаторная подстанция с питающими линиями 6/0,4 кВ в районе ул. Рабочая, 4а | I35: 5 | J35: 2.086 | K35: 35 | L35: 8.3333333e-12 | M35: проектно-изыскательные работы для объектов нового строительства будущих лет
A36: 33 | B36: «Трансформаторная подстанция с питающими линиями в районе озера Сухого в п. Искателей». | I36: 5.833 | J36: 4.48 | M36: новое строительство и расширение
A37: 34 | B37: Реконструкция здания Электростанции (Котельная) | I37: 51.207 | J37: 50.367 | M37: техническое перевооружение и реконструкция
A38: 35 | B38: Строительство четырех дизель-генераторных установок контейнерного типа суммарной установленной мощностью 10 МВт на территории ГУП НАО «Нарьян-Марская электростанция (ПСД) | I38: 12.5 | J38: 11.429 | M38: проектно-изыскательные работы для объектов нового строительства будущих лет
A39: 36 | B39: Строительство наружного и внутреннего газопровода среднего давления к котельной ГУП НАО "Нарьян-Марская электростанция" | I39: 4.273 | J39: 4.203 | M39: новое строительство и расширение
A40: 37 | B40: Испытательный стенд для проведения проверки и настройки предохранительных клапанов | I40: 1e-10 | J40: 0.6557377 | M40: приобретение объектов основных средств, земельных участков
A41: 38 | B41: Мезонин складской размером 6500*8240*5840 на колоннах | I41: 1e-10 | J41: 0.73770492 | M41: приобретение объектов основных средств, земельных участков
A42: 39 | B42: Мобильная установка для регенерации энергетических масел УРМ-1000 | I42: 1e-10 | J42: 4.3442623 | M42: приобретение объектов основных средств, земельных участков
...

Sheet Амортизация (23 24 25 26 27 го)
A2: Расчет амортизации основных средств на 2023-2027 годы
A3: ГУП НАО "Нарьян-Марская электростанция"
A5: Период | B5: ПРОИЗВОДСТВО | C5: ПЕРЕДАЧА | D5: Автотранспортный цех | E5: СБЫТ | F5: ТЕПЛОЭНЕРГИЯ | G5: ОБЩЕПРОИЗВ. РАСХОДЫ | H5: ОБЩЕХОЗ. РАСХОДЫ | I5: ИТОГО
A6: 2023 | B6: 38477645 | C6: 33344026 | D6: 1765364 | E6: 1965292.1 | F6: 112242.68 | G6: 2327376.9 | H6: 433105.57 | I6: 78425053 | J6: 78425053 | K6: 0
A7: год | B7: 38477645 | C7: 33344026 | D7: 1765364 | E7: 1965292.1 | F7: 112242.68 | G7: 2327376.9 | H7: 433105.57 | I7: 78425053
A8: 2024 | B8: 32182221 | C8: 38153975 | D8: 3096299.8 | E8: 22504593 | F8: 105553.76 | G8: 1919739.6 | H8: 423398.16 | I8: 98385780 | J8: 98385780 | K8: 0
A9: год | B9: 32182221 | C9: 38153975 | D9: 3096299.8 | E9: 22504593 | F9: 105553.76 | G9: 1919739.6 | H9: 423398.16 | I9: 98385780
A10: 2025 | B10: 30996967 | C10: 40464096 | D10: 4491141.4 | E10: 22226941 | F10: 104403.56 | G10: 1442749.6 | H10: 423398.16 | I10: 1.001497e+08 | J10: 1.001497e+08 | K10: 0
A11: год | B11: 30996967 | C11: 40464096 | D11: 4491141.4 | E11: 22226941 | F11: 104403.56 | G11: 1442749.6 | H11: 423398.16 | I11: 1.001497e+08
A12: 2026 | B12: 36870565 | C12: 37070235 | D12: 4375240.7 | E12: 22365080 | F12: 104403.56 | G12: 1511702.7 | H12: 423398.16 | I12: 1.0272062e+08 | J12: 1.0272062e+08 | K12: 0
A13: год | B13: 36870565 | C13: 37070235 | D13: 4375240.7 | E13: 22365080 | F13: 104403.56 | G13: 1511702.7 | H13: 423398.16 | I13: 1.0272062e+08
A14: 2027 | B14: 35460262 | C14: 36889291 | D14: 4279876.8 | E14: 22365080 | F14: 104403.56 | G14: 1473662.4 | H14: 423398.16 | I14: 1.0099597e+08 | J14: 1.0099597e+08 | K14: 0
A15: год | B15: 35460262 | C15: 36889291 | D15: 4279876.8 | E15: 22365080 | F15: 104403.56 | G15: 1473662.4 | H15: 423398.16 | I15: 1.0099597e+08
A21: Экономист | F21: Воробьева И.М.

Sheet Баланс 2023
C1: Бухгалтерский баланс
D2: на 31 декабря 2023 г.
C4: Пояснения | D4: Наименование показателя | F4: Код | G4: На 31 декабря 2023 г. | H4: На 31 декабря 2022 г. | I4: На 31 декабря 2021 г.
D5: АКТИВ
D6: I. ВНЕОБОРОТНЫЕ АКТИВЫ
D7: Нематериальные активы | F7: 1110 | G7: 0 | H7: 0 | I7: 0
E8: Нематериальные активы в организации | F8: 11101 | G8: 0 | H8: 0 | I8: 0
E9: Приобретение нематериальных активов | F9: 11102 | G9: 0 | H9: 0 | I9: 0
G10: 0 | H10: 0 | I10: 0
D11: Результаты исследований и разработок | F11: 1120 | G11: 0 | H11: 0 | I11: 0
E12: Расходы на научно-исследовательские, опытно-конструкторские и технологические работы | F12: 11201 | G12: 0 | H12: 0 | I12: 0
E13: Выполнение научно-исследовательских, опытно-конструкторских и технологических работ | F13: 11202 | G13: 0 | H13: 0 | I13: 0
G14: 0 | H14: 0 | I14: 0
D15: Нематериальные поисковые активы | F15: 1130 | G15: 0 | H15: 0 | I15: 0
G16: 0 | H16: 0 | I16: 0
D17: Материальные поисковые активы | F17: 1140 | G17: 0 | H17: 0 | I17: 0
G18: 0 | H18: 0 | I18: 0
D19: Основные средства | F19: 1150 | G19: 1404288000 | H19: 1248639000 | I19: 983686000
E20: в том числе:
E21: Основные средства в организации | F21: 11501 | G21: 0 | H21: 0 | I21: 0
E22: Объекты недвижимости, права собственности на которые не зарегистрированы | F22: 11502 | G22: 0 | H22: 0 | I22: 0
E23: Оборудование к установке | F23: 11503 | G23: 0 | H23: 0 | I23: 0
E24: Приобретение земельных участков | F24: 11504 | G24: 0 | H24: 0 | I24: 0
E25: Приобретение объектов природопользования | F25: 11505 | G25: 0 | H25: 0 | I25: 0
E26: Строительство объектов основных средств | F26: 11506 | G26: 0 | H26: 0 | I26: 0
E27: Приобретение объектов основных средств | F27: 11507 | G27: 0 | H27: 0 | I27: 0
E28: Расходы будущих периодов | F28: 11508 | G28: 0 | H28: 0 | I28: 0
E29: Права пользования активами | F29: 11509 | G29: 0 | H29: 0 | I29: 0
C30: 5200 | E30: основные средства в организации | G30: 1255475000 | H30: 1097782000 | I30: 957997000
C31: 5240 | E31: незавершенные капитальные вложения | G31: 139339000 | H31: 141575000 | I31: 25689000
C32: 5207 | E32: право пользования активом | G32: 9474000 | H32: 9282000 | I32: 0
D33: Доходные вложения в материальные ценности | F33: 1160 | G33: 0 | H33: 0 | I33: 0
E34: Материальные ценности в организации | F34: 11601 | G34: 0 | H34: 0 | I34: 0
E35: Материальные ценности предоставленные во временное владение и пользование | F35: 11602 | G35: 0 | H35: 0 | I35: 0
E36: Материальные ценности предоставленные во временное пользование | F36: 11603 | G36: 0 | H36: 0 | I36: 0
E37: Прочие доходные вложения | F37: 11604 | G37: 0 | H37: 0 | I37: 0
G38: 0 | H38: 0 | I38: 0
D39: Финансовые вложения | F39: 1170 | G39: 0 | H39: 0 | I39: 0
E40: Паи | F40: 11701 | G40: 0 | H40: 0 | I40: 0
G41: 0 | H41: 0 | I41: 0
...

Sheet Лист2
C1: Отчет о движении денежных средств
C2: Наименование показателя | E2: Код | F2: За Январь - Декабрь 2023 г. | G2: За Январь - Декабрь 2022 г.
C3: Денежные потоки от текущих операций
C4: Поступления - всего | E4: 4110 | F4: 634542000 | G4: 665620000
D5: в том числе:
D6: от продажи продукции, товаров, работ и услуг | E6: 4111 | F6: 603483000 | G6: 526806000
D7: арендных платежей, лицензионных платежей, роялти, комиссионных и иных аналогичных платежей | E7: 4112 | F7: 0 | G7: 0
D8: от перепродажи финансовых вложений | E8: 4113 | F8: 0 | G8: 0
D9: субсидия на возмещение расходов | E9: 4114 | F9: 549000 | G9: 0
D10: возврат депозитов | E10: 4115 | F10: 13000000 | G10: 122811000
D11: проценты по депозитам | E11: 4116 | F11: 5264000 | G11: 10593000
D12: прочие поступления | E12: 4119 | F12: 12246000 | G12: 5410000
C13: Платежи - всего | E13: 4120 | F13: -514832000 | G13: -410400000
D14: в том числе:
D15: поставщикам (подрядчикам) за сырье, материалы, работы, услуги | E15: 4121 | F15: -251195000 | G15: -157079000 | K15: 2023 | L15: 2022
D16: в связи с оплатой труда работников | E16: 4122 | F16: -236602000 | G16: -225493000 | I16: =F16/100*29.3 -> -69324386 | K16: =-F16/1000000 -> 236.602 | L16: =-G16/1000000 -> 225.493
D17: процентов по долговым обязательствам | E17: 4123 | F17: 0 | G17: 0 | I17: =G16/100*29.3 -> -66069449 | K17: =K16+I16/1000000 -> 167.27761 | L17: =I17/1000000+L16 -> 159.42355
D18: налога на прибыль организаций | E18: 4124 | F18: -5790000 | G18: -654000
D19: налоги и сборы | E19: 4125 | F19: -18330000 | G19: -18203000 | K19: =-I16/1000000 -> 69.324386 | L19: =-I17/1000000 -> 66.069449
D20: обеспечение контрактов | E20: 4126 | F20: -619000 | G20: -2011000
D21: прочие платежи | E21: 4129 | F21: -2296000 | G21: -6960000
C22: Сальдо денежных потоков от текущих операций | E22: 4100 | F22: 119710000 | G22: 255220000
C23: Денежные потоки от инвестиционных операций | K23: =K17+K19-K16 -> 0 | L23: =L17+L19-L16 -> 0
C24: Поступления - всего | E24: 4210 | F24: 0 | G24: 0
D25: в том числе:
D26: от продажи внеоборотных активов (кроме финансовых вложений) | E26: 4211 | F26: 0 | G26: 0
D27: от продажи акций других организаций (долей участия) | E27: 4212 | F27: 0 | G27: 0 | J27: =-G13/1000000-'Финансовый план 2027'!I183 -> 0
D28: от возврата предоставленных займов, от продажи долговых ценных бумаг (прав требования денежных средств к другим лицам) | E28: 4213 | F28: 0 | G28: 0
D29: дивидендов, процентов по долговым финансовым вложениям и аналогичных поступлений от долевого участия в других организациях | E29: 4214 | F29: 0 | G29: 0
D30: прочие поступления | E30: 4219 | F30: 0 | G30: 0
C31: Платежи - всего | E31: 4220 | F31: -121581000 | G31: -251114000
D32: в том числе:
D33: в связи с приобретением, созданием, модернизацией, реконструкцией и подготовкой к использованию внеоборотных активов | E33: 4221 | F33: -121581000 | G33: -251114000
D34: в связи с приобретением акций других организаций (долей участия) | E34: 4222 | F34: 0 | G34: 0
D35: в связи с приобретением долговых ценных бумаг (прав требования денежных средств к другим лицам), предоставление займов другим лицам | E35: 4223 | F35: 0 | G35: 0
D36: процентов по долговым обязательствам, включаемым в стоимость инвестиционного актива | E36: 4224 | F36: 0 | G36: 0
D37: прочие платежи | E37: 4229 | F37: 0 | G37: 0
C38: Сальдо денежных потоков от инвестиционных операций | E38: 4200 | F38: -121581000 | G38: -251114000
C39: Денежные потоки от финансовых операций
C40: Поступления - всего | E40: 4310 | F40: 0 | G40: 0
...

Sheet 90.02
A1: ГУП НАО "НАРЬЯН-МАРСКАЯ ЭЛЕКТРОСТАНЦИЯ"
A2: Оборотно-сальдовая ведомость по счету 90.02 за 2022 г.
A4: Выводимые данные: БУ (данные бухгалтерского учета)
A6: Счет | B6: Сальдо на начало периода | D6: Обороты за период | F6: Сальдо на конец периода
A7: Номенклатурные группы | B7: Дебет | C7: Кредит | D7: Дебет | E7: Кредит | F7: Дебет | G7: Кредит
A9: 90.02 | D9: 4.9445747e+08 | E9: 4.9445747e+08
A10: 90.02.1 | D10: 4.1794912e+08 | E10: 4.1794912e+08
A11: <...> | E11: 4.1794912e+08
A12: 20.1 Электроэнергия | D12: 4.1203064e+08
A13: 20.1 Электроэнергия | D13: 4.1203064e+08 | H13: =D13/1000000 -> 412.03064
A14: 20.3.1 Технологическое присоединение до 15 кВт | D14: 4537676.4 | H14: =D14/1000000 -> 4.5376764
A15: 20.3.2 Технологическое присоединение свыше 15 кВт | D15: 291671.75 | H15: =D15/1000000 -> 0.29167175
A16: 20.4 Прочие услуги | D16: 476230.87 | H16: =D16/1000000 -> 0.47623087
A17: Резерв под обесценение материалов | D17: 612902.21 | H17: =D17/1000000 -> 0.61290221
A18: 90.02.3 | D18: 68774013 | E18: 68774013
A19: 90.02.4 | D19: 7734330.2 | E19: 7734330.2
A20: Итого | D20: 4.9445747e+08 | E20: 4.9445747e+08 | H20: =SUM(H13:H19) -> 417.94912
A22: ГУП НАО "НАРЬЯН-МАРСКАЯ ЭЛЕКТРОСТАНЦИЯ"
A23: Оборотно-сальдовая ведомость по счету 90.02 за 2023 г.
A25: Выводимые данные: БУ (данные бухгалтерского учета)
A27: Счет | B27: Сальдо на начало периода | D27: Обороты за период | F27: Сальдо на конец периода
A28: Номенклатурные группы | B28: Дебет | C28: Кредит | D28: Дебет | E28: Кредит | F28: Дебет | G28: Кредит
A30: 90.02 | D30: 5.423677e+08 | F30: 5.423677e+08
A31: 90.02.1 | D31: 4.6883108e+08 | F31: 4.6883108e+08
A32: 20.1 Электроэнергия | D32: 4.6019352e+08
A33: 20.1 Электроэнергия | D33: 4.6019352e+08 | H33: =D33/1000000 -> 460.19352
A34: 20.3.1 Технологическое присоединение до 15 кВт | D34: 5617515.1 | H34: =D34/1000000 -> 5.6175151
A35: 20.3.2 Технологическое присоединение свыше 15 кВт | D35: 1609374.3 | H35: =D35/1000000 -> 1.6093743
A36: 20.4 Прочие услуги | D36: 654806.21 | H36: =D36/1000000 -> 0.65480621
A37: Резерв под обесценение материалов | D37: 755858.6 | H37: =D37/1000000 -> 0.7558586
A38: 90.02.3 | D38: 65441174 | F38: 65441174
A39: 90.02.4 | D39: 8095448.6 | F39: 8095448.6
A40: Итого | D40: 5.423677e+08 | F40: 5.423677e+08 | H40: =SUM(H33:H39) -> 468.83108

Sheet 90.01
A1: ГУП НАО "НАРЬЯН-МАРСКАЯ ЭЛЕКТРОСТАНЦИЯ"
A2: Оборотно-сальдовая ведомость по счету 90.01 за 2022 г.
A4: Выводимые данные: БУ (данные бухгалтерского учета)
A6: Наименование счета, Счет | B6: Сальдо на начало периода | D6: Обороты за период | F6: Сальдо на конец периода
A7: Номенклатурные группы | B7: Дебет | C7: Кредит | D7: Дебет | E7: Кредит | F7: Дебет | G7: Кредит
A9: Выручка, 90.01 | D9: 6.1208882e+08 | E9: 6.1208882e+08
A10: <...> | D10: 6.1208882e+08
A11: 20.1 Электроэнергия | E11: 6.0463121e+08
A12: 20.1 Электроэнергия | E12: 6.0463121e+08 | H12: =E12/1.2 -> 5.0385934e+08 | I12: =H12/1000000 -> 503.85934
A13: 20.3.1 Технологическое присоединение до 15 кВт | E13: 1717525.7 | H13: =E13/1.2 -> 1431271.4 | I13: =H13/1000000 -> 1.4312714
A14: 20.3.2 Технологическое присоединение свыше 15 кВт | E14: 1880999.1 | H14: =E14/1.2 -> 1567499.3 | I14: =H14/1000000 -> 1.5674993
A15: 20.4 Прочие услуги | E15: 2715347.3 | H15: =E15/1.2 -> 2262789.4 | I15: =H15/1000000 -> 2.2627894
A16: 20.5 Оказание транспортных услуг | E16: 55031.2 | H16: =E16/1.2 -> 45859.333 | I16: =H16/1000000 -> 0.045859333
A17: 20.6 Ремонт и тех.обслуживание сетей | E17: 1088706.4 | H17: =E17/1.2 -> 907255.31 | I17: =H17/1000000 -> 0.90725531
A18: Итого | D18: 6.1208882e+08 | E18: =SUM(E12:E17) -> 6.1208882e+08 | H18: =SUM(H12:H17) -> 5.1007402e+08 | I18: =SUM(I12:I17) -> 510.07402
A21: Справка о потреблении электроэнергии за период 2022 г.
A22: Абонент: АО "Оборонэнерго"
A24: Месяц | B24: Тариф | C24: кВт/ч | D24: Начислено с НДС
A25: Январь 2022 | B25: Х | C25: 4687 | D25: 34140.11
B26: Производственный | C26: 4687 | D26: 34140.11
A27: Февраль 2022 | B27: Х | C27: 3061 | D27: 22296.32
B28: Производственный | C28: 3061 | D28: 22296.32
A29: Март 2022 | B29: Х | C29: 1372 | D29: 9993.65
B30: Производственный | C30: 1372 | D30: 9993.65
A31: Апрель 2022 | B31: Х | C31: 980 | D31: 7138.32
B32: Производственный | C32: 980 | D32: 7138.32
A33: Май 2022 | B33: Х | C33: 846 | D33: 6162.26
B34: Производственный | C34: 846 | D34: 6162.26
A35: Июнь 2022 | B35: Х | C35: 742 | D35: 5404.73
B36: Производственный | C36: 742 | D36: 5404.73
A37: Июль 2022 | B37: Х | C37: 424 | D37: 3281.76
B38: Производственный | C38: 424 | D38: 3281.76
A39: Август 2022 | B39: Х | C39: 838 | D39: 6486.12
B40: Производственный | C40: 838 | D40: 6486.12
A41: Сентябрь 2022 | B41: Х | C41: 592 | D41: 4582.08
B42: Производственный | C42: 592 | D42: 4582.08
A43: Октябрь 2022 | B43: Х | C43: 1025 | D43: 7933.5
B44: Производственный | C44: 1025 | D44: 7933.5
A45: Ноябрь 2022 | B45: Х | C45: 956 | D45: 7399.44
B46: Производственный | C46: 956 | D46: 7399.44
...

Sheet Амортизация (факт 2022)
A1: Расчет амортизации основных средств
A2: за период с 2022 года по 2027 год
A3: ГУП НАО "Нарьян-Марская электростанция
B5: ПРОИЗВОДСТВО | C5: ПЕРЕДАЧА | D5: Автотранспортный цех | E5: СБЫТ | F5: ТЕПЛОЭНЕРГИЯ | G5: ОБЩЕПРОИЗВ. РАСХОДЫ | H5: ОБЩЕХОЗ. РАСХОДЫ | I5: ИТОГО
A6: 2022 | B6: ='2023-2027'!N706 -> 44021051 | C6: ='2023-2027'!N707 -> 30996748 | D6: ='2023-2027'!N689 -> 1760473.5 | E6: ='2023-2027'!N708 -> 63458.657 | F6: ='2023-2027'!N713 -> 113987.63 | G6: ='2023-2027'!N711 -> 2556609.5 | H6: ='2023-2027'!N712 -> 439854.21 | I6: =SUM(B6:H6) -> 79952182 | J6: =I6-'2023-2027'!N684 -> 0
A7: 2023 | B7: ='2023-2027'!AC706 -> 38490302 | C7: ='2023-2027'!AC707 -> 32762292 | D7: ='2023-2027'!AC714 -> 1765364 | E7: ='2023-2027'!AC708 -> 1965292.1 | F7: ='2023-2027'!AC713 -> 112242.68 | G7: ='2023-2027'!AC711 -> 2236685.4 | H7: ='2023-2027'!AC712 -> 433105.56 | I7: =SUM(B7:H7) -> 77765284 | J7: =I7-'2023-2027'!AC684 -> 0
A8: 2024 | B8: ='2023-2027'!AR706 -> 32015911 | C8: ='2023-2027'!AR707 -> 34215835 | D8: ='2023-2027'!AR714 -> 3451872 | E8: ='2023-2027'!AR708 -> 22712982 | F8: ='2023-2027'!AR713 -> 111422.12 | G8: ='2023-2027'!AR711 -> 2028601.5 | H8: ='2023-2027'!AR712 -> 449302.2 | I8: =SUM(B8:H8) -> 94985925 | J8: =I8-'2023-2027'!AR684 -> 0
A9: 2025 | B9: ='2023-2027'!BG706 -> 30421901 | C9: ='2023-2027'!BG707 -> 37894378 | D9: ='2023-2027'!BG714 -> 3749679.9 | E9: ='2023-2027'!BG708 -> 22712982 | F9: ='2023-2027'!BG713 -> 110271.92 | G9: ='2023-2027'!BG711 -> 1471923.2 | H9: ='2023-2027'!BG712 -> 429750.86 | I9: =SUM(B9:H9) -> 96790887 | J9: =I9-'2023-2027'!BG684 -> 0
A10: 2026 | B10: ='2023-2027'!BV706 -> 29717717 | C10: ='2023-2027'!BV707 -> 37660146 | D10: ='2023-2027'!BV714 -> 3437148.8 | E10: ='2023-2027'!BV708 -> 22712982 | F10: ='2023-2027'!BV713 -> 110271.92 | G10: ='2023-2027'!BV711 -> 1349726.7 | H10: ='2023-2027'!BV712 -> 426396.12 | I10: =SUM(B10:H10) -> 95414388 | J10: =I10-'2023-2027'!BV684 -> 0
A11: 2027 | B11: ='2023-2027'!CK706 -> 28332326 | C11: ='2023-2027'!CK707 -> 37459486 | D11: ='2023-2027'!CK714 -> 3341784.9 | E11: ='2023-2027'!CK708 -> 22712982 | F11: ='2023-2027'!CK713 -> 110271.92 | G11: ='2023-2027'!CK711 -> 1319244 | H11: ='2023-2027'!CK712 -> 426396.12 | I11: =SUM(B11:H11) -> 93702491 | J11: =I11-'2023-2027'!CK684 -> 0
A14: Расчет налога на имущество
A15: за период с 2022 года по 2027 год
A16: ГУП НАО "Нарьян-Марская электростанция
B18: ПРОИЗВОДСТВО | C18: ПЕРЕДАЧА | D18: Автотранспортный цех | E18: СБЫТ | F18: ТЕПЛОЭНЕРГИЯ | G18: ОБЩЕПРОИЗВ. РАСХОДЫ | H18: ОБЩЕХОЗ. РАСХОДЫ | I18: ИТОГО
A19: 2022 | B19: ='2023-2027'!AA706 -> 7089669.4 | C19: ='2023-2027'!AA707 -> 9389539.1 | D19: ='2023-2027'!AA714 -> 25222.522 | E19: ='2023-2027'!AA708 -> 0 | F19: ='2023-2027'!AA713 -> 18378.115 | G19: ='2023-2027'!AA711 -> 515073.41 | H19: ='2023-2027'!AA712 -> 125482.63 | I19: =SUM(B19:H19) -> 17163365 | J19: =I19-'2023-2027'!AA684 -> 0
A20: 2023 | B20: ='2023-2027'!AP706 -> 6611589.6 | C20: ='2023-2027'!AP707 -> 9845398.4 | D20: ='2023-2027'!AP714 -> 23347.552 | E20: ='2023-2027'!AP708 -> 0 | F20: ='2023-2027'!AP713 -> 16857.844 | G20: ='2023-2027'!AP711 -> 499055.98 | H20: ='2023-2027'!AP712 -> 116356.91 | I20: =SUM(B20:H20) -> 17112606 | J20: =I20-'2023-2027'!AP684 -> 0
A21: 2024 | B21: ='2023-2027'!BE706 -> 6134646.7 | C21: ='2023-2027'!BE707 -> 9972990.5 | D21: ='2023-2027'!BE714 -> 21472.582 | E21: ='2023-2027'!BE708 -> 0 | F21: ='2023-2027'!BE713 -> 15356.837 | G21: ='2023-2027'!BE711 -> 483654.4 | H21: ='2023-2027'!BE712 -> 107231.19 | I21: =SUM(B21:H21) -> 16735352 | J21: =I21-'2023-2027'!BE684 -> 0
A22: 2025 | B22: ='2023-2027'!BT706 -> 5650309.5 | C22: ='2023-2027'!BT707 -> 10909110 | D22: ='2023-2027'!BT714 -> 19715.57 | E22: ='2023-2027'!BT708 -> 2108.0326 | F22: ='2023-2027'!BT713 -> 13887.231 | G22: ='2023-2027'!BT711 -> 478682.87 | H22: ='2023-2027'!BT712 -> 98125.341 | I22: =SUM(B22:H22) -> 17171939 | J22: =I22-'2023-2027'!BT684 -> 0
A23: 2026 | B23: ='2023-2027'!CI706 -> 5168780.1 | C23: ='2023-2027'!CI707 -> 10192649 | D23: ='2023-2027'!CI714 -> 17722.641 | E23: ='2023-2027'!CI708 -> 1949.9301 | F23: ='2023-2027'!CI713 -> 12425.416 | G23: ='2023-2027'!CI711 -> 462705.69 | H23: ='2023-2027'!CI712 -> 88979.749 | I23: =SUM(B23:H23) -> 15945212 | J23: =I23-'2023-2027'!CI684 -> 0
A24: 2027 | B24: ='2023-2027'!CX706 -> 4688165.4 | C24: ='2023-2027'!CX707 -> 9307709.5 | D24: ='2023-2027'!CX714 -> 15847.671 | E24: ='2023-2027'!CX708 -> 1791.8277 | F24: ='2023-2027'!CX713 -> 10963.601 | G24: ='2023-2027'!CX711 -> 447013.87 | H24: ='2023-2027'!CX712 -> 79854.029 | I24: =SUM(B24:H24) -> 14551346 | J24: =I24-'2023-2027'!CX684 -> 0

Sheet 2023-2027
A1: Основное средство | B1: Инвентарный номер | C1: вид деят | E1: Дата принятия к учету | F1: Подразделение | G1: Основное средство.СПИ (Основные средства) | H1: На 01.01.22 | K1: Облаг | L1: ежемес аморт | N1: годовая амортиз 2022 | AA1: 0.022 | AC1: годовая амортиз 2023 | AP1: 0.022 | AR1: годовая амортиз 2024 | BE1: 0.022 | BG1: годовая амортиз 2025 | BT1: 0.022 | BV1: годовая амортиз 2026 | CI1: 0.022 | CK1: годовая амортиз 2027 | CX1: 0.022
H2: Стоимость | I2: Амортизация (износ) | J2: Остаточная стоимость | M2: изменения в 2022 (аморт) | O2: 44593 | P2: 44621 | Q2: 44652 | R2: 44682 | S2: 44713 | T2: 44743 | U2: 44774 | V2: 44805 | W2: 44835 | X2: 44866 | Y2: 44896 | Z2: 44927 | AA2: налог 2022 | AB2: изменения в 2023 году (аморт) | AD2: 44958 | AE2: 44986 | AF2: 45017 | AG2: 45047 | AH2: 45078 | AI2: 45108 | AJ2: 45139 | AK2: 45170 | AL2: 45200 | AM2: 45231 | AN2: 45261 | AO2: 45292 | AP2: налог 2023 | AQ2: ежемес аморт | AS2: 45323 | AT2: 45352 | AU2: 45383 | AV2: 45413 | AW2: 45444 | AX2: 45474 | AY2: 45505 | AZ2: 45536 | BA2: 45566 | BB2: 45597 | BC2: 45627 | BD2: 45658 | BE2: налог 2024 | BF2: ежемес аморт | BH2: 45689 | BI2: 45717 | BJ2: 45748 | BK2: 45778 | BL2: 45809 | BM2: 45839 | BN2: 45870 | BO2: 45901 | BP2: 45931 | BQ2: 45962 | BR2: 45992 | BS2: 46023 | BT2: налог 2025 | BU2: ежемес аморт | BW2: 46054 | BX2: 46082 | BY2: 46113 | BZ2: 46143 | CA2: 46174 | CB2: 46204 | CC2: 46235 | CD2: 46266 | CE2: 46296 | CF2: 46327 | CG2: 46357 | CH2: 46388 | CI2: налог 2026 | CJ2: ежемес аморт | CL2: 46419 | CM2: 46447 | CN2: 46478 | CO2: 46508 | CP2: 46539 | CQ2: 46569 | CR2: 46600 | CS2: 46631 | CT2: 46661 | CU2: 46692 | CV2: 46722 | CW2: 46753 | CX2: налог 2027
A3: производство
